BEGIN:VCALENDAR
VERSION:2.0
PRODID:-//ARTNOIR//NONSGML Events//EN
CALSCALE:GREGORIAN
X-ORIGINAL-URL:https://artnoir.ch/events/event/
X-WR-CALDESC:ARTNOIR - Events
BEGIN:VEVENT
UID:20260403T0606Z-1775196403.4309-EO-259493-1@10.0.9.48
STATUS:CONFIRMED
DTSTAMP:20260423T232543Z
CREATED:20260130T144550Z
LAST-MODIFIED:20260402T063012Z
DTSTART;TZID=Europe/Zurich:20260919T200000
DTEND;TZID=Europe/Zurich:20260919T235900
SUMMARY: Isla Ola
DESCRIPTION: Isla Ola\n+ Dear Deer\n+ Electric Encounter\n+ DJs: Kayce & Ir
 mingott\nEs erwarten euch Live Konzerte\, DJs und mehr. Dies in unserer gew
 ohnten Umgebung\, dem Sedel Luzern. Save the Date! Wir freuen uns bereits j
 etzt.\nIsla Ola ist ein deutsches Duo\, das sich musikalisch im Wave-Bereic
 h bewegt. Ihr Sound zeichnet sich durch verzerrte Gitarrensounds\, eingängi
 ge Rhythmen und die tiefklagende Stimme der Sängerin aus. ... [Read more...
 ]
X-ALT-DESC;FMTTYPE=text/html: <p><a href="https://www.instagram.com/isla.ol
 a/" rel="noopener" target="_blank">Isla Ola</a><br />+ <a href="https://www
 .deardeer.fr/" rel="noopener" target="_blank">Dear Deer</a><br />+ <a href=
 "https://www.electric-encounter.ch/">Electric Encounter</a><br />+ DJs: Kay
 ce & Irmingott</p><p>Es erwarten euch Live Konzerte\, DJs und mehr. Dies in
  unserer gewohnten Umgebung\, dem Sedel Luzern. Save the Date! Wir freuen u
 ns bereits jetzt.</p><p><strong>Isla Ola</strong> ist ein deutsches Duo\, d
 as sich musikalisch im Wave-Bereich bewegt. Ihr Sound zeichnet sich durch v
 erzerrte Gitarrensounds\, eingängige Rhythmen und die tiefklagende Stimme d
 er Sängerin aus. Dabei haben Ihre Stücke einen melancholischen und einsauge
 nden Charme\, der zum dahin träumen verleitet. Vor allem für ihre Live Auft
 ritte ist die Band bekannt\, da sie jedes Mal im blauen Nebel zu verschwind
 en drohen.</p><p><strong>Dear Deer</strong> - This duo from the capital of 
 french Flanders forms a couple both on stage and in real life since 2015. I
 nfluenced by The Kills\, New Order\, or even the B52’s\, their sound is at 
 the crossroads of pop-rock\, electro and new-wave. Glamorous\, their glitte
 ry aesthetic sustains a disco and nervous rhythm\, coated with fuzzy bass a
 nd guitars. Tailor-made for live circuits in a small club or at the borders
  of Western Europe\, they share their furious desire to dance\, it smells l
 ike holidays in Berlin and the 80s dancefloor!</p><p>Das Projekt <strong>El
 ectric Encounter</strong> entstand 2006 aus düsteren Ambient-Elektro-Beats 
 und fragmentarischen Klangstrukturen. Anfangs standen offene Soundflächen o
 hne feste Form\, jenseits klassischer Songstrukturen\, die nach einer Stimm
 e verlangten. Ohne vorgegebene Melodien wird diese Stimme zum erzählenden I
 nstrument und führt durch Klangräume\, in denen Atmosphäre\, Textur und Bed
 eutung im Vordergrund stehen.</p><p>Metaphorisch gesprochen heisst das: Bet
 onböden giessen\, quietschende Treppen umarmen und mit derselben Sorgfalt a
 n Programmierung und an Wortspielen arbeiten. Daraus entsteht eine dichte V
 erbindung aus dunklen Ambient-Elektro-Klangfragmenten\, Spoken Word und pun
 ktuell eingesetztem Gesang.</p><p>Im Kellergewölbe wird das DJ Team von ExA
 nima die Tanzfläche zum beben bringen.</p><p>2.Floor - 22.00 Türöffnung<br 
 />Ex Anima DJs: Dustform\, NYX\, DML & Oskusal</p>
CATEGORIES:Electro,Wave
LOCATION:Sedel
GEO:47.066014;8.299130
ORGANIZER;CN="JHG Shark":MAILTO:webmaster@jhgshark.ch
URL;VALUE=URI:https://artnoir.ch/events/event/isla-ola-2026-09-19/
ATTACH;FMTTYPE=image/jpeg:https://artnoir.ch/wp-content/uploads/2026/01/isla-ola-2026-09-19.jpg
END:VEVENT
BEGIN:VTIMEZONE
TZID:Europe/Zurich
BEGIN:DAYLIGHT
TZOFFSETFROM:+0100
TZOFFSETTO:+0200
DTSTART:20260329T010000
TZNAME:CEST
END:DAYLIGHT
END:VTIMEZONE
END:VCALENDAR
