BEGIN:VCALENDAR
VERSION:2.0
PRODID:-//ARTNOIR//NONSGML Events//EN
CALSCALE:GREGORIAN
X-ORIGINAL-URL:https://artnoir.ch/events/event/
X-WR-CALDESC:ARTNOIR - Events
BEGIN:VEVENT
UID:20260403T0605Z-1775196345.7134-EO-262203-1@10.0.9.48
STATUS:CONFIRMED
DTSTAMP:20260423T232550Z
CREATED:20260324T182835Z
LAST-MODIFIED:20260403T111359Z
DTSTART;TZID=Europe/Zurich:20260416T180000
DTEND;TZID=Europe/Zurich:20260416T224500
SUMMARY: Infected Rain x Butcher Babies
DESCRIPTION: Infected Rain x Butcher Babies\n+ Black Spikes\nInfected Rain 
 kehren 2026 nach Europa zurück – mit ihrer bislang intensivsten und unberec
 henbarsten Tour: The Mutation Phase Tour. Bekannt für ihre explosive Live-E
 nergie und emotionale Tiefe\, befindet sich die Band nun in einer seltenen 
 Übergangsphase zwischen zwei Alben – und fängt Infected Rain mitten in der 
 Mutation ein. Fans erwartet ein rohes\, ungefiltertes Erlebnis\, das sich n
 icht wiederholen wird.  ... [Read more...]
X-ALT-DESC;FMTTYPE=text/html: <p><a href="https://www.infectedrain.com" rel
 ="noopener" target="_blank">Infected Rain</a> x <a href="https://butcherbab
 ies.com" rel="noopener" target="_blank">Butcher Babies</a><br />+ <a href="
 https://www.instagram.com/blackspikes_band/?hl=de" rel="noopener" target="_
 blank">Black Spikes</a></p><p>Infected Rain kehren 2026 nach Europa zurück 
 – mit ihrer bislang intensivsten und unberechenbarsten Tour: The Mutation P
 hase Tour. Bekannt für ihre explosive Live-Energie und emotionale Tiefe\, b
 efindet sich die Band nun in einer seltenen Übergangsphase zwischen zwei Al
 ben – und fängt Infected Rain mitten in der Mutation ein. Fans erwartet ein
  rohes\, ungefiltertes Erlebnis\, das sich nicht wiederholen wird. Freut eu
 ch auf Songs aus der gesamten Diskografie – und auf erste Andeutungen neuen
  Materials\, das an die Oberfläche tritt.</p><p>Als Co-Headliner mit dabei:
  Butcher Babies\, das Metal-Powerhouse aus Las Vegas\, dessen Mischung aus 
 Thrash\, Groove und melodischer Wucht Bühnen weltweit in Flammen gesetzt ha
 t. Bekannt für ihren aggressiven Stil und ihre energiegeladenen Auftritte\,
  überschreiten Butcher Babies weiterhin Grenzen\, entwickeln sich mit jeder
  Veröffentlichung weiter und beweisen\, warum sie zu den dynamischsten Kräf
 ten des modernen Metal gehören.</p><p>Support kommt aus Litauen von Black S
 pikes\, die ihren modernen\, schweren Metal-Sound und eine beeindruckende B
 ühnenpräsenz mitbringen. Mit ihrem frisch veröffentlichten EP NIL läutet di
 e Band das nächste Kapitel ihres Aufstiegs ein – und passt perfekt zu diese
 m intensiven Line-up.</p><p>Das ist nicht einfach nur eine weitere Tour – d
 as ist ein Ritual in Bewegung.  Infected Rain. Butcher Babies. Black Spikes
 . 2026.  Stärker als je zuvor.  Jenseits der Form.  Erlebe die Mutation.</p
 >
CATEGORIES:Metal
LOCATION:Dynamo
GEO:47.383312;8.539341
ORGANIZER;CN="Nicole Wild":MAILTO:nic.wild@yahoo.com
URL;VALUE=URI:https://artnoir.ch/events/event/infected-rain-x-butcher-babie
 s-2026-04-16/
ATTACH;FMTTYPE=image/jpeg:https://artnoir.ch/wp-content/uploads/2026/03/infected-rain-x-butcher-babies-2026-04-16.jpg
END:VEVENT
BEGIN:VTIMEZONE
TZID:Europe/Zurich
BEGIN:DAYLIGHT
TZOFFSETFROM:+0100
TZOFFSETTO:+0200
DTSTART:20260329T010000
TZNAME:CEST
END:DAYLIGHT
END:VTIMEZONE
END:VCALENDAR
