BEGIN:VCALENDAR
VERSION:2.0
PRODID:-//ARTNOIR//NONSGML Events//EN
CALSCALE:GREGORIAN
X-ORIGINAL-URL:https://artnoir.ch/events/event/
X-WR-CALDESC:ARTNOIR - Events
BEGIN:VEVENT
UID:20251013T1752Z-1760377963.3808-EO-254258-1@10.0.9.22
STATUS:CONFIRMED
DTSTAMP:20260423T234226Z
CREATED:20251012T100923Z
LAST-MODIFIED:20251012T100923Z
DTSTART;TZID=Europe/Zurich:20261008T180000
DTEND;TZID=Europe/Zurich:20261008T235900
SUMMARY: I Prevail
DESCRIPTION: I Prevail\n+ Polaris\n+ Amira Elfeky\nI Prevail kommen mit ihr
 er „The Violent Nature Tour“ im Oktober 2026 für eine Show in Zürich zurück
  in die Schweiz. Seit ihrer Gründung 2013 in Michigan haben die Metalcore/P
 ost-Hardcore-Band I Prevail grossen kritischen wie auch kommerziellen Erfol
 g erzielt. Ihr Debütalbum „Lifelines“ von 2016 erreichte in den USA und Kan
 ada Goldstatus\, während „TRAUMA“ von 2019 denselben Erfolg in Kanada wiede
 rholte. ... [Read more...]
X-ALT-DESC;FMTTYPE=text/html: <p><a href="https://iprevailband.com" target=
 "_blank" rel="noopener">I Prevail</a><br />+ <a href="https://www.polarisau
 s.com" target="_blank" rel="noopener">Polaris</a><br />+ <a href="https://w
 ww.amiraelfeky.com" target="_blank" rel="noopener">Amira Elfeky</a></p><p>I
  Prevail kommen mit ihrer „The Violent Nature Tour“ im Oktober 2026 für ein
 e Show in Zürich zurück in die Schweiz. Seit ihrer Gründung 2013 in Michiga
 n haben die Metalcore/Post-Hardcore-Band I Prevail grossen kritischen wie a
 uch kommerziellen Erfolg erzielt. Ihr Debütalbum „Lifelines“ von 2016 errei
 chte in den USA und Kanada Goldstatus\, während „TRAUMA“ von 2019 denselben
  Erfolg in Kanada wiederholte. Letzteres wurde bei den Grammys desselben Ja
 hres als Best Rock Album nominiert\, wobei die Single „Bow Down“ zudem als 
 Best Metal Performance ins Rennen ging. Mit „TRUE POWER“ (2022) setzte die 
 Band ihren Weg konsequent fort und weigerte sich\, den Erwartungen des Genr
 es nachzugeben.</p><p>Mit ihrem vierten Album „Violent Nature“ geht die Ban
 d nun einen Schritt weiter. Es wurde in zwei Sessions in den Blackbird Stud
 ios in Nashville aufgenommen und von der Band selbst produziert – unter der
  Leitung von Bassist und Keyboarder Jon Eberhard. Ausserdem markiert es den
  ersten Auftritt von Sänger Eric Vanlerberghe als einzigem Vocalisten der B
 and\, der sowohl Clean- als auch Unclean-Vocals übernimmt. Das Ergebnis ist
  kompromisslos hart. Die erste Single des Albums\, ebenfalls „Violent Natur
 e“ betitelt\, ist womöglich der brutalste\, extremste und wildeste Song\, d
 en die Band je veröffentlicht hat.</p><p>Doch nicht alles ist gleichermasse
 n brutal oder intensiv. Obwohl die Single „Rain“ alles andere als sanft ist
 \, wirkt ihr kraftvoller\, hymnischer Refrain fast wie ein Wiegenlied im Ve
 rgleich – trotz der Wut und Qual\, die sich in den Texten widerspiegeln. Ge
 rade dadurch verkörpert der Song die beiden sehr unterschiedlichen Seiten d
 es Albums und die gegensätzlichen Kräfte\, die sich durch die Tracks ziehen
 .</p><p>Willkommen also in der neuen Ära von I Prevail. Dies ist nicht nur 
 die bislang beste Version der Band\, sondern ein Werk\, das vor Entschlosse
 nheit\, Leidenschaft und Energie nur so strotzt.</p>
CATEGORIES:Metal
LOCATION:Halle 622
GEO:47.413112;8.541888
ORGANIZER;CN="Nicole Wild":MAILTO:nic.wild@yahoo.com
URL;VALUE=URI:https://artnoir.ch/events/event/i-prevail-2026-10-08/
ATTACH;FMTTYPE=image/jpeg:https://artnoir.ch/wp-content/uploads/2025/10/i-prevail-2026-10-08.jpg
END:VEVENT
BEGIN:VTIMEZONE
TZID:Europe/Zurich
BEGIN:DAYLIGHT
TZOFFSETFROM:+0100
TZOFFSETTO:+0200
DTSTART:20260329T010000
TZNAME:CEST
END:DAYLIGHT
END:VTIMEZONE
END:VCALENDAR
