BEGIN:VCALENDAR
VERSION:2.0
PRODID:-//ARTNOIR//NONSGML Events//EN
CALSCALE:GREGORIAN
X-ORIGINAL-URL:https://artnoir.ch/events/event/
X-WR-CALDESC:ARTNOIR - Events
BEGIN:VEVENT
UID:20260214T0118Z-1771031884.7008-EO-260257-1@10.0.9.48
STATUS:CONFIRMED
DTSTAMP:20260423T233605Z
CREATED:20260212T195400Z
LAST-MODIFIED:20260212T200200Z
DTSTART;TZID=Europe/Zurich:20260813T190000
DTEND;TZID=Europe/Zurich:20260813T235900
SUMMARY: Hot Water Music
DESCRIPTION: Hot Water Music\n+ Good Riddance\n+ A Wilhelm Scream\nPunk Roc
 k im Dynamo\nNach dem gefeierten 30-jährigen Jubiläum und der restlos ausve
 rkauften Show 2025 kehrt die Band um Chuck Ragan am Donnerstag\, 13. August
  2026 für ein exklusives Schweizer Konzert ins Dynamo Zürich zurück.\nÜber 
 den Einfluss von Hot Water Music auf die Post Hardcore- und Punk Rock-Welt 
 muss definitiv nicht gestritten werden. ... [Read more...]
X-ALT-DESC;FMTTYPE=text/html: <p><a href="https://www.hotwatermusic.com/" r
 el="noopener" target="_blank">Hot Water Music</a><br />+ <a href="https://g
 oodriddancesc.com/" rel="noopener" target="_blank">Good Riddance</a><br />+
  <a href="https://www.awilhelmscream.com/" rel="noopener" target="_blank">A
  Wilhelm Scream</a></p><p><strong>Punk Rock im Dynamo</strong></p><p>Nach d
 em gefeierten 30-jährigen Jubiläum und der restlos ausverkauften Show 2025 
 kehrt die Band um Chuck Ragan am Donnerstag\, 13. August 2026 für ein exklu
 sives Schweizer Konzert ins Dynamo Zürich zurück.</p><p>Über den Einfluss v
 on <strong>Hot Water Music</strong> auf die Post Hardcore- und Punk Rock-We
 lt muss definitiv nicht gestritten werden. Vom ersten musikalischen Schritt
  bis zu den kraftvollen Songs des jüngsten Studioalbums VOWS hat die Band i
 hre Fans nie im Stich gelassen. Live stehen Hot Water Music für ehrliche\, 
 intensive Shows ohne grosse Gesten\, dafür mit umso mehr Druck.</p><p>Suppo
 rtet wird der Abend von zwei weiteren festen Grössen der Szene: <strong>Goo
 d Riddance</strong> bringen wütende\, politische Hardcore Punk-Energie nach
  Zürich\, während <strong>A Wilhelm Scream</strong> mit messerscharfem\, te
 chnisch versiertem Punk Rock nachlegen. Zusammen liefern sie den perfekten 
 Nährboden für einen Abend\, der keine Verschnaufpause kennt.</p><p>Kommt mi
 t auf eine Reise durch über 30 Jahre Punk-Geschichte und lasst euch von der
  unvergleichlichen Live-Energie dieser Bands mitreissen.</p><p>Jetzt Ticket
 s via ticketcorner.ch sichern.</p><p><span style="color: #c86079\;">Ein <st
 rong>ARTNOIR</strong> Partner-Event</span></p>
CATEGORIES:Partner-Event
LOCATION:Dynamo
GEO:47.383312;8.539341
ORGANIZER;CN="JHG Shark":MAILTO:webmaster@jhgshark.ch
URL;VALUE=URI:https://artnoir.ch/events/event/hot-water-music-2026-08-13/
ATTACH;FMTTYPE=image/jpeg:https://artnoir.ch/wp-content/uploads/2026/02/2026-08-13-Hot-Water-Music.jpg
END:VEVENT
BEGIN:VTIMEZONE
TZID:Europe/Zurich
BEGIN:DAYLIGHT
TZOFFSETFROM:+0100
TZOFFSETTO:+0200
DTSTART:20260329T010000
TZNAME:CEST
END:DAYLIGHT
END:VTIMEZONE
END:VCALENDAR
