BEGIN:VCALENDAR
VERSION:2.0
PRODID:-//ARTNOIR//NONSGML Events//EN
CALSCALE:GREGORIAN
X-ORIGINAL-URL:https://artnoir.ch/events/event/
X-WR-CALDESC:ARTNOIR - Events
BEGIN:VEVENT
UID:20260403T0730Z-1775201448.0522-EO-262307-1@10.0.9.48
STATUS:CONFIRMED
DTSTAMP:20260424T010552Z
CREATED:20260327T135957Z
LAST-MODIFIED:20260327T140138Z
DTSTART;TZID=Europe/Zurich:20260603T193000
DTEND;TZID=Europe/Zurich:20260603T230000
SUMMARY: High Vis
DESCRIPTION: High Vis\nSeit 2018 haben High Vis ihren progressiven Hardcore
 -Sound mit Einflüssen aus Post-Punk\, Britpop\, Neo-Psychedelia und sogar M
 adchester-Groove verfeinert und damit eine Schnittstelle zwischen eingängig
 en Hooks und Wucht\, Melodien und Moshpits geschaffen.\nDas neuste Album «G
 uided Tour» deckt das gesamte Spektrum zeitgenössischer Gitarrenmusik ab\, 
 geprägt von Erfahrung\, Kameradschaft und gesellschaftlichen Frustrationen.
  Von lässigem Streetpunk über schrägen Indie-Sound bis hin zu Heavy Alterna
 tive und Shoegaze-Spoken-Word – die Chemie der Band verleiht jedem Stil ihr
 e einzigartige Intensität. ... [Read more...]
X-ALT-DESC;FMTTYPE=text/html: <p><a href="https://www.instagram.com/highvis
 /" rel="noopener" target="_blank">High Vis</a></p><p>Seit 2018 haben High V
 is ihren progressiven Hardcore-Sound mit Einflüssen aus Post-Punk\, Britpop
 \, Neo-Psychedelia und sogar Madchester-Groove verfeinert und damit eine Sc
 hnittstelle zwischen eingängigen Hooks und Wucht\, Melodien und Moshpits ge
 schaffen.</p><p>Das neuste Album «Guided Tour» deckt das gesamte Spektrum z
 eitgenössischer Gitarrenmusik ab\, geprägt von Erfahrung\, Kameradschaft un
 d gesellschaftlichen Frustrationen. Von lässigem Streetpunk über schrägen I
 ndie-Sound bis hin zu Heavy Alternative und Shoegaze-Spoken-Word – die Chem
 ie der Band verleiht jedem Stil ihre einzigartige Intensität.</p>
CATEGORIES:Punk
LOCATION:KIFF
GEO:47.398757;8.063867
ORGANIZER;CN="JHG Shark":MAILTO:webmaster@jhgshark.ch
URL;VALUE=URI:https://artnoir.ch/events/event/high-vis-2026-06-03/
ATTACH;FMTTYPE=image/jpeg:https://artnoir.ch/wp-content/uploads/2026/03/high-vis-2026-06-03.jpg
END:VEVENT
BEGIN:VTIMEZONE
TZID:Europe/Zurich
BEGIN:DAYLIGHT
TZOFFSETFROM:+0100
TZOFFSETTO:+0200
DTSTART:20260329T010000
TZNAME:CEST
END:DAYLIGHT
END:VTIMEZONE
END:VCALENDAR
