BEGIN:VCALENDAR
VERSION:2.0
PRODID:-//ARTNOIR//NONSGML Events//EN
CALSCALE:GREGORIAN
X-ORIGINAL-URL:https://artnoir.ch/events/event/
X-WR-CALDESC:ARTNOIR - Events
BEGIN:VEVENT
UID:20260403T0604Z-1775196259.0018-EO-262192-1@10.0.9.48
STATUS:CONFIRMED
DTSTAMP:20260423T142611Z
CREATED:20260324T172952Z
LAST-MODIFIED:20260417T115256Z
DTSTART;TZID=Europe/Zurich:20260424T190000
DTEND;TZID=Europe/Zurich:20260424T235900
SUMMARY: Hellvetia – Das grosse Finale
DESCRIPTION: Hellvetia – Das grosse Finale\nUrne\n+ A Small District\n+ De 
 L’Abîme Naît l’Aube\n+ Royal Desolation \nHELLVETIA kommt nach Aarau.\n3 au
 sgewählte Bands.\n1 Bühne.\n1 Chance\, bei Rock The Lakes 2026 aufzutreten.
 \nHEADLINER\n21:45 – 22:45 Uhr URNE (UK)\nURNE gehört zu den spannendsten n
 euen Metal-Bands aus Großbritannien — intensiv\, ... [Read more...]
X-ALT-DESC;FMTTYPE=text/html: <p>Hellvetia - Das grosse Finale<br /><a href
 ="https://urneofficial.com" rel="noopener" target="_blank">Urne</a><br />+ 
 <a href="https://www.instagram.com/asmalldistrict/" rel="noopener" target="
 _blank">A Small District</a><br />+ <a href="https://www.instagram.com/dana
 .postmetal/" rel="noopener" target="_blank">De L'Abîme Naît l’Aube</a><br /
 >+ <a href="https://www.royaldesolation.net" rel="noopener" target="_blank"
 >Royal Desolation</a> </p><p>HELLVETIA kommt nach Aarau.</p><p>3 ausgewählt
 e Bands.<br />1 Bühne.<br />1 Chance\, bei Rock The Lakes 2026 aufzutreten.
 </p><p>HEADLINER<br />21:45 - 22:45 Uhr URNE (UK)<br />URNE gehört zu den s
 pannendsten neuen Metal-Bands aus Großbritannien — intensiv\, modern und ge
 macht für die Bühne.</p><p>Finalisten:<br />19:30 - 19:55 Uhr Royal Desolat
 ion<br />20:15 - 20:40 Uhr De L'Abîme Naît l’Aube<br />21:00 - 21:15 Uhr A 
 Small District </p><p>Jeder Auftritt zählt.<br />Jede Performance kann alle
 s verändern.</p>
CATEGORIES:Metal
LOCATION:KIFF
GEO:47.398757;8.063867
ORGANIZER;CN="Nicole Wild":MAILTO:nic.wild@yahoo.com
URL;VALUE=URI:https://artnoir.ch/events/event/hellvetia-das-grosse-finale-2
 026-04-24/
ATTACH;FMTTYPE=image/jpeg:https://artnoir.ch/wp-content/uploads/2026/03/hellvetia-das-grosse-finale-2026-04-24.jpg
END:VEVENT
BEGIN:VTIMEZONE
TZID:Europe/Zurich
BEGIN:DAYLIGHT
TZOFFSETFROM:+0100
TZOFFSETTO:+0200
DTSTART:20260329T010000
TZNAME:CEST
END:DAYLIGHT
END:VTIMEZONE
END:VCALENDAR
