BEGIN:VCALENDAR
VERSION:2.0
PRODID:-//ARTNOIR//NONSGML Events//EN
CALSCALE:GREGORIAN
X-ORIGINAL-URL:https://artnoir.ch/events/event/
X-WR-CALDESC:ARTNOIR - Events
BEGIN:VEVENT
UID:20260131T0434Z-1769834068.1864-EO-259082-1@10.0.9.48
STATUS:CONFIRMED
DTSTAMP:20260423T221244Z
CREATED:20260124T232452Z
LAST-MODIFIED:20260124T232452Z
DTSTART;TZID=Europe/Zurich:20260531T120000
DTEND;TZID=Europe/Zurich:20260531T150000
SUMMARY: Heavysaurus
DESCRIPTION: Heavysaurus\nDino-Metal für die ganze Familie!\nVom Kinderzimm
 er bis zur Festivalbühne\, von kleinen Clubs bis zu grossen Hallen – Heavys
 aurus spielen echten Metal für Gross und Klein. Was als ungewöhnliche Idee 
 begann\, hat sich längst zu einem kulturellen Phänomen entwickelt. Die Musi
 k von Heavysaurus ist laut\, lebendig und liebevoll gemacht\, mit Gitarrenr
 iffs\, Double-Bass-Drums\, Melodien zum Mitsingen und Texten\, die kleine M
 etalheads begeistern. Während die Kinder so in die Welt der Rockmusik einta
 uchen\, ... [Read more...]
X-ALT-DESC;FMTTYPE=text/html: <p><a href="https://www.heavysaurus.de/" rel=
 "noopener" target="_blank">Heavysaurus</a></p><p><strong>Dino-Metal für die
  ganze Familie!</strong></p><p>Vom Kinderzimmer bis zur Festivalbühne\, von
  kleinen Clubs bis zu grossen Hallen – Heavysaurus spielen echten Metal für
  Gross und Klein. Was als ungewöhnliche Idee begann\, hat sich längst zu ei
 nem kulturellen Phänomen entwickelt. Die Musik von Heavysaurus ist laut\, l
 ebendig und liebevoll gemacht\, mit Gitarrenriffs\, Double-Bass-Drums\, Mel
 odien zum Mitsingen und Texten\, die kleine Metalheads begeistern. Während 
 die Kinder so in die Welt der Rockmusik eintauchen\, zelebrieren viele Elte
 rn ihr musikalisches Lebensgefühl gleich mit oder entdecken es erneut.</p><
 p>Mit ihrem kommenden Album «METAL» und einem neuen Liveprogramm tourt die 
 Band durch Deutschland\, Österreich und die Schweiz. Im Januar 2026 erschei
 nt das Album mit 15 brandneuen Songs voller hymnischer Refrains\, treibende
 r Riffs\, wilder Soli und viel Mitmachspass.</p><p>Die Konzerte von Heavysa
 urus sind spektakulär: Licht\, Nebel\, Funkenregen\, Luftballons und Konfet
 ti\, mit echter Livemusik von professionellen Musikern in Dino-Kostümen und
  einem Sound\, der sowohl für Kinderohren geeignet als auch für Rockfans ge
 macht ist.</p><p>Heavysaurus zeigen\, wie Musik Generationen verbindet. Und
  wenn beim ersten Song die Hände der Kinder in die Luft schiessen\, ist kla
 r: Metal lebt. Und zwar für alle.</p><p>Für die Eltern: Das Konzerterlebnis
  ist auf Kinder von 3 bis 11 Jahren zugeschnitten\, unterhält aber auch ihr
 e Eltern\, Grosseltern und Geschwister. Die Shows finden nachmittags statt\
 , in kindgerechter Lautstärke und\, wo möglich\, mit einem eigenen Kinderbe
 reich ganz vorne mit bester Sicht für die Kleinen. Und keine Sorge: Die Din
 os beissen nicht.</p><p>Meet & Greets und vieles mehr exklusiv auf <a href=
 "https://heavysaurus.store/" rel="noopener" target="_blank">heavysaurus.sto
 re</a></p><p><span style="color: #c86079\;">Ein <strong>ARTNOIR</strong> Pa
 rtner-Event</span></p>
CATEGORIES:Anderes,Metal,Partner-Event
LOCATION:Kreuzbleiche
GEO:47.419883;9.356325
ORGANIZER;CN="JHG Shark":MAILTO:webmaster@jhgshark.ch
URL;VALUE=URI:https://artnoir.ch/events/event/heavysaurus-2026-05-31/
ATTACH;FMTTYPE=image/jpeg:https://artnoir.ch/wp-content/uploads/2026/01/2026-HeavySaurus-HS26_ig1080x1350tourCH-scaled.jpg
END:VEVENT
BEGIN:VTIMEZONE
TZID:Europe/Zurich
BEGIN:DAYLIGHT
TZOFFSETFROM:+0100
TZOFFSETTO:+0200
DTSTART:20260329T010000
TZNAME:CEST
END:DAYLIGHT
END:VTIMEZONE
END:VCALENDAR
