BEGIN:VCALENDAR
VERSION:2.0
PRODID:-//ARTNOIR//NONSGML Events//EN
CALSCALE:GREGORIAN
X-ORIGINAL-URL:https://artnoir.ch/events/event/
X-WR-CALDESC:ARTNOIR - Events
BEGIN:VEVENT
UID:20260130T1849Z-1769798975.3398-EO-259081-1@10.0.9.48
STATUS:CONFIRMED
DTSTAMP:20260423T221208Z
CREATED:20260124T230709Z
LAST-MODIFIED:20260213T164436Z
DTSTART;TZID=Europe/Zurich:20260530T150000
DTEND;TZID=Europe/Zurich:20260530T170000
SUMMARY: Heavysaurus
DESCRIPTION: Heavysaurus\nDu métal dinosaure pour toute la famille ! Heavys
 aurus\, composé de 4 dinosaures et 1 dragon\, propose du métal pour les adu
 ltes et les enfants. Le succès du groupe\, qui sortira un tout nouvel album
  en janvier 2026\, prouve que le plaisir du headbang n’a pas d’âge. \nLa mu
 sique est forte (mais pas trop)\, entraînante et composée avec amour\, avec
  des riffs de guitare\, des doubles grosses caisses\, ... [Read more...]
X-ALT-DESC;FMTTYPE=text/html: <p><a href="https://www.heavysaurus.de/" rel=
 "noopener" target="_blank">Heavysaurus</a></p><p>Du métal dinosaure pour to
 ute la famille ! Heavysaurus\, composé de 4 dinosaures et 1 dragon\, propos
 e du métal pour les adultes et les enfants. Le succès du groupe\, qui sorti
 ra un tout nouvel album en janvier 2026\, prouve que le plaisir du headbang
  n’a pas d’âge. </p><p>La musique est forte (mais pas trop)\, entraînante e
 t composée avec amour\, avec des riffs de guitare\, des doubles grosses cai
 sses\, des mélodies faciles à chanter et des paroles qui enthousiasment les
  jeunes métalleux et métalleuses. Alors que les enfants plongent dans l’uni
 vers du rock\, de nombreux parents revivent ou redécouvrent leurs propres r
 acines musicales à leurs côtés.</p><p>Un concert spectaculaire avec des eff
 ets de lumière\, des ballons et des confettis\, conçu aussi bien pour les j
 eunes oreilles que pour les plus chevronnées! Et cerise sur le gâteau\, la 
 possibilité de réserver une rencontre avec les dinosaures pour un autograph
 e et des photos pour les plus petit-es (et plus grand-es) fans! </p><p>Info
 rmations pratiques</p><p>L’accès au concert se fait dès 4 ans révolus. Les 
 mineur·es de moins de 16 ans doivent obligatoirement être accompagné·es par
  un·e représentant·e légal·e. Le concert est conçu pour les enfants âgés de
  4 à 11 ans\, mais il divertit également les parents\, les grands-parents e
 t les frères et sœurs : une expérience pour toute la famille! Le show a lie
 u l’après-midi\, à un volume adapté aux enfants et\, dans la mesure du poss
 ible\, avec une zone réservée aux enfants à l’avant\, pour garantir une bon
 ne visibilité. Et ne vous inquiétez pas: les dinosaures ne mordent pas.</p>
 <p>Les réservations pour le Meet & Greet avec les dinosaures sont disponibl
 es directement sur le site d’Heavysaurus. </p><p><span style="color: #c8607
 9\;">Ein <strong>ARTNOIR</strong> Partner-Event</span></p>
CATEGORIES:Anderes,Metal,Partner-Event
LOCATION:Le Rez - Usine
GEO:46.203977;6.136005
ORGANIZER;CN="JHG Shark":MAILTO:webmaster@jhgshark.ch
URL;VALUE=URI:https://artnoir.ch/events/event/heavysaurus-2026-05-30/
ATTACH;FMTTYPE=image/jpeg:https://artnoir.ch/wp-content/uploads/2026/01/2026-HeavySaurus-HS26_ig1080x1350tourCH-scaled.jpg
END:VEVENT
BEGIN:VTIMEZONE
TZID:Europe/Zurich
BEGIN:DAYLIGHT
TZOFFSETFROM:+0100
TZOFFSETTO:+0200
DTSTART:20260329T010000
TZNAME:CEST
END:DAYLIGHT
END:VTIMEZONE
END:VCALENDAR
