BEGIN:VCALENDAR
VERSION:2.0
PRODID:-//ARTNOIR//NONSGML Events//EN
CALSCALE:GREGORIAN
X-ORIGINAL-URL:https://artnoir.ch/events/event/
X-WR-CALDESC:ARTNOIR - Events
BEGIN:VEVENT
UID:20260107T1818Z-1767809909.8121-EO-258495-1@10.0.9.48
STATUS:CONFIRMED
DTSTAMP:20260423T143052Z
CREATED:20260105T191230Z
LAST-MODIFIED:20260116T115816Z
DTSTART;TZID=Europe/Zurich:20260424T200000
DTEND;TZID=Europe/Zurich:20260424T235900
SUMMARY: Grundeis & Resplandor
DESCRIPTION: Grundeis & Resplandor\nFast vier Jahre sind vergangen\, seit d
 ie Hamburger Band GRUNDEIS (gegründet 2018) mit ihrem Debütalbum „Amygdala“
  ein düsteres Post-Punk Feuerwerk mit Gothic- und Shoegaze Nuancen veröffen
 tlicht haben. Das erste Album ist in der nationalen und internationalen Pre
 sse und Hörerschaft hervorragend angenommen und besprochen worden\, die LP-
 Auflage war in kürzester Zeit ausverkauft.\nFür das zweite Album „Every Sec
 ond an Ocean“ (UNDRESSED Records) hat sich die Band Zeit gelassen. ... [Rea
 d more...]
X-ALT-DESC;FMTTYPE=text/html: <p><a href="https://www.facebook.com/GRUNDEIS
 .BAND/" rel="noopener" target="_blank">Grundeis</a> & <a href="https://www.
 resplandorofficial.com/" rel="noopener" target="_blank">Resplandor</a></p><
 p>Fast vier Jahre sind vergangen\, seit die Hamburger Band <strong>GRUNDEIS
 </strong> (gegründet 2018) mit ihrem Debütalbum „Amygdala“ ein düsteres Pos
 t-Punk Feuerwerk mit Gothic- und Shoegaze Nuancen veröffentlicht haben. Das
  erste Album ist in der nationalen und internationalen Presse und Hörerscha
 ft hervorragend angenommen und besprochen worden\, die LP-Auflage war in kü
 rzester Zeit ausverkauft.</p><p>Für das zweite Album „Every Second an Ocean
 “ (UNDRESSED Records) hat sich die Band Zeit gelassen. Zeit\, die vor allem
  nötig war für eine Öffnung und einen Wandel. Der Name des Langspielers spi
 egelt hierbei die Intensität und Wucht der zweiten Platte wieder: 14 Songs\
 , über eine Stunde Spieldauer\, ein Monument von einem Album.</p><p>GRUNDEI
 S erweitern ihren Schaffenskreis auf dem neuen Album deutlich und lassen tr
 otz der langen Spielzeit keine musikalische/inhaltliche Gleichgültigkeit au
 fkommen.</p><p>Keinen der Songs möchte man missen\, keine Nummer dient nur 
 als Füllwerk. Mutig und gekonnt manövriert die Band zwischen verträumten Sh
 oegaze Balladen\, wuchtig-hartem Noise-Rock und rotzigem Post-Punk. GRUNDEI
 S zeigen ein neues musikalisches und persönliches Selbstbewusstsein. Die ti
 efen Traumata von Amygdala scheinen überwunden\, wenngleich emotionaler Tie
 fgang und Ehrlichkeit auch auf „Every Second an Ocean“ in die Plattenrillen
  geflossen sind.</p><p>2024 beweisen GRUNDEIS einmal mehr\, warum sie seit 
 ihrem Debüt als eine der heißesten deutschen Newcomerbands gehandelt werden
  und manifestieren ihren Anspruch als ernstzunehmender internationaler Rock
 -Act.</p><p><strong>Resplandor</strong> ist eine Shoegaze-Band aus den Nied
 erlanden\, sie verbinden Shoegaze mit Elementen aus Post-Punk und Post-Rock
 . Ihre letzten Alben\, Tristeza und Pleamar\, wurden von Robin Guthrie (Coc
 teau Twins) produziert und von Simon Scott (Slowdive) gemastert. Die aktuel
 le Besetzung besteht aus Jomie Bagchus\, Antonio Zelada und Minne Davids. 2
 025 startete Resplandor mit ausverkauften Konzerten in Amsterdam und Paris 
 ins Jahr\, gefolgt von herausragenden Auftritten in Berlin\, Rotterdam\, Le
 iden\, Den Haag\, Düsseldorf\, Krakau\, Kattowitz\, Antwerpen\, Utrecht\, M
 almö\, Kopenhagen und beim legendären Wave-Gotik-Treffen. Außerdem spielten
  sie zusammen mit LSD and the Search for God zwei unvergessliche\, ausverka
 ufte Konzerte in Utrecht und Paris. Die Band setzt ihre EU-Tristeza-Tour 20
 26 mit Headliner-Konzerten in London\, Berlin und Amsterdam fort.</p><p>Res
 plandor präsentierten ihr aktuelles Album „Tristeza“ 2023 als Vorband von T
 he Cure im Rahmen deren „Shows of a Lost World Tour“. Bereits 2013 eröffnet
 en sie ein Konzert für The Cure. Die Band spielte auf renommierten Festival
 s wie dem Wave-Gotik-Treffen (Leipzig\, Deutschland)\, dem Grauzone Festiva
 l (Den Haag\, Niederlande)\, dem Automatic Noise Festival (Amsterdam\, Nied
 erlande)\, dem SXSW (Austin\, USA)\, Culture Collide (Los Angeles\, USA)\, 
 dem Half Die Festival (Rom\, Italien) und dem Veltrac Music Festival (Lima\
 , Portugal).</p><p>Im Laufe ihrer Karriere tourten Resplandor ausgiebig dur
 ch Europa\, Südamerika und Nordamerika. Sie teilten die Bühne mit legendäre
 n Acts wie The Cure\, The Jesus and Mary Chain\, Slowdive\, Drab Majesty\, 
 The House of Love und vielen anderen.</p>
CATEGORIES:Wave
LOCATION:X-TRA Musikcafé
GEO:47.384275;8.532516
ORGANIZER;CN="JHG Shark":MAILTO:webmaster@jhgshark.ch
URL;VALUE=URI:https://artnoir.ch/events/event/grundeis-and-resplandor-2026-
 04-24/
ATTACH;FMTTYPE=image/jpeg:https://artnoir.ch/wp-content/uploads/2026/01/grundeis-and-resplandor-2026-04-24-1.jpg
END:VEVENT
BEGIN:VTIMEZONE
TZID:Europe/Zurich
BEGIN:DAYLIGHT
TZOFFSETFROM:+0100
TZOFFSETTO:+0200
DTSTART:20260329T010000
TZNAME:CEST
END:DAYLIGHT
END:VTIMEZONE
END:VCALENDAR
