BEGIN:VCALENDAR
VERSION:2.0
PRODID:-//ARTNOIR//NONSGML Events//EN
CALSCALE:GREGORIAN
X-ORIGINAL-URL:https://artnoir.ch/events/event/
X-WR-CALDESC:ARTNOIR - Events
BEGIN:VEVENT
UID:20250823T1800Z-1755972048.5372-EO-251845-1@10.0.9.22
STATUS:CONFIRMED
DTSTAMP:20260424T013039Z
CREATED:20250821T171820Z
LAST-MODIFIED:20250821T171820Z
DTSTART;TZID=Europe/Zurich:20261010T190000
DTEND;TZID=Europe/Zurich:20261010T231500
SUMMARY: Grossstadtgeflüster
DESCRIPTION: Grossstadtgeflüster\nSo lasset es krachen! Grossstadtgeflüster
  wird 23 2/3 Jahre alt und spielen eine fette Jubiläumstour.\nGrossstadtgef
 lüster\, die Berliner Band\, die seit 2003 den Bogen des guten Geschmacks v
 on beiden Seiten überspannt und mit ihren irgendwas um die 1000 gespielten 
 Konzerten viele\, viele\, viele Menschen glücklich gemacht hat\, ist nicht 
 zurück\, sondern immer noch da.\nDas Trio bezeichnet sich mittlerweile nich
 t mehr als Band\, sondern als Aggregatzustand. ... [Read more...]
X-ALT-DESC;FMTTYPE=text/html: <p><a href="https://www.facebook.com/grosssta
 dtgefluester/" rel="noopener" target="_blank">Grossstadtgeflüster</a></p><p
 >So lasset es krachen! Grossstadtgeflüster wird 23 2/3 Jahre alt und spiele
 n eine fette Jubiläumstour.</p><p>Grossstadtgeflüster\, die Berliner Band\,
  die seit 2003 den Bogen des guten Geschmacks von beiden Seiten überspannt 
 und mit ihren irgendwas um die 1000 gespielten Konzerten viele\, viele\, vi
 ele Menschen glücklich gemacht hat\, ist nicht zurück\, sondern immer noch 
 da.</p><p>Das Trio bezeichnet sich mittlerweile nicht mehr als Band\, sonde
 rn als Aggregatzustand. Seit über zwei Dekaden bewegt sich dieser zwischen 
 Rummelbums-Rave und radikalem Realismus – mit Berliner Schnauze und dennoch
  liebevollem Blick fürs Abseitige.</p><p>Nach sieben Studioalben und hunder
 ten gespielten Konzerten gibt es 2026 was zu feiern! Jen Bender (Gesang)\, 
 Raphael Schalz (Synths) und Chriz Falk (Drums) beglückten die Welt bereits 
 mit einem ausschweifenden Kanon eskapistischen Widerstands: Ohrwürmer wie «
 Ich muss gar nix»\, «Fickt-Euch-Allee» und zuletzt «Ich kündige» – Unabhäng
 igkeitserklärungen\, die unanständig in aller Ohren wurmen. Viele Millionen
  Spotify-Klicks\, 68 Millionen YouTube Views und ausverkaufte Hallen sprech
 en für sich.</p><p>Die Welt bleibt kompliziert\, Grossstadtgeflüster bleibe
 n dran: wer das gebührend mitfeiern möchte\, kommt zum Tanz und kollektivem
  Gesang zur Jubiläumstour 2026! An insgesamt 15 Terminen durch Deutschland\
 , Österreich\, die Schweiz und Luxemburg gibt’s Feierabendabriss vom Feinst
 en.</p>
CATEGORIES:Electro,Pop
LOCATION:Volkshaus
GEO:47.561064;7.593719
ORGANIZER;CN="JHG Shark":MAILTO:webmaster@jhgshark.ch
URL;VALUE=URI:https://artnoir.ch/events/event/grossstadtgefluester-2026-10-
 10/
ATTACH;FMTTYPE=image/jpeg:https://artnoir.ch/wp-content/uploads/2025/08/grossstadtgefluester-2026-10-09.jpg
END:VEVENT
BEGIN:VTIMEZONE
TZID:Europe/Zurich
BEGIN:DAYLIGHT
TZOFFSETFROM:+0100
TZOFFSETTO:+0200
DTSTART:20260329T010000
TZNAME:CEST
END:DAYLIGHT
END:VTIMEZONE
END:VCALENDAR
