BEGIN:VCALENDAR
VERSION:2.0
PRODID:-//ARTNOIR//NONSGML Events//EN
CALSCALE:GREGORIAN
X-ORIGINAL-URL:https://artnoir.ch/events/event/
X-WR-CALDESC:ARTNOIR - Events
BEGIN:VEVENT
UID:20250905T0632Z-1757053931.7775-EO-252479-1@10.0.9.22
STATUS:CONFIRMED
DTSTAMP:20260423T234629Z
CREATED:20250902T180510Z
LAST-MODIFIED:20251204T164941Z
DTSTART;VALUE=DATE:20260611
DTEND;VALUE=DATE:20260614
SUMMARY: Greenfield Festival
DESCRIPTION: Line-Up\nDIE 2. BANDWELLE IST DA!\nFreut euch 2026 auf gleich 
 zwei weitere Headliner\, die\, nach ihren starken Shows im Hallenstadion di
 eses Jahr\, 2026 wieder am Greenfield die Berge zum Beben bringen werden: V
 olbeat und Sabaton!\nAusserdem neu mit dabei: Three Days Grace\, Alter Brid
 ge\, Ice Nine Kills und viele mehr!\nEin ARTNOIR Partner-Event ... [Read mo
 re...]
X-ALT-DESC;FMTTYPE=text/html: <p><a href="https://greenfieldfestival.ch/lin
 e-up" target="_blank" rel="noopener">Line-Up</a></p><p><strong>DIE 2. BANDW
 ELLE IST DA!</strong></p><p>Freut euch 2026 auf gleich zwei weitere Headlin
 er\, die\, nach ihren starken Shows im Hallenstadion dieses Jahr\, 2026 wie
 der am Greenfield die Berge zum Beben bringen werden: <a href="https://www.
 volbeat.dk/" target="_blank" rel="noopener">Volbeat</a> und <a href="https:
 //www.sabaton.net/" target="_blank" rel="noopener">Sabaton</a>!</p><p>Ausse
 rdem neu mit dabei: <a href="https://threedaysgrace.com/" target="_blank" r
 el="noopener">Three Days Grace</a>\, <a href="https://alterbridge.com/" tar
 get="_blank" rel="noopener">Alter Bridge</a>\, <a href="https://iceninekill
 s.com/" target="_blank" rel="noopener">Ice Nine Kills</a> und viele mehr!</
 p><p><span style="color: #c86079\;">Ein <strong>ARTNOIR</strong> Partner-Ev
 ent</span></p>
CATEGORIES:Metal,Partner-Event,Punk,Rock
LOCATION:Flugplatz
GEO:46.670525;7.876914
ORGANIZER;CN="JHG Shark":MAILTO:webmaster@jhgshark.ch
URL;VALUE=URI:https://artnoir.ch/events/event/greenfield-festival-2026/
ATTACH;FMTTYPE=image/jpeg:https://artnoir.ch/wp-content/uploads/2025/09/Greenfield-2026-gf26_1920x1080-v3.jpg
END:VEVENT
BEGIN:VTIMEZONE
TZID:Europe/Zurich
BEGIN:DAYLIGHT
TZOFFSETFROM:+0100
TZOFFSETTO:+0200
DTSTART:20260329T010000
TZNAME:CEST
END:DAYLIGHT
END:VTIMEZONE
END:VCALENDAR
