BEGIN:VCALENDAR
VERSION:2.0
PRODID:-//ARTNOIR//NONSGML Events//EN
CALSCALE:GREGORIAN
X-ORIGINAL-URL:https://artnoir.ch/events/event/
X-WR-CALDESC:ARTNOIR - Events
BEGIN:VEVENT
UID:20251203T1220Z-1764764442.5005-EO-257489-1@10.0.9.48
STATUS:CONFIRMED
DTSTAMP:20260423T215603Z
CREATED:20260320T110058Z
LAST-MODIFIED:20260319T130142Z
DTSTART;TZID=Europe/Zurich:20260514T190000
DTEND;TZID=Europe/Zurich:20260514T224500
SUMMARY: Glen Hansard
DESCRIPTION: Glen Hansard\n+ Courtney Marie Andrews\nDer Preisgekrönte iris
 che Songwriter Glen Hansard bringt seine Full-Band-Show nach Europa. Am 14.
  Mai 2026 bespielen sie das Volkshaus Zürich.\nGlen Hansard kündigt eine br
 andneue Tournee durch Europa an. Ab Donnerstag\, dem 30. April 2026\, werde
 n Glen und seine komplette Band 16 Konzerte geben\, darunter im Londoner Ro
 undhouse\, um ein spannendes neues Projekt zu unterstützen\, das bald bekan
 nt gegeben wird. ... [Read more...]
X-ALT-DESC;FMTTYPE=text/html: <p><a href="https://glenhansard.com/" target=
 "_blank" rel="noopener">Glen Hansard</a><br />+ <a href="https://www.courtn
 eymarieandrews.com/" target="_blank" rel="noopener">Courtney Marie Andrews<
 /a></p><p>Der Preisgekrönte irische Songwriter Glen Hansard bringt seine Fu
 ll-Band-Show nach Europa. Am 14. Mai 2026 bespielen sie das Volkshaus Züric
 h.</p><p>Glen Hansard kündigt eine brandneue Tournee durch Europa an. Ab Do
 nnerstag\, dem 30. April 2026\, werden Glen und seine komplette Band 16 Kon
 zerte geben\, darunter im Londoner Roundhouse\, um ein spannendes neues Pro
 jekt zu unterstützen\, das bald bekannt gegeben wird.</p><p><span style="co
 lor: #c86079\;">Ein <strong>ARTNOIR</strong> Partner-Event</span></p>
CATEGORIES:Partner-Event,Pop,Rock
LOCATION:Volkshaus
GEO:47.375465;8.527275
ORGANIZER;CN="ARTNOIR":MAILTO:info@artnoir.ch
URL;VALUE=URI:https://artnoir.ch/events/event/glen-hansard-2026-05-14/
ATTACH;FMTTYPE=image/png:https://artnoir.ch/wp-content/uploads/2026/03/2026-05-14-Glen-Hansard-v2.png
END:VEVENT
BEGIN:VTIMEZONE
TZID:Europe/Zurich
BEGIN:DAYLIGHT
TZOFFSETFROM:+0100
TZOFFSETTO:+0200
DTSTART:20260329T010000
TZNAME:CEST
END:DAYLIGHT
END:VTIMEZONE
END:VCALENDAR
