BEGIN:VCALENDAR
VERSION:2.0
PRODID:-//ARTNOIR//NONSGML Events//EN
CALSCALE:GREGORIAN
X-ORIGINAL-URL:https://artnoir.ch/events/event/
X-WR-CALDESC:ARTNOIR - Events
BEGIN:VEVENT
UID:20260321T2143Z-1774129397.8065-EO-262064-1@10.0.9.48
STATUS:CONFIRMED
DTSTAMP:20260423T215224Z
CREATED:20260320T155640Z
LAST-MODIFIED:20260410T102405Z
DTSTART;TZID=Europe/Zurich:20260410T180000
DTEND;TZID=Europe/Zurich:20260410T235900
SUMMARY: Ghost Cop
DESCRIPTION: Ghost Cop\n+ Afterparty: DJ Medea de Medici\nAm 10. April 2026
  verwandelt sich das Valhalla in eine düstere\, immersive Tanzfläche voller
  Dark Wave\, Post-Punk und Gothic-Atmosphäre.\nLive: GHOST COP\nMit einer M
 ischung aus Dark Wave\, Post-Punk\, Synth Pop und cineastischen Horror-Soun
 dtracks hat sich GHOST COP weltweit eine treue Underground-Following aufgeb
 aut.\nDas Duo\, bestehend aus Lucy Swope und Sean Dack\, verbindet Einflüss
 e klassischer düsterer Sounds mit der Ästhetik von B-Movies. ... [Read more
 ...]
X-ALT-DESC;FMTTYPE=text/html: <p><a href="https://www.facebook.com/ghostc0p
 " rel="noopener" target="_blank">Ghost Cop</a><br />+ Afterparty: DJ Medea 
 de Medici</p><p>Am 10. April 2026 verwandelt sich das Valhalla in eine düst
 ere\, immersive Tanzfläche voller Dark Wave\, Post-Punk und Gothic-Atmosphä
 re.</p><p>Live: GHOST COP</p><p>Mit einer Mischung aus Dark Wave\, Post-Pun
 k\, Synth Pop und cineastischen Horror-Soundtracks hat sich GHOST COP weltw
 eit eine treue Underground-Following aufgebaut.</p><p>Das Duo\, bestehend a
 us Lucy Swope und Sean Dack\, verbindet Einflüsse klassischer düsterer Soun
 ds mit der Ästhetik von B-Movies.</p><p>Ihr Sound reicht von dystopischen D
 ancefloor-Tracks bis hin zu atmosphärischen\, filmischen Kompositionen und 
 verträumten Vocoder-Melodien – getragen von druckvollen Beats\, eingängigen
  Melodien und starkem Storytelling.</p><p>Ihr aktuelles Album „TROUBLE“ ist
  jetzt erhältlich.</p><p>Nach dem Konzert übernimmt DJ Medea de Medici und 
 führt die Nacht noch tiefer in die Dunkelheit: Dark Wave • Gothic • Post-Pu
 nk • Synth – gemacht für den Dancefloor. Erwarte kalte Synths\, treibende B
 asslines und rohe Underground-Club-Energie. → Bleib. Tanz. Verlier dich in 
 der Nacht. </p>
CATEGORIES:Electro,Wave
LOCATION:Valhalla
GEO:47.553177;7.585961
ORGANIZER;CN="JHG Shark":MAILTO:webmaster@jhgshark.ch
URL;VALUE=URI:https://artnoir.ch/events/event/ghost-cop-2026-04-10/
ATTACH;FMTTYPE=image/jpeg:https://artnoir.ch/wp-content/uploads/2026/03/ghost-cop-2026-04-10.jpg
END:VEVENT
BEGIN:VTIMEZONE
TZID:Europe/Zurich
BEGIN:DAYLIGHT
TZOFFSETFROM:+0100
TZOFFSETTO:+0200
DTSTART:20260329T010000
TZNAME:CEST
END:DAYLIGHT
END:VTIMEZONE
END:VCALENDAR
