BEGIN:VCALENDAR
VERSION:2.0
PRODID:-//ARTNOIR//NONSGML Events//EN
CALSCALE:GREGORIAN
X-ORIGINAL-URL:https://artnoir.ch/events/event/
X-WR-CALDESC:ARTNOIR - Events
BEGIN:VEVENT
UID:20260205T1110Z-1770289824.7524-EO-259630-1@10.0.9.48
STATUS:CONFIRMED
DTSTAMP:20260423T234019Z
CREATED:20260203T215810Z
LAST-MODIFIED:20260306T134339Z
DTSTART;TZID=Europe/Zurich:20260628T190000
DTEND;TZID=Europe/Zurich:20260628T230000
SUMMARY: Garbage
DESCRIPTION: Garbage\nDie US-Band Garbage spielt am 28. Juni 2026 im Zürche
 r Volkshaus. Mit im Gepäck hat sie ihr neues Studioalbum «Let All That We I
 magine Be The Light» – es ist ihr achtes.\n«Let All That We Imagine Be The 
 Light»\, das expansive\, explosive\, achte und allzu menschliche Album von 
 Garbage. Es ist das erste\, das aufgrund unvorhergesehener Umstände unerwar
 tet entstanden ist. Es entstand\, als die Band sich in einer schwierigen La
 ge befand. ... [Read more...]
X-ALT-DESC;FMTTYPE=text/html: <p><a href="https://www.garbage.com" rel="noo
 pener" target="_blank">Garbage</a></p><p>Die US-Band Garbage spielt am 28. 
 Juni 2026 im Zürcher Volkshaus. Mit im Gepäck hat sie ihr neues Studioalbum
  «Let All That We Imagine Be The Light» - es ist ihr achtes.</p><p>«Let All
  That We Imagine Be The Light»\, das expansive\, explosive\, achte und allz
 u menschliche Album von Garbage. Es ist das erste\, das aufgrund unvorherge
 sehener Umstände unerwartet entstanden ist. Es entstand\, als die Band sich
  in einer schwierigen Lage befand.</p><p>Im August 2024 musste Shirley Mans
 on\, die Leadsängerin und Frontfrau der Band\, plötzlich ihre Auftritte ein
 stellen. Eine alte Verletzung\, die sie sich 2016 bei einem Sturz von der B
 ühne beim KROQ's Weenie Roast zugezogen hatte\, war wieder aufgeflammt und 
 hatte sie ausser Gefecht gesetzt. «Ich bin von der Bühne gefallen und habe 
 mir die Hüfte verletzt»\, sagt sie. «All die Jahre später ist sie mir zerbr
 ochen.»</p>
CATEGORIES:Pop,Rock
LOCATION:Volkshaus
GEO:47.375465;8.527275
ORGANIZER;CN="Nicole Wild":MAILTO:nic.wild@yahoo.com
URL;VALUE=URI:https://artnoir.ch/events/event/garbage-2026-06-28/
ATTACH;FMTTYPE=image/jpeg:https://artnoir.ch/wp-content/uploads/2026/02/garbage-2026-06-28.jpg
END:VEVENT
BEGIN:VTIMEZONE
TZID:Europe/Zurich
BEGIN:DAYLIGHT
TZOFFSETFROM:+0100
TZOFFSETTO:+0200
DTSTART:20260329T010000
TZNAME:CEST
END:DAYLIGHT
END:VTIMEZONE
END:VCALENDAR
