BEGIN:VCALENDAR
VERSION:2.0
PRODID:-//ARTNOIR//NONSGML Events//EN
CALSCALE:GREGORIAN
X-ORIGINAL-URL:https://artnoir.ch/events/event/
X-WR-CALDESC:ARTNOIR - Events
BEGIN:VEVENT
UID:20260321T2330Z-1774135803.5784-EO-262037-1@10.0.9.48
STATUS:CONFIRMED
DTSTAMP:20260423T234227Z
CREATED:20260319T133159Z
LAST-MODIFIED:20260319T133522Z
DTSTART;TZID=Europe/Zurich:20260616T190000
DTEND;TZID=Europe/Zurich:20260616T230000
SUMMARY: Gaerea
DESCRIPTION: Gaerea\n+ THRON\nSpätestens nach dem Release ihres 2022er Albu
 ms „Mirage“ haben GAEREA in der Black-Metal-Szene ordentlich Fahrt aufgenom
 men. Mit „Loss“ folgt nun das fünfte Studioalbum. Die Vorab-Singles lassen 
 nicht nur Grosses erwarten\, sondern machen auch deutlich: GAEREA sind eine
  Band in steter Bewegung\, ohne dabei die klare Handschrift zu verlieren. M
 ehr als je zuvor setzen GAEREA auf diesem Album auf Extreme und Kontraste. 
 Die ruhigen Stellen sind weicher geworden\, ... [Read more...]
X-ALT-DESC;FMTTYPE=text/html: <p><a href="https://www.gaerea.com/" rel="noo
 pener" target="_blank">Gaerea</a><br />+ <a href="https://www.instagram.com
 /thronkvlt/" rel="noopener" target="_blank">THRON</a></p><p>Spätestens nach
  dem Release ihres 2022er Albums „Mirage“ haben <strong>GAEREA</strong> in 
 der Black-Metal-Szene ordentlich Fahrt aufgenommen. Mit „Loss" folgt nun da
 s fünfte Studioalbum. Die Vorab-Singles lassen nicht nur Grosses erwarten\,
  sondern machen auch deutlich: GAEREA sind eine Band in steter Bewegung\, o
 hne dabei die klare Handschrift zu verlieren. Mehr als je zuvor setzen GAER
 EA auf diesem Album auf Extreme und Kontraste. Die ruhigen Stellen sind wei
 cher geworden\, die Härte wirkt dagegen umso unerbittlicher. Die Refrains s
 ind erhaben und eingängig zugleich. Ein cineastisches Meisterwerk\, welches
  Zeit braucht\, danach aber umso mehr zündet und den angeschwärzten\, extre
 men Metal vom Keller auf die grosse Bühne hievt.</p><p>Genauer: auf die gro
 sse KIFF-Bühne\, ch-exklusiv und wie immer präsentiert von Metalmayhem!</p>
 <p>Einen Zacken fieser\, aber nicht minder episch eröffnen <strong>THRON</s
 trong> den Abend. Black Metal made in South Germany\, der Death Metal-Groov
 es ebenso wenig abgeneigt ist wie heavy-metallischer Doppel-Gitarren-Arbeit
  oder post-metallischer Grandezza. Ihr letztes Album Vurias noch nicht gehö
 rt? Unbedingt auschecken\, denn du hast bisher eine der besten Metal-Platte
 n 2025 verpasst.</p>
CATEGORIES:Metal
LOCATION:KIFF
GEO:47.398757;8.063867
ORGANIZER;CN="JHG Shark":MAILTO:webmaster@jhgshark.ch
URL;VALUE=URI:https://artnoir.ch/events/event/gaerea-2026-06-16/
ATTACH;FMTTYPE=image/jpeg:https://artnoir.ch/wp-content/uploads/2026/03/gaerea-2026-06-16.jpg
END:VEVENT
BEGIN:VTIMEZONE
TZID:Europe/Zurich
BEGIN:DAYLIGHT
TZOFFSETFROM:+0100
TZOFFSETTO:+0200
DTSTART:20260329T010000
TZNAME:CEST
END:DAYLIGHT
END:VTIMEZONE
END:VCALENDAR
