BEGIN:VCALENDAR
VERSION:2.0
PRODID:-//ARTNOIR//NONSGML Events//EN
CALSCALE:GREGORIAN
X-ORIGINAL-URL:https://artnoir.ch/events/event/
X-WR-CALDESC:ARTNOIR - Events
BEGIN:VEVENT
UID:20260302T0705Z-1772435137.0594-EO-260947-1@10.0.9.48
STATUS:CONFIRMED
DTSTAMP:20260423T232252Z
CREATED:20260228T165804Z
LAST-MODIFIED:20260228T165804Z
DTSTART;TZID=Europe/Zurich:20261113T180000
DTEND;TZID=Europe/Zurich:20261113T223000
SUMMARY: Future Palace
DESCRIPTION: Future Palace\n+ As Everything Unfolds\n+ Luna Kills\nDer neue
 ste Stern am Modern Metalcore-Himmel kommt aus Berlin und heisst Future Pal
 ace! Das charismatische Trio bringt am Freitag\, 13. November 2026 ihre Dee
 p Blue Tour nach Zürich ins Dynamo.\n2020 veröffentlichten Future Palace ih
 r Debütalbum beim angesagten Szene-Label Arising Empire und belegen seitdem
 \, dass Genres keine Grenzen sein müssen\, sondern ein Raum voller Möglichk
 eiten sind. ... [Read more...]
X-ALT-DESC;FMTTYPE=text/html: <p><a href="https://future-palace.com/" rel="
 noopener" target="_blank">Future Palace</a><br />+ <a href="https://www.ase
 verythingunfolds.com/" rel="noopener" target="_blank">As Everything Unfolds
 </a><br />+ <a href="https://lunakills.com/" rel="noopener" target="_blank"
 >Luna Kills</a></p><p>Der neueste Stern am Modern Metalcore-Himmel kommt au
 s Berlin und heisst Future Palace! Das charismatische Trio bringt am Freita
 g\, 13. November 2026 ihre Deep Blue Tour nach Zürich ins Dynamo.</p><p>202
 0 veröffentlichten Future Palace ihr Debütalbum beim angesagten Szene-Label
  Arising Empire und belegen seitdem\, dass Genres keine Grenzen sein müssen
 \, sondern ein Raum voller Möglichkeiten sind. In der Musik von Sängerin Ma
 ria Lessing\, Gitarrist Manuel Kohlert und Schlagzeuger Johannes Früchtenic
 ht peitschen die wütendsten Ausbrüche der Verzweiflung gegen die leisesten 
 Momente der Resignation\, satte Instrumentals treffen auf epochale Elektron
 ik-Produktionen\, markerschütternde Schreie kontrastieren mit tragender Mel
 odik.</p><p>Mit ihrer stets wendungsreichen künstlerischen Anlage versinnbi
 ldlichen sie die Hochs und Tiefs des menschlichen Lebens\, die in ihren Son
 gs stets die zentralen Themen bilden. Die Band schafft intensive Einblicke 
 in die Untiefen innerer Kämpfe und erzählt über Themen mentaler Gesundheit\
 , die gesellschaftlich nach wie vor viel zu stark tabuisiert sind.</p><p>Je
 tzt schlagen Future Palace mit Deep Blue\, ihrer neuesten Single\, ein neue
 s Kapitel auf. 2026 werden sie zu ihrer bislang umfangreichsten Headline-To
 ur aufbrechen. Verpasst ihren einzigen Schweiz-Stopp dieser Tour auf keinen
  Fall und kommt am Freitag\, 13. November 2026 alle in den Dynamo Saal!</p>
 <p>Jetzt Tickets via ticketcorner.ch sichern.</p>
CATEGORIES:Metal
LOCATION:Dynamo
GEO:47.383312;8.539341
ORGANIZER;CN="JHG Shark":MAILTO:webmaster@jhgshark.ch
URL;VALUE=URI:https://artnoir.ch/events/event/future-palace-2026-11-13/
ATTACH;FMTTYPE=image/jpeg:https://artnoir.ch/wp-content/uploads/2026/02/future-palace-2026-11-13.jpg
END:VEVENT
BEGIN:VTIMEZONE
TZID:Europe/Zurich
BEGIN:STANDARD
TZOFFSETFROM:+0200
TZOFFSETTO:+0100
DTSTART:20261025T010000
TZNAME:CET
END:STANDARD
END:VTIMEZONE
END:VCALENDAR
