BEGIN:VCALENDAR
VERSION:2.0
PRODID:-//ARTNOIR//NONSGML Events//EN
CALSCALE:GREGORIAN
X-ORIGINAL-URL:https://artnoir.ch/events/event/
X-WR-CALDESC:ARTNOIR - Events
BEGIN:VEVENT
UID:20260423T1948Z-1776973717.2593-EO-263317-1@10.0.9.48
STATUS:CONFIRMED
DTSTAMP:20260423T214837Z
CREATED:20260420T131402Z
LAST-MODIFIED:20260420T131603Z
DTSTART;TZID=Europe/Zurich:20260530T203000
DTEND;TZID=Europe/Zurich:20260530T235900
SUMMARY: French Fries / Angry Rabbit / Alli Vibes
DESCRIPTION: French Fries / Angry Rabbit / Alli Vibes\nMehr FINTA*-Künstler
 :innen auf die Bühne. Das ist unsere Mission.\nBei mma production ist das k
 ein Versprechen – das ist gelebte Realität. Bei unseren Konzerten stellen F
 INTA-Künstler:innen die Mehrheit im Line-up. Jedes Mal. Bewusst.\nWir glaub
 en daran\, dass Bühnen für alle da sind. Deshalb sorgen wir dafür\, dass FI
 NTA-Künstler:innen bei unseren Konzerten nicht die Ausnahme sind – sondern 
 die Regel. ... [Read more...]
X-ALT-DESC;FMTTYPE=text/html: <p><a href="https://www.french-fries.ch/" rel
 ="noopener" target="_blank">French Fries</a> / <a href="https://www.angryra
 bbit.ch/" rel="noopener" target="_blank">Angry Rabbit</a> / <a href="https:
 //www.instagram.com/allivibes_geilescheiss/" rel="noopener" target="_blank"
 >Alli Vibes</a></p><p>Mehr FINTA*-Künstler:innen auf die Bühne. Das ist uns
 ere Mission.</p><p>Bei mma production ist das kein Versprechen – das ist ge
 lebte Realität. Bei unseren Konzerten stellen FINTA-Künstler:innen die Mehr
 heit im Line-up. Jedes Mal. Bewusst.</p><p>Wir glauben daran\, dass Bühnen 
 für alle da sind. Deshalb sorgen wir dafür\, dass FINTA-Künstler:innen bei 
 unseren Konzerten nicht die Ausnahme sind – sondern die Regel. Musik verbin
 det.</p><p>Frisch aus der Fritteuse zeigt das Duo <strong>French Fries</str
 ong> wie man ordentlich draufhaut. French Fries klingt\, wie wenn Billy Cor
 gan und Dave Grohl zu zweit - total betrunken - versuchen würden das Slipkn
 ot Album "Iowa" zu covern. Das Winterthurer Duo ist qualitativ so gut wie d
 ie Fritten die um 4 Uhr morgens\, stock besoffen\, in der Frittenbude deine
 s Vertrauens erworben werden.</p><p>Zwei Schwestern raufen sich im Corona L
 ockdown zum Projekt “<strong>Angry Rabbit</strong>” zusammen. Mit ihrem Gar
 agenrock verpackt in Grunge und Punk hauen sie dem Publikum ihre Songs um d
 ie Ohren. Auf jeden Fall etwas für alle Musikfans\, die es gerne laut\, dr
 eckig und direkt haben.</p><p>Queerfeministische Revolution in Bandform. <s
 trong>Alli Vibes</strong> bewegen sich zwischen Spoken Word\, Rap\, Funk un
 d Punk – mal laut und direkt\, mal zart und verletzlich. Die drei nonbinäre
 n Musiker:innen legen sich weder auf Genres noch Instrumente fest\, dafür a
 uf Haltung: ehrlich\, roh\, empowernd.</p>
CATEGORIES:Progressive,Punk,Rock
LOCATION:Gaswerk
GEO:47.494529;8.707780
ORGANIZER;CN="JHG Shark":MAILTO:webmaster@jhgshark.ch
URL;VALUE=URI:https://artnoir.ch/events/event/french-fries-and-angry-rabbit
 -and-alli-vibes-2026-05-30/
ATTACH;FMTTYPE=image/jpeg:https://artnoir.ch/wp-content/uploads/2026/04/french-fries-and-angry-rabbit-and-alli-vibes-2026-05-30.jpg
END:VEVENT
BEGIN:VTIMEZONE
TZID:Europe/Zurich
BEGIN:DAYLIGHT
TZOFFSETFROM:+0100
TZOFFSETTO:+0200
DTSTART:20260329T010000
TZNAME:CEST
END:DAYLIGHT
END:VTIMEZONE
END:VCALENDAR
