BEGIN:VCALENDAR
VERSION:2.0
PRODID:-//ARTNOIR//NONSGML Events//EN
CALSCALE:GREGORIAN
X-ORIGINAL-URL:https://artnoir.ch/events/event/
X-WR-CALDESC:ARTNOIR - Events
BEGIN:VEVENT
UID:20260403T0812Z-1775203947.9978-EO-260355-1@10.0.9.48
STATUS:CONFIRMED
DTSTAMP:20260424T002216Z
CREATED:20260220T141511Z
LAST-MODIFIED:20260327T122740Z
DTSTART;TZID=Europe/Zurich:20260517T193000
DTEND;TZID=Europe/Zurich:20260517T235900
SUMMARY: Fotocrime
DESCRIPTION: Fotocrime\n+ Cancellation:Void\nExploding with melodic and pum
 meling industrial-tinged post-punk\, Louisville dark punk stalwarts FOTOCRI
 ME erupt in an unexpectedly aggressive tone on their new album\, Security. 
 This more guitar-driven direction may seem like a pivot\, but to those in t
 he know it’s inherent in Fotocrime leader Ryan Patterson’s musical history 
 and DNA. Patterson is a musician\, producer\, visual artist\, and creative 
 force behind Coliseum\, Cat Magic Punks\, Black Cross\, ... [Read more...]
X-ALT-DESC;FMTTYPE=text/html: <p><a href="https://www.fotocrime.com/" rel="
 noopener" target="_blank">Fotocrime</a><br />+ Cancellation:Void</p><p>Expl
 oding with melodic and pummeling industrial-tinged post-punk\, Louisville d
 ark punk stalwarts <strong>FOTOCRIME</strong> erupt in an unexpectedly aggr
 essive tone on their new album\, Security. This more guitar-driven directio
 n may seem like a pivot\, but to those in the know it’s inherent in Fotocri
 me leader Ryan Patterson’s musical history and DNA. Patterson is a musician
 \, producer\, visual artist\, and creative force behind Coliseum\, Cat Magi
 c Punks\, Black Cross\, and Shirt Killer\, amongst many other bands and end
 eavors. </p><p>Formed in 2017\, Fotocrime have released five EPs and four a
 lbums\, and on their fifth LP\, 2026’s Security\, Patterson is joined by ne
 w members Benjamin Clark (formerly of Elliott) on guitar and David Cundiff 
 on bass. Filled with tales of overblown machismo at the nuclear chess board
  and honest living in a corrupt world\, Security is rife with sentiments of
  paranoia and impending doom. Despite the darkness\, Fotocrime always strik
 es a chord of elation with their man-vs-machine electronic-meets-organic in
 dustrial punk.</p><p><strong>CANCELLATION:VOID</strong>: TwoMenElectroDisto
 rtion aus dem Sedel. Industrial mit einem Hauch Blues\, Metal mit einer Not
 e Wave\, 80ies-Sounds gepaart mit Shoegaze. You name it\, they got it. Roh 
 – echt –eigen. </p>
CATEGORIES:Rock,Wave
LOCATION:Sedel
GEO:47.066014;8.299130
ORGANIZER;CN="JHG Shark":MAILTO:webmaster@jhgshark.ch
URL;VALUE=URI:https://artnoir.ch/events/event/fotocrime-2026-05-17/
ATTACH;FMTTYPE=image/jpeg:https://artnoir.ch/wp-content/uploads/2026/02/fotocrime-2026-05-17.jpg
END:VEVENT
BEGIN:VTIMEZONE
TZID:Europe/Zurich
BEGIN:DAYLIGHT
TZOFFSETFROM:+0100
TZOFFSETTO:+0200
DTSTART:20260329T010000
TZNAME:CEST
END:DAYLIGHT
END:VTIMEZONE
END:VCALENDAR
