BEGIN:VCALENDAR
VERSION:2.0
PRODID:-//ARTNOIR//NONSGML Events//EN
CALSCALE:GREGORIAN
X-ORIGINAL-URL:https://artnoir.ch/events/event/
X-WR-CALDESC:ARTNOIR - Events
BEGIN:VEVENT
UID:20251122T0036Z-1763771792.4867-EO-256477-1@10.0.9.48
STATUS:CONFIRMED
DTSTAMP:20260423T215504Z
CREATED:20251120T135428Z
LAST-MODIFIED:20251120T135608Z
DTSTART;TZID=Europe/Zurich:20260401T170000
DTEND;TZID=Europe/Zurich:20260401T223000
SUMMARY: Fit For A King
DESCRIPTION: Fit For A King\n+ Memphis May Fire\n+ Acres\n+ 156/Silence\nDi
 e Musik von Fit For A King trägt die Spuren persönlicher und gemeinsamer Er
 fahrungen der Bandmitglieder und ist eingebettet in eine sich stetig wandel
 nde Klangpalette aus unvorhersehbarem Metalcore\, alternativer Melodik\, de
 athcorehafter Brutalität und ist durchzogen von elektronischer Alchemie. Fi
 t For A King nutzen die Kraft der Freundschaft\, um sich ständig weiterzuen
 twickeln. ... [Read more...]
X-ALT-DESC;FMTTYPE=text/html: <p><a href="https://fitforakingband.com/" rel
 ="noopener" target="_blank">Fit For A King</a><br />+ <a href="https://www.
 memphismayfire.com/" rel="noopener" target="_blank">Memphis May Fire</a><br
  />+ <a href="https://www.instagram.com/acres_uk/" rel="noopener" target="_
 blank">Acres</a><br />+ <a href="https://www.156silence.com/" rel="noopener
 " target="_blank">156/Silence</a></p><p>Die Musik von Fit For A King trägt 
 die Spuren persönlicher und gemeinsamer Erfahrungen der Bandmitglieder und 
 ist eingebettet in eine sich stetig wandelnde Klangpalette aus unvorhersehb
 arem Metalcore\, alternativer Melodik\, deathcorehafter Brutalität und ist 
 durchzogen von elektronischer Alchemie. Fit For A King nutzen die Kraft der
  Freundschaft\, um sich ständig weiterzuentwickeln. Während im Hintergrund 
 des letzten Jahrzehnts Trends kamen und gingen\, hat das Quintett nicht nur
  zahlreiche Herausforderungen gemeistert\, sondern auch das ständige Chaos 
 einer sich wandelnden Welt überstanden. Heute sind sie stärker als je. Gena
 u diese Stärke und Kameradschaft ist auf ihrem achten Studioalbum „Lonely G
 od“ (2025) laut und deutlich zu hören. Mit dem neuen Album im Gepäck kann F
 it For A King auf ihrer LONELY GOD EUROPEAN TOUR 2026 am 01. April 2026 liv
 e im Komplex 457 Zürich erlebt werden.</p><p>Die enge Verbindung der Band r
 eicht bis ins Jahr 2011 zurück\, als Fit For A King ihr unabhängiges Debüta
 lbum „Descendants“ veröffentlichten. Seitdem haben sie sich mit Alben wie C
 reation/Destruction“ (2013)\, „Slave to Nothing“ (2014)\, „Deathgrip“ (2016
 ) und „The Path“ (2020) kontinuierlich weiterentwickelt. Ihr Album „The Hel
 l We Create“ aus dem Jahr 2022 markierte bereits ihr fünftes Top-3-Debüt in
  den Billboard Top Christian Albums Charts und das dritte Album in Folge mi
 t einem Top-15-Einstieg in den Top Album Sales Charts. Mittlerweile verzeic
 hnet die Band beeindruckende nahezu eine halbe Milliarde Streams – angetrie
 ben von Szene-Hymnen wie „When Everything Means Nothing“\, „The Price of Ag
 ony“\, „Breaking the Mirror“ und vielen weiteren.</p><p>Im Jahr 2024 zog es
  die Band nach Los Angeles\, um gemeinsam mit Produzent Daniel Braunstein a
 n dem zu arbeiten\, was schliesslich „Lonely God“ (2025) werden sollte. „Es
  war die längste Pause\, die wir jemals zwischen zwei Alben gemacht haben –
  und entsprechend viele Ideen hatten wir gesammelt“\, erklärt Ryan. Mit der
  Leadsingle „No Tomorrow“ wagen Fit For A King nun den Sprung in die Zukunf
 t. Luftige Melodien entstehen aus einem sanften Dunst\, ehe sie von einem s
 chweren Gitarren-Groove und harschen Screams mitgerissen werden. Ein Album\
 , das ihrer Geschichte und ihrem Zusammenhalt würdig ist.</p>
CATEGORIES:Metal
LOCATION:Komplex 457
GEO:47.387269;8.499988
ORGANIZER;CN="JHG Shark":MAILTO:webmaster@jhgshark.ch
URL;VALUE=URI:https://artnoir.ch/events/event/fit-for-a-king-2026-04-01/
ATTACH;FMTTYPE=image/jpeg:https://artnoir.ch/wp-content/uploads/2025/11/fit-for-a-king-2026-04-01.jpg
END:VEVENT
BEGIN:VTIMEZONE
TZID:Europe/Zurich
BEGIN:DAYLIGHT
TZOFFSETFROM:+0100
TZOFFSETTO:+0200
DTSTART:20260329T010000
TZNAME:CEST
END:DAYLIGHT
END:VTIMEZONE
END:VCALENDAR
