BEGIN:VCALENDAR
VERSION:2.0
PRODID:-//ARTNOIR//NONSGML Events//EN
CALSCALE:GREGORIAN
X-ORIGINAL-URL:https://artnoir.ch/events/event/
X-WR-CALDESC:ARTNOIR - Events
BEGIN:VEVENT
UID:20250929T1847Z-1759171624.8266-EO-253678-1@10.0.9.22
STATUS:CONFIRMED
DTSTAMP:20260423T234348Z
CREATED:20250928T124832Z
LAST-MODIFIED:20250928T125233Z
DTSTART;TZID=Europe/Zurich:20261017T190000
DTEND;TZID=Europe/Zurich:20261017T223000
SUMMARY: Fischer-Z
DESCRIPTION: Fischer-Z\nFEIERN MIT FISCHER-Z\nLeidenschaftlich\, politisch\
 , zielstrebig. Und vor allem: Künstler. John Watts ist Fischer-Z. Ein musik
 alisches Konzept und kreatives Vehikel\, das schon viele Inkarnationen erle
 bt hat. 2026 feiert Watts mit Fischer-Z auf der Bühne ein halbes Jahrhunder
 t Musik: Die „50th Anniversary Tour“ bietet ein Best-of-Set mit Highlights 
 aus dem reichen Repertoire der Band\, ergänzt mit aktuellen Titeln.\n2026 w
 ird ein grosses Jahr für Fischer-Z. ... [Read more...]
X-ALT-DESC;FMTTYPE=text/html: <p><a href="https://fischer-z.com/" rel="noop
 ener" target="_blank">Fischer-Z</a></p><p><strong>FEIERN MIT FISCHER-Z</str
 ong></p><p>Leidenschaftlich\, politisch\, zielstrebig. Und vor allem: Künst
 ler. John Watts ist Fischer-Z. Ein musikalisches Konzept und kreatives Vehi
 kel\, das schon viele Inkarnationen erlebt hat. 2026 feiert Watts mit Fisch
 er-Z auf der Bühne ein halbes Jahrhundert Musik: Die „50th Anniversary Tour
 “ bietet ein Best-of-Set mit Highlights aus dem reichen Repertoire der Band
 \, ergänzt mit aktuellen Titeln.</p><p>2026 wird ein grosses Jahr für Fisch
 er-Z. Vor 50 Jahren wurde die Band vom Sänger\, Gitarristen und Dichter Joh
 n Watts in der englischen Stadt Sandhurst gegründet. Unter seiner Leitung w
 urden Fischer-Z in den späten 70ern und frühen 80ern zu einem festen Bestan
 dteil der New-Wave- und Post-Punk-Szene. Mit Klassikern wie „The Worker“\, 
 „So Long“\, „Marliese“\, „Red Skies Over Paradise“ und „Room Service“ hat d
 ie Band mehrere Generationen von Musikliebhabern nachhaltig geprägt. Fische
 r-Z waren erfolgreich in ganz Europa und verkauften mehr als zwei Millionen
  Alben. Es gab gemeinsame Aufnahmen mit Peter Gabriel\, Steve Cropper oder 
 Dexys Midnight Runners. Sie traten an der Seite von James Brown in Ost-Berl
 in auf und waren mit The Police und Dire Straits auf Tour. Auch begleiteten
  sie Bob Marley auf seiner letzten Festival-Tour durch Europa und waren in 
 den USA und Kanada unterwegs. 1982 löste Watts Fischer-Z auf und verfolgte 
 eine Solokarriere. Er reaktivierte den Namen Fischer-Z 1987 mit einer neuen
  Besetzung. John Watts hat mittlerweile 26 Alben herausgebracht und rund 40
 00 Konzerte mit seiner Band oder als Solokünstler gespielt. Bis heute ersch
 eint regelmässig neues Material. Zuletzt wurde im Mai 2024 „Triptych“ veröf
 fentlicht. Das aktuelle Fisher-Z-Studioalbum markiert die Rückkehr zu vertr
 auten Sounds und Themen mit neuer Frische und bietet eine beeindruckende Re
 trospektive auf John Watts' Leben und bisherige Karriere. Watts hat\, als s
 ich immer neu erfindender Künstler\, festgestellt\, dass sich viele seiner 
 Werke der letzten 50 Jahre seiner musikalischen Karriere\, wieder und wiede
 r mit denselben treibenden Themen befassen\, die heute noch so relevant sin
 d wie vor 50 Jahren: Love\, Power\, People - und wie sie miteinander intera
 gieren. Bei den Jubiläumsshows der „50th Anniversary Tour“ durch Europa wir
 d uns Watts mit seinen Mitstreitern ein Best-of-Set mit Klassikern aus der 
 umfangreichen Fischer-Z-Diskographie präsentieren.</p>
CATEGORIES:Wave
LOCATION:Z7
GEO:47.527449;7.694210
ORGANIZER;CN="JHG Shark":MAILTO:webmaster@jhgshark.ch
URL;VALUE=URI:https://artnoir.ch/events/event/fischer-z-2026-10-17/
ATTACH;FMTTYPE=image/jpeg:https://artnoir.ch/wp-content/uploads/2025/09/fischer-z-2026-10-17.jpg
END:VEVENT
BEGIN:VTIMEZONE
TZID:Europe/Zurich
BEGIN:DAYLIGHT
TZOFFSETFROM:+0100
TZOFFSETTO:+0200
DTSTART:20260329T010000
TZNAME:CEST
END:DAYLIGHT
END:VTIMEZONE
END:VCALENDAR
