BEGIN:VCALENDAR
VERSION:2.0
PRODID:-//ARTNOIR//NONSGML Events//EN
CALSCALE:GREGORIAN
X-ORIGINAL-URL:https://artnoir.ch/events/event/
X-WR-CALDESC:ARTNOIR - Events
BEGIN:VEVENT
UID:20260401T1712Z-1775063575.8425-EO-261887-1@10.0.9.48
STATUS:CONFIRMED
DTSTAMP:20260423T234029Z
CREATED:20260317T144133Z
LAST-MODIFIED:20260323T154325Z
DTSTART;TZID=Europe/Zurich:20261025T190000
DTEND;TZID=Europe/Zurich:20261025T230000
SUMMARY: Fink
DESCRIPTION: – Only Swiss show –\nFink\n+ Angela Autumn\nIm Anschluss an di
 e Veröffentlichung von Finks neuem neunten Album «The City Is Coming To Era
 se It All» über R’COUP’D am 5. Juni begibt sich das in Berlin  ansässige en
 glische Trio Anfang Oktober auf eine grosse Europatournee\, die sie durch v
 ierzehn Länder auf dem gesamten Kontinent führt und am  25.10.2026 im Kaufl
 euten Zürich Halt macht.\nMit einer erweiterten Besetzung\, ... [Read more.
 ..]
X-ALT-DESC;FMTTYPE=text/html: <p>- Only Swiss show -</p><p><a href="https:/
 /finkmusic.net/" target="_blank" rel="noopener">Fink</a><br />+ <a href="ht
 tps://www.angelaautumnmusic.com/" target="_blank" rel="noopener">Angela Aut
 umn</a></p><p>Im Anschluss an die Veröffentlichung von Finks neuem neunten 
 Album «The City Is Coming To Erase It All» über R’COUP’D am 5. Juni begibt 
 sich das in Berlin  ansässige englische Trio Anfang Oktober auf eine grosse
  Europatournee\, die sie durch vierzehn Länder auf dem gesamten Kontinent f
 ührt und am  25.10.2026 im Kaufleuten Zürich Halt macht.</p><p>Mit einer er
 weiterten Besetzung\, zu der auch der niederländische Multi-Instrumentalist
  Nicky Hustinx gehört\, wird das ursprüngliche Trio aus Sänger/Gitarrist Fi
 n Greenall\, Schlagzeuger/Gitarrist Tim Thornton und Bassist Guy Whittaker 
 die erdigen Klänge und Texturen ihres neuen Albums präsentieren\, wie sie a
 uf der ersten Singleauskopplung «Memorise Your Senses» zu hören sind\, die 
 hier angesehen werden kann:</p><p>https://youtu.be/90-RD0mZmok</p><p>… und 
 hier angehört werden kann: <a href="https://lnk.to/E1PSLNoi" target="_blank
 " rel="noopener">https://lnk.to/E1PSLNoi</a></p><p>Greenall sagt: «Wir könn
 en es kaum erwarten\, an einige unserer Lieblingsorte zu kommen und die Büh
 ne mit so viel Musik wie möglich zu füllen. Wir wissen\, dass unser Publiku
 m es liebt\, mit uns auf kleine musikalische Reisen zu gehen\, daher wird d
 ies eine wirklich intensive\, unterhaltsame\, herzliche und mitreissende Sh
 ow… mit den fantastischen\, folkigen neuen Songs\, natürlich einigen alten 
 Favoriten und vielleicht ein paar Stücken\, die wir schon länger nicht mehr
  gespielt haben. Wir leben für diese Erlebnisse\, also kommt vorbei und sei
 d dabei …»</p><p><span style="color: #c86079\;">Ein <strong>ARTNOIR</strong
 > Partner-Event</span></p>
CATEGORIES:Partner-Event,Pop,Rock
LOCATION:Kaufleuten
GEO:47.371556;8.536286
ORGANIZER;CN="ARTNOIR":MAILTO:info@artnoir.ch
URL;VALUE=URI:https://artnoir.ch/events/event/fink-2026-10-25/
ATTACH;FMTTYPE=image/png:https://artnoir.ch/wp-content/uploads/2026/03/261025_Fink_SoMe_4_5_1080x1350px.png
END:VEVENT
BEGIN:VTIMEZONE
TZID:Europe/Zurich
BEGIN:DAYLIGHT
TZOFFSETFROM:+0100
TZOFFSETTO:+0200
DTSTART:20260329T010000
TZNAME:CEST
END:DAYLIGHT
BEGIN:STANDARD
TZOFFSETFROM:+0200
TZOFFSETTO:+0100
DTSTART:20261025T010000
TZNAME:CET
END:STANDARD
END:VTIMEZONE
END:VCALENDAR
