BEGIN:VCALENDAR
VERSION:2.0
PRODID:-//ARTNOIR//NONSGML Events//EN
CALSCALE:GREGORIAN
X-ORIGINAL-URL:https://artnoir.ch/events/event/
X-WR-CALDESC:ARTNOIR - Events
BEGIN:VEVENT
UID:20251202T1609Z-1764691793.0936-EO-257477-1@10.0.9.48
STATUS:CONFIRMED
DTSTAMP:20260424T010843Z
CREATED:20251201T164248Z
LAST-MODIFIED:20251201T193918Z
DTSTART;TZID=Europe/Zurich:20260929T190000
DTEND;TZID=Europe/Zurich:20260929T235900
SUMMARY: Evanescence
DESCRIPTION: Evanescence\n+ Poppy\n+ Nova Twins\nEvanescence werden 2026 wi
 eder auf Tour gehen: Der Auftakt findet in Nordamerika statt\, bevor es wei
 ter nach Grossbritannien und Europa geht – darunter auch eine Show in der S
 chweiz. Poppy wird als Special Guest bei allen europäischen Daten mit dabei
  sein\, während Nova Twins die Zürcher Show im Hallenstadion als Support Ac
 t eröffnen. ... [Read more...]
X-ALT-DESC;FMTTYPE=text/html: <p><a href="https://evanescencestore.com" rel
 ="noopener" target="_blank">Evanescence</a><br />+ <a href="https://www.ins
 tagram.com/impoppy/" rel="noopener" target="_blank">Poppy</a><br />+ <a hre
 f="https://www.instagram.com/novatwinsmusic/" rel="noopener" target="_blank
 ">Nova Twins</a></p><p><strong>Evanescence</strong> werden 2026 wieder auf 
 Tour gehen: Der Auftakt findet in Nordamerika statt\, bevor es weiter nach 
 Grossbritannien und Europa geht – darunter auch eine Show in der Schweiz. <
 strong>Poppy</strong> wird als Special Guest bei allen europäischen Daten m
 it dabei sein\, während <strong>Nova Twins</strong> die Zürcher Show im Hal
 lenstadion als Support Act eröffnen.</p><p>Es wird die erste vollständige U
 K- und Europatour der Band seit der «World’s Collide Tour 2022» sein\, bei 
 der der Daily Telegraph folgendes schrieb: «Evanescence proved a perfect ex
 ercise in classy\, majestic heaviness – 5/5». Ausserdem traten sie 2023 als
  Headliner beim Download Festival auf\, um das 20-jährige Jubiläum ihres Du
 rchbruchalbums «Fallen» zu feiern. Das Musikmagazin Kerrang kommentierte da
 zu: «(the band) sends the place into delirium».</p><p>Sängerin Amy Lee erzä
 hlt: «This year has been so inspiring in so many ways\, creating so much ne
 w music\, playing some bucket-list shows and working with so many artists t
 hat give us life. We are taking all of that fire and energy and inspiration
  and building it into an epic 2026 for our fans. Collaborating with K. Flay
 \, Poppy\, and Courtney Le Plante made me want to create a world where we c
 ould share stages together\, and I’m thrilled we are going to make it happe
 n! I can’t wait to share what we’ve been working on\, and I can’t wait for 
 this incredible tour.»<br />Im Jahr 2025 lag der Fokus von Evanescence am S
 chreiben von neuer Musik\, einigen ausgewählten Festivalauftritten sowie Sh
 ows mit My Chemical Romance\, Halsey und Metallica.</p><p>Amy Lee steuerte 
 in diesem Jahr zudem Musik zu drei Filmen bei: «Afterlife» für die Netflix-
 Serie «Devil May Cry»\, «Hand That Feeds» mit Halsey und «Fight Like A Girl
 » feat. K-Flay für den Film «Ballerina» aus dem John-Wick-Universum. Ausser
 dem komponierte sie Musik für den Kurzfilm «The Seventh Turn» von Eric Howe
 ll («Voice From The Stone»). Darüber hinaus arbeitete Lee kürzlich mit Popp
 y und Courtney LaPlante von Spiritbox an dem Song «End Of You» zusammen.</p
 >
CATEGORIES:Metal,Rock
LOCATION:Hallenstadion
GEO:47.411425;8.551685
ORGANIZER;CN="Nicole Wild":MAILTO:nic.wild@yahoo.com
URL;VALUE=URI:https://artnoir.ch/events/event/evanescence-2026-09-29/
ATTACH;FMTTYPE=image/jpeg:https://artnoir.ch/wp-content/uploads/2025/12/evanescence-2026-09-29-1.jpg
END:VEVENT
BEGIN:VTIMEZONE
TZID:Europe/Zurich
BEGIN:DAYLIGHT
TZOFFSETFROM:+0100
TZOFFSETTO:+0200
DTSTART:20260329T010000
TZNAME:CEST
END:DAYLIGHT
END:VTIMEZONE
END:VCALENDAR
