BEGIN:VCALENDAR
VERSION:2.0
PRODID:-//ARTNOIR//NONSGML Events//EN
CALSCALE:GREGORIAN
X-ORIGINAL-URL:https://artnoir.ch/events/event/
X-WR-CALDESC:ARTNOIR - Events
BEGIN:VEVENT
UID:20260323T0457Z-1774241822.5579-EO-261845-1@10.0.9.48
STATUS:CONFIRMED
DTSTAMP:20260423T232550Z
CREATED:20260316T100020Z
LAST-MODIFIED:20260410T110225Z
DTSTART;TZID=Europe/Zurich:20260626T190000
DTEND;TZID=Europe/Zurich:20260626T223000
SUMMARY: Escape The Fate
DESCRIPTION: Escape The Fate\n+ Vicious Rain\nPost-Hardcore im Dynamo Züric
 h\nAm Freitag\, 26. Juni 2026 bringt die US-Rockband Escape The Fate ihre e
 xplosive Liveshow ins Dynamo Zürich. Als Support eröffnet die Schweizer Mod
 ern-Metal Band Vicious Rain den Abend und sorgt für einen kraftvollen Aufta
 kt.\nSeit ihrer Gründung in Las Vegas haben sich Escape The Fate eine treue
  internationale Fanbase erspielt und mit mehreren erfolgreichen Veröffentli
 chungen sowie starken Chartplatzierungen auf sich aufmerksam gemacht. ... [
 Read more...]
X-ALT-DESC;FMTTYPE=text/html: <p><a href="https://www.escapethefate.com/" t
 arget="_blank" rel="noopener">Escape The Fate</a><br />+ <a href="https://v
 iciousrain.com/" target="_blank" rel="noopener">Vicious Rain</a></p><p><str
 ong>Post-Hardcore im Dynamo Zürich</strong></p><p>Am Freitag\, 26. Juni 202
 6 bringt die US-Rockband <strong>Escape The Fate</strong> ihre explosive Li
 veshow ins Dynamo Zürich. Als Support eröffnet die Schweizer Modern-Metal B
 and <strong>Vicious Rain</strong> den Abend und sorgt für einen kraftvollen
  Auftakt.</p><p>Seit ihrer Gründung in Las Vegas haben sich Escape The Fate
  eine treue internationale Fanbase erspielt und mit mehreren erfolgreichen 
 Veröffentlichungen sowie starken Chartplatzierungen auf sich aufmerksam gem
 acht. Frontmann Craig Mabbitt beschreibt die aktuelle Phase der Band als ei
 ne besonders kreative und fokussierte Zeit. Das jüngste Studioalbum zeigt d
 ie Gruppe musikalisch vielseitiger denn je: druckvolle Gitarrenriffs treffe
 n auf eingängige Refrains\, emotionale Balladen stehen neben schweren\, ene
 rgiegeladenen Tracks – eine Mischung\, die auch live für intensive Momente 
 sorgt.</p><p>Frontmann Craig Mabbitt\, Schlagzeuger Robert Ortiz sowie die 
 Gitarristen Thomas 'TJ' Bell und Kevin 'Thrasher' Gruft arbeiteten in den v
 ergangenen Jahren intensiv an neuem Material. Aus rund fünfzig Songideen en
 tstand ein Album\, dass die ganze Bandbreite ihres Sounds zeigt. Die Songs 
 greifen persönliche Erfahrungen der Band auf und spiegeln die Höhen und Tie
 fen wider\, die Escape The Fate in ihrer Karriere erlebt haben.</p><p>Singl
 es wie Alive oder Remember Every Scar zeigen eindrucksvoll\, wie Escape The
  Fate ihre Erfahrungen der vergangenen Jahre in kraftvolle Hymnen verwandel
 n. Genau diese Mischung aus Intensität und Eingängigkeit prägt auch ihre en
 ergiegeladenen Liveshows.</p><p>Nach internationalen Tourneen und gefeierte
 n Festivalauftritten kehrt die Band nun mit neuer Energie auf die Bühnen Eu
 ropas zurück. Ein Pflichttermin für Fans harter\, moderner Gitarrenmusik.</
 p><p>Vor Ort nur Cashless-Zahlung.</p><p><span style="color: #c86079\;">Ein
  <strong>ARTNOIR</strong> Partner-Event</span></p>
CATEGORIES:Partner-Event,Rock
LOCATION:Dynamo
GEO:47.383312;8.539341
ORGANIZER;CN="ARTNOIR":MAILTO:info@artnoir.ch
URL;VALUE=URI:https://artnoir.ch/events/event/escape-the-fate-2026-06-26/
ATTACH;FMTTYPE=image/jpeg:https://artnoir.ch/wp-content/uploads/2026/03/2026-06-26-Escape-The-Fate.jpg
END:VEVENT
BEGIN:VTIMEZONE
TZID:Europe/Zurich
BEGIN:DAYLIGHT
TZOFFSETFROM:+0100
TZOFFSETTO:+0200
DTSTART:20260329T010000
TZNAME:CEST
END:DAYLIGHT
END:VTIMEZONE
END:VCALENDAR
