BEGIN:VCALENDAR
VERSION:2.0
PRODID:-//ARTNOIR//NONSGML Events//EN
CALSCALE:GREGORIAN
X-ORIGINAL-URL:https://artnoir.ch/events/event/
X-WR-CALDESC:ARTNOIR - Events
BEGIN:VEVENT
UID:20260423T2158Z-1776981516.4289-EO-263420-1@10.0.9.48
STATUS:CONFIRMED
DTSTAMP:20260423T235836Z
CREATED:20260422T173239Z
LAST-MODIFIED:20260422T173442Z
DTSTART;TZID=Europe/Zurich:20261118T173000
DTEND;TZID=Europe/Zurich:20261118T231500
SUMMARY: Erra & Currents
DESCRIPTION: Erra & Currents\n+ Caskets\n+ Aviana\nMETALCORE-MANIA\nIm Nove
 mber präsentieren wir das fetteste Metalcore-Package des Jahres 2026. Angef
 ührt wird der gnadenlose Tour-Tross von den Szene-Giganten ERRA\, die mit d
 em neuen Album „Silence Outlives The Earth“ einen weiteren Meilenstein in i
 hrer erfolgreichen Karriere setzen. Als Support Acts sorgen Currents\, Cask
 ets und Aviana für multiple Coregasmen. ... [Read more...]
X-ALT-DESC;FMTTYPE=text/html: <p><a href="https://errastore.com/" rel="noop
 ener" target="_blank">Erra</a> & <a href="https://currentsofficial.com/" re
 l="noopener" target="_blank">Currents</a><br />+ <a href="https://www.caske
 tsofficial.com/" rel="noopener" target="_blank">Caskets</a><br />+ <a href=
 "https://avianaofficial.com/" rel="noopener" target="_blank">Aviana</a></p>
 <p><strong>METALCORE-MANIA</strong></p><p>Im November präsentieren wir das 
 fetteste Metalcore-Package des Jahres 2026. Angeführt wird der gnadenlose T
 our-Tross von den Szene-Giganten <strong>ERRA</strong>\, die mit dem neuen 
 Album „Silence Outlives The Earth“ einen weiteren Meilenstein in ihrer erfo
 lgreichen Karriere setzen. Als Support Acts sorgen <strong>Currents</strong
 >\, <strong>Caskets</strong> und <strong>Aviana</strong> für multiple Coreg
 asmen.</p><p>2009 in Birmingham\, Alabama gegründet\, hat sich die Band <st
 rong>ERRA</strong> voll und ganz dem Progressive Metalcore verschrieben. Mi
 t einer feinen Mischung aus Härte\, Atmosphäre und kosmischer Melancholie g
 ehören ERRA seit Jahren zu den zuverlässigsten Namen des Genres. Technische
  Gitarrenarbeit\, atmosphärische Flächen und der Wechsel aus harschen Screa
 ms und klaren Gesangslinien prägen ihren Stil. Im Sommer 2025 haben ERRA mi
 t „Gore Of Being“ einen ersten Vorgeschmack auf ihr siebtes Album geliefert
 . Nur eine Woche nach dem Release wurde bereits die nächste Single nachgele
 gt: „Echo Sonata“. Der Track gibt einen weiteren Eindruck davon\, in welche
  Richtung sich das Material der Band entwickelt hat. Gitarrist und Sänger J
 esse Cash kommentiert:„‚Echo Sonata‘ fühlt sich wie eine Rückbesinnung für 
 die Band an. Der Song erinnert an den Geist unseres 2016er-Albums ‚Drift‘ –
  etwas\, das wir eigentlich gar nicht beabsichtigt hatten\, aber was unsere
  Freunde sofort bemerkten\, als wir ihnen das Stück vorgespielt haben. Er s
 teht stellvertretend für die Art von Melodie und Emotion\, die wir mit dem 
 neuen Album anstreben.“ Im Januar folgte mit dem Song „Further Eden“ der dr
 itte Streich und die Ankündigung ihres neuen Albums „Silence Outlives The E
 arth“ für den 6. März 2026. „Further Eden“ bringt noch einmal frische Energ
 ie in die Band. Cash: „’Further Eden‘ war ein Song\, den Clint Tustin begon
 nen hat und den wir im Studio gemeinsam weiterentwickelt haben. Die pentato
 nisch geprägten Ansätze verleihen dem Stück eine leichtere Energie\, als wi
 r sie normalerweise einsetzen\, und der Song fühlt sich wie eine frische Fo
 rm des Ausdrucks für die Band an.“ Das aktuelle ERRA-Line-up besteht aus Jo
 seph Thomas Cavey (Vocals)\, Jesse Cash (Gitarre\, Clean Vocals)\, Alex Bal
 lew (Drums)\, Conor Hesse (Bass) und Clint Tustin (Gitarre). Mit „Silence O
 utlives the Earth“ legt die Band ein Album vor\, das auf den bekannten Stär
 ken der Band aufbaut\, dabei aber noch mehr auf Stimmung und Weite setzt. D
 er Sound bleibt technisch versiert\, doch die Songs wirken luftiger und ste
 llenweise nachdenklicher. Statt ausschliesslich auf brachiale Intensität zu
  setzen\, öffnet die Platte immer wieder Raum für Melodie und Atmosphäre. E
 in weiteres Meisterwerk für Fans moderner Metalcore-Produktionen mit progre
 ssiven Einflüssen.</p><p><strong>CURRENTS</strong>: Die Metalcore/Djent-Ban
 d Currents aus Connecticut ist bekannt für ihren düsteren\, atmosphärischen
  Sound mit schweren Breakdowns\, brachialen Riffs\, Djent-Gitarren und melo
 dischen Einschüben\, was auch schon als „wilde Mischung aus Born of Osiris\
 , Fallujah und Make Them Suffer“ beschrieben wurde. Sänger Brian Willes Wec
 hsel zwischen klarem Gesang und Screams ist ebenfalls prägend für den Stil 
 der Band\, die bereits mit Szenegrössen wie August Burns Red\, Parkway Driv
 e oder Fit For A King tourte und für intensive Live-Performances und ehrlic
 he\, oft existenzialistische Texte steht. Im Januar 2026 ist die neue Curre
 nts-EP „All That Follows“ erschienen. „Das sind einige unserer bisherigen L
 ieblingssongs und der Beginn eines neuen Kapitels für uns. Wir haben das se
 hr nah an unser Herz gelassen und unserem Bauchgefühl vertraut\, was wir wi
 rklich wollten. Diese Songs sind eine Übung in Unabhängigkeit\, Experimenti
 erfreude und Zusammenarbeit innerhalb der Band in einem Ausmass\, das wir s
 o noch nicht kannten\,“ sagt Sänger Brian Wille. „Hier erkunden wir Desillu
 sionierung\, Ungleichheit\, Verrat und die Ambiguität des Lebens und seines
  Sinns. Diese Welt kann sowohl ein grossartiger als auch ein schrecklicher 
 Ort sein. Und ob gut oder schlecht\, wir giessen all diese Erfahrungen in u
 nsere Musik. Auch wenn das Ergebnis selten eine fröhliche Geschichte ist\, 
 ist es immer eine positive und befreiende Erfahrung\, das alles mit euch zu
  teilen.“</p><p><strong>CASKETS</strong>: Die englische Stadt Leeds ist die
  Heimat der Band Caskets\, die seit der Bandgründung im Jahr 2018 mit bisla
 ng drei Alben schon mächtig Staub im Post-Hardcore-Sektor aufwirbeln konnte
 . Ihre Songs\, die geschickt Melodie mit Härte\, Eingängigkeit mit Epik und
  Alternative Metal mit Post Hardcore verbinden\, sind wie gemacht für die g
 rossen Bühnen. Nach einer ausverkauften Tour durch Europa und Grossbritanni
 en Anfang 2025\, gefolgt von einer ausgedehnten US-Tournee als Support von 
 Memphis May Fire\, kehren Caskets mit elf neuen Songs zurück\, die mit krac
 henden Riffs und hochfliegenden melodischen Linien gespickt sind. Dieses Al
 bum ist die natürliche Weiterentwicklung des Sounds der Band und ein Zeiche
 n für ihr Wachstum und ihre klangliche Reife über die Jahre hinweg. Nach de
 m Abgang von Gründungsmitglied Christopher McIntosh wurde das neue Album „T
 he Only Heaven You’ll Know“ erstmals in Viererbesetzung\, bestehend aus Mat
 t Flood (Gesang)\, Benji Wilson (Gitarre)\, Craig Robinson (Gitarre) und Ja
 mes Lazenby (Schlagzeug)\, eingespielt. Dies tut dem Resultat jedoch keinen
  Abbruch. Morecore.de schreibt zum neuen Werk: „Die Produktion von ‚The Onl
 y Heaven You’ll Know’ klingt jederzeit nach 2025er Metalcore: Vocals gross\
 , Gitarren fett\, Synth-Layer kinoreif. Handwerklich über jeden Zweifel erh
 aben.“</p><p><strong>AVIANA</strong>: Aus Göteborg stammend\, haben sich Av
 iana als eine der härtesten und zugleich innovativsten Metalcore-Bands Euro
 pas etabliert. 2022 veröffentlichten sie mit dem Longplayer „Corporation“\,
  ein Album\, das cineastische Klanglandschaften mit brutalen Riffs und rohe
 r Emotion verband und die Band in eine dunklere\, ambitioniertere Phase füh
 rte. Auch personell gab es Veränderungen. Das Projekt mutierte vom klassisc
 hen Fünferensemble zu Sänger Joel Holmqvists kreativer Vision. Fortan wurde
  er live von einem maskierten Kollektiv begleitet\, dessen Identität geheim
  blieb. Mit den Singles „Delirium“\, „Father“\, „Storm“\, „Ablaze“ und „Eve
 rmore“ wurde schliesslich die Basis für das nächste Album gelegt\, das die 
 intensive\, atmosphärische und unnachgiebige Energie der Band weiterträgt. 
 Mit „Void“ überschreiten Aviana einmal mehr Genregrenzen und festigen ihren
  Platz unter den Schwergewichten des modernen Metalcore. Das Magazin Metalc
 ore.de konstatiert: „Die Platte strotzt vor unerbittlicher Energie\, die si
 ch in einer meisterhaften Mischung aus wilden Shouts\, eindringlichem Clean
 gesang und messerscharfer Instrumentierung manifestiert. Von Anfang an wird
  klar: Dieses Album ist ein kompromissloses Statement\, das sowohl extreme 
 Härte als auch überraschende harmonische Tiefe bietet.“ Mit „Void“ ist Avia
 na ein Geniestreich gelungen\, der garantiert nicht nur eingefleischte Fans
  begeistert.</p>
CATEGORIES:Metal
LOCATION:Z7
GEO:47.527449;7.694210
ORGANIZER;CN="JHG Shark":MAILTO:webmaster@jhgshark.ch
URL;VALUE=URI:https://artnoir.ch/events/event/erra-and-currents-2026-11-18/
ATTACH;FMTTYPE=image/jpeg:https://artnoir.ch/wp-content/uploads/2026/04/erra-and-currents-2026-11-18.jpg
END:VEVENT
BEGIN:VTIMEZONE
TZID:Europe/Zurich
BEGIN:STANDARD
TZOFFSETFROM:+0200
TZOFFSETTO:+0100
DTSTART:20261025T010000
TZNAME:CET
END:STANDARD
END:VTIMEZONE
END:VCALENDAR
