BEGIN:VCALENDAR
VERSION:2.0
PRODID:-//ARTNOIR//NONSGML Events//EN
CALSCALE:GREGORIAN
X-ORIGINAL-URL:https://artnoir.ch/events/event/
X-WR-CALDESC:ARTNOIR - Events
BEGIN:VEVENT
UID:20260211T1045Z-1770806750.3429-EO-259902-1@10.0.9.48
STATUS:CONFIRMED
DTSTAMP:20260423T215619Z
CREATED:20260207T163813Z
LAST-MODIFIED:20260207T163924Z
DTSTART;TZID=Europe/Zurich:20260404T170000
DTEND;TZID=Europe/Zurich:20260404T235900
SUMMARY: EMO NIGHT – Scream Scene Festival
DESCRIPTION: Brokencyde / Resolve / Call It Off / glitchBABY\n+ Scream Scen
 e Party\nScream Scene – Das Indoor-Festival für alle Emo- und Scene-Kids\nB
 ereit für eine Nacht\, die lauter\, düsterer und emotionaler wird als alles
 \, was wir bisher gemacht haben? Unser erstes Indoor-Festival\, das Scream 
 Scene\, feiert Premiere! Dafür kommen wir zurück ins Dynamo\, mit viel mehr
  im Gepäck\, als letztes Mal. ... [Read more...]
X-ALT-DESC;FMTTYPE=text/html: <p><a href="https://www.brokencyde13.com/" re
 l="noopener" target="_blank">Brokencyde</a> / <a href="https://resolveoffic
 ial.co/" rel="noopener" target="_blank">Resolve</a> / <a href="https://call
 itoff.nl/" rel="noopener" target="_blank">Call It Off</a> / <a href="https:
 //www.instagram.com/glitch_b_a_b_y/" rel="noopener" target="_blank">glitchB
 ABY</a><br />+ Scream Scene Party</p><p><strong>Scream Scene – Das Indoor-F
 estival für alle Emo- und Scene-Kids</strong></p><p>Bereit für eine Nacht\,
  die lauter\, düsterer und emotionaler wird als alles\, was wir bisher gema
 cht haben? Unser erstes Indoor-Festival\, das Scream Scene\, feiert Premier
 e! Dafür kommen wir zurück ins Dynamo\, mit viel mehr im Gepäck\, als letzt
 es Mal.</p><p>Ein Abend voller rauer Gitarren\, mitreissender Drums und… Ta
 ylor Swift. Genau\, Taylor\, wie du sie noch nie gehört hast – von All Too 
 Well bis So High School\; Energie\, Emotionen und Nostalgie in einer explos
 iven Live-Show von niemand Geringerem als <strong>Call It Off</strong> – de
 n Vorreitern der niederländischen Pop-Punk-Szene. Taylors Musik ist oft im 
 Bandbus zu hören oder wenn die Band vor Shows noch etwas entspannt zusammen
 sitzt. In einem solchen Moment wurde der Grundstein gelegt: «Taylors Songs 
 sind einfach so gut gemacht\, dass wir alle einmal aus Spass eine kurze Cov
 erversion davon machen wollten. Das fanden wir so cool\, dass wir sie in de
 n sozialen Medien geteilt haben.» Eine endlose Flut von Likes\, Herzchen un
 d Anfragen nach weiteren Taylor-Covers überwältigte die Band ein wenig. Kau
 m fertig mit den Shows zur Promotion ihres Albums mit eigenen Songs Not Ano
 ther Sad Album\, ist es diesen Herbst Zeit für Taylor: Im November und Deze
 mber tourt Call It Off mit ihrer Eras tour goes poppunk durch Belgien und d
 ie Niederlande. Ein Abend voller Taylor-Songs\, aber dann auf Call It Off-A
 rt: bearbeitete Versionen von Taylors Hits mit rauen Gitarren\, pumpenden D
 rums und einer ansteckenden Menge an Energie.</p><p>Rund um die Shows sorge
 n wir natürlich noch für weitere Unterhaltung und Collabs.</p><p>Und als wä
 re das noch nicht genug\, endet der Abend nicht nach den Shows: Bei der off
 iziellen Scream Scene Party drehen wir richtig auf! Hier gibt es Emo Night 
 in voller Form\, denn wir feiern die grössten Emo-Hymnen und alles darüber 
 hinaus. Von bittersüssen Bangers bis zu den Songs\, die dir damals das Herz
  rausgerissen haben.</p><p>Ob du in Skinny Jeans\, Eyeliner\, Bandshirt ode
 r einfach in bester Stimmung auftauchst\, Scream Scene wird zum Treffpunkt 
 für alle\, die die Szene geprägt hat und für alle\, die sie immer noch lieb
 en.</p><p>Don’t miss the scream. Don’t miss the scene.</p><p>Sicher dir jet
 zt schon Ticket zu vergünstigtem Preis!</p>
CATEGORIES:Metal,Punk
LOCATION:Dynamo
GEO:47.383312;8.539341
ORGANIZER;CN="JHG Shark":MAILTO:webmaster@jhgshark.ch
URL;VALUE=URI:https://artnoir.ch/events/event/emo-night-scream-scene-festiv
 al-2026-04-04/
ATTACH;FMTTYPE=image/jpeg:https://artnoir.ch/wp-content/uploads/2026/02/emo-night-scream-scene-festival-2026-04-04.jpg
END:VEVENT
BEGIN:VTIMEZONE
TZID:Europe/Zurich
BEGIN:DAYLIGHT
TZOFFSETFROM:+0100
TZOFFSETTO:+0200
DTSTART:20260329T010000
TZNAME:CEST
END:DAYLIGHT
END:VTIMEZONE
END:VCALENDAR
