BEGIN:VCALENDAR
VERSION:2.0
PRODID:-//ARTNOIR//NONSGML Events//EN
CALSCALE:GREGORIAN
X-ORIGINAL-URL:https://artnoir.ch/events/event/
X-WR-CALDESC:ARTNOIR - Events
BEGIN:VEVENT
UID:20260403T0734Z-1775201653.3744-EO-262309-1@10.0.9.48
STATUS:CONFIRMED
DTSTAMP:20260423T234636Z
CREATED:20260327T142145Z
LAST-MODIFIED:20260327T142501Z
DTSTART;TZID=Europe/Zurich:20260712T153000
DTEND;TZID=Europe/Zurich:20260712T163000
SUMMARY: Duran Duran & Hurts
DESCRIPTION: Duran Duran & Hurts\nGlam und zeitlose Hits auf der Piazza Gra
 nde\nDuran Duran feiern mit zeitlosen Hits und mitreissenden Refrains wie «
 Hungry Like the Wolf»\, «Ordinary World» oder «Rio» ihr Debüt auf der Piazz
 a Grande in Locarno. Die britische Musikgruppe\, die in den frühen 1980er J
 ahren zum Subgenre New Wave gehörte\, bringen ihren Pop‑Rock mit unverkennb
 arem Dance‑Feeling gemixt mit Synthesizern nach Locarno. ... [Read more...]
X-ALT-DESC;FMTTYPE=text/html: <p><a href="https://duranduran.com/" rel="noo
 pener" target="_blank">Duran Duran</a> & <a href="https://informationhurts.
 com/" rel="noopener" target="_blank">Hurts</a></p><p><strong>Glam und zeitl
 ose Hits auf der Piazza Grande</strong></p><p><strong>Duran Duran</strong> 
 feiern mit zeitlosen Hits und mitreissenden Refrains wie «Hungry Like the W
 olf»\, «Ordinary World» oder «Rio» ihr Debüt auf der Piazza Grande in Locar
 no. Die britische Musikgruppe\, die in den frühen 1980er Jahren zum Subgenr
 e New Wave gehörte\, bringen ihren Pop‑Rock mit unverkennbarem Dance‑Feelin
 g gemixt mit Synthesizern nach Locarno. Die weltweit erfolgreiche Band\, di
 e zu den prägenden Vorreitern jener Zeit zählt\, wurde 2022 in die Rock and
  Roll Hall of Fame aufgenommen. Über die Jahrzehnte hinweg verkauften sie m
 ehr als 100 Millionen Alben\, erhielten einen Stern auf dem Hollywood Walk 
 of Fame und zahlreiche weitere Auszeichnungen.</p><p>Duran Duran sind bekan
 nt dafür\, in ihrer Musik mit künstlerischen\, ästhetischen und emotionalen
  Extremen zu spielen. Ihre stetige Suche nach dem Neuen und ihr Drang zur I
 nnovation prägen ihr Schaffen bis heute.</p><p>Sie waren jedoch nicht nur e
 in prägender Teil der Musikindustrie. Duran Duran gelten auch als stilpräge
 nde Ikonen mit einem ausgeprägten Gespür für exzentrische Mode und ihre auf
 wendig produzierten Musikvideos. In der MTV‑Ära liefen ihre Clips in Dauers
 chleife und prägten eine ganze Generation.</p><p>Die britische Synthiepop-B
 and <strong>Hurts</strong> kommt erstmals auf die Piazza Grande. Ihre steil
 e Musikkarriere unter dem Namen Hurts begann 2010 mit ihrem allerersten Liv
 e-Auftritt in Berlin. Die Musik orientiert sich stark am Sound der 1980er-J
 ahre mit musikalischen Vorbildern wie den Pet Shop Boys\, Depeche Mode und 
 vielen mehr. Aus dieser Inspiration haben sie einen ganz eigenen\, wiederer
 kennbaren Stil mit melancholischem Synth-Pop\, dramatischen Texten und Drum
 computer entwickelt. Damit gehörten sie auch zu den erfolgreicheren britisc
 hen Electro-Pop-Acts der 2010er-Jahre. Mit den Hits «Wonderful Life» und «H
 urts» starteten sie dann so richtig durch. Dramatischer\, dunkler Pop errei
 chte damit die Massen in Europa. Hurts sind auch für ihre düstere Ästhetik 
 und cineastischen Videos bekannt. Auf der Bühne gehört ihr eleganter Look m
 it Anzug und minimalistischer Ästhetik immer dazu. Der perfekte Auftakt\, u
 m danach noch tiefer in die New Wave einzutauchen und zwar mit den Legenden
  selbst: Duran Duran. Freut euch auf viele Synthesizer\, eine kraftvolle St
 imme und ein starkes Lichtdesign auf der Piazza Grande.</p>
CATEGORIES:Pop,Wave
LOCATION:Piazza Grande
GEO:46.169574;8.795486
ORGANIZER;CN="JHG Shark":MAILTO:webmaster@jhgshark.ch
URL;VALUE=URI:https://artnoir.ch/events/event/duran-duran-and-hurts-2026-07
 -12/
ATTACH;FMTTYPE=image/jpeg:https://artnoir.ch/wp-content/uploads/2026/03/duran-duran-and-hurts-2026-07-12.jpg
END:VEVENT
BEGIN:VTIMEZONE
TZID:Europe/Zurich
BEGIN:DAYLIGHT
TZOFFSETFROM:+0100
TZOFFSETTO:+0200
DTSTART:20260329T010000
TZNAME:CEST
END:DAYLIGHT
END:VTIMEZONE
END:VCALENDAR
