BEGIN:VCALENDAR
VERSION:2.0
PRODID:-//ARTNOIR//NONSGML Events//EN
CALSCALE:GREGORIAN
X-ORIGINAL-URL:https://artnoir.ch/events/event/
X-WR-CALDESC:ARTNOIR - Events
BEGIN:VEVENT
UID:20250402T1848Z-1743619721.0478-EO-243817-1@10.0.9.22
STATUS:CONFIRMED
DTSTAMP:20260423T234507Z
CREATED:20250331T183925Z
LAST-MODIFIED:20251120T141410Z
DTSTART;TZID=Europe/Zurich:20261021T190000
DTEND;TZID=Europe/Zurich:20261021T223000
SUMMARY: Dub Pistols
DESCRIPTION: Dub Pistols\nGegründet in den 1990er Jahren während der Big Be
 at-Ära\, haben die Dub Pistols Höhen und Tiefen überstanden und stets Musik
  veröffentlicht\, die Rock-\, Dub- und elektronische Einflüsse vereint. Nac
 hdem sie kurz davor waren\, auseinanderzufallen\, bereitet sich die Band nu
 n auf ihr zehntes Album „Enter The Sound“ vor\, das Anfang 2025 erscheinen 
 wird. Mit einer treuen Fangemeinde\, zahlreichen Kollaborationen und einem 
 jährlichen Festival sind die Dubs nach wie vor nicht aufzuhalten. ... [Read
  more...]
X-ALT-DESC;FMTTYPE=text/html: <p><a href="https://dubpistolsmusic.co.uk/" r
 el="noopener" target="_blank">Dub Pistols</a></p><p>Gegründet in den 1990er
  Jahren während der Big Beat-Ära\, haben die Dub Pistols Höhen und Tiefen ü
 berstanden und stets Musik veröffentlicht\, die Rock-\, Dub- und elektronis
 che Einflüsse vereint. Nachdem sie kurz davor waren\, auseinanderzufallen\,
  bereitet sich die Band nun auf ihr zehntes Album "Enter The Sound" vor\, d
 as Anfang 2025 erscheinen wird. Mit einer treuen Fangemeinde\, zahlreichen 
 Kollaborationen und einem jährlichen Festival sind die Dubs nach wie vor ni
 cht aufzuhalten. Erste Hits wie "Point Blank" und "Six Million Ways to Live
 " brachten ihnen weltweite Anerkennung\, und im Laufe der Jahre teilten sie
  sich die Bühne mit Blink 182\, Korn und Limp Bizkit. Zudem haben sie mit L
 egenden wie Terry Hall und Rodney P. zusammengearbeitet. Ihre kommenden Pro
 jekte\, darunter ein Live-Reggae-Album und eine Dokumentation\, versprechen
  noch mehr.</p>
CATEGORIES:Anderes,Rock
LOCATION:Exil
GEO:47.388231;8.519562
ORGANIZER;CN="JHG Shark":MAILTO:webmaster@jhgshark.ch
URL;VALUE=URI:https://artnoir.ch/events/event/dub-pistols-2026-10-21/
ATTACH;FMTTYPE=image/jpeg:https://artnoir.ch/wp-content/uploads/2025/03/dub-pistols-2025-11-20.jpg
END:VEVENT
BEGIN:VTIMEZONE
TZID:Europe/Zurich
BEGIN:DAYLIGHT
TZOFFSETFROM:+0100
TZOFFSETTO:+0200
DTSTART:20260329T010000
TZNAME:CEST
END:DAYLIGHT
END:VTIMEZONE
END:VCALENDAR
