BEGIN:VCALENDAR
VERSION:2.0
PRODID:-//ARTNOIR//NONSGML Events//EN
CALSCALE:GREGORIAN
X-ORIGINAL-URL:https://artnoir.ch/events/event/
X-WR-CALDESC:ARTNOIR - Events
BEGIN:VEVENT
UID:20251117T1749Z-1763401789.7501-EO-256409-1@10.0.9.48
STATUS:CONFIRMED
DTSTAMP:20260423T232550Z
CREATED:20251117T112520Z
LAST-MODIFIED:20251117T112929Z
DTSTART;TZID=Europe/Zurich:20270619T153000
DTEND;TZID=Europe/Zurich:20270619T223000
SUMMARY: Die Toten Hosen
DESCRIPTION: Die Toten Hosen\nAm Samstag\, 19. Juni 2027 spielen Die Toten 
 Hosen eine exklusive Show im Stadion Wankdorf Bern im Rahmen ihrer verlänge
 rten Trink aus! Wir müssen gehen-Tour.\nDie Vorfreude ist riesig: Fast 900’
 000 Fans werden auf der grossen Open-Air- und Stadiontour im nächsten Somme
 r mit den Toten Hosen feiern. «Weil uns zahlreiche Wünsche und Bitten um Ko
 nzerte aus Regionen erreicht haben\, die bislang nicht auf dem Reiseplan st
 anden\, ... [Read more...]
X-ALT-DESC;FMTTYPE=text/html: <p><a href="https://www.dth.de/">Die Toten Ho
 sen</a></p><p>Am Samstag\, 19. Juni 2027 spielen Die Toten Hosen eine exklu
 sive Show im Stadion Wankdorf Bern im Rahmen ihrer verlängerten Trink aus! 
 Wir müssen gehen-Tour.</p><p>Die Vorfreude ist riesig: Fast 900’000 Fans we
 rden auf der grossen Open-Air- und Stadiontour im nächsten Sommer mit den T
 oten Hosen feiern. «Weil uns zahlreiche Wünsche und Bitten um Konzerte aus 
 Regionen erreicht haben\, die bislang nicht auf dem Reiseplan standen\, leg
 en wir noch einmal nach. Die grosse Resonanz auf unsere Tourankündigung hat
  uns wirklich berührt. Deshalb haben wir uns entschlossen\, noch einige Zus
 atzshows in ausgewählten Städten zu spielen»\, so Campino zu den finalen Te
 rminen der Trink Aus! Wir Müssen Gehen-Tour.</p><p>Tage wie diese\, Wannsee
 \, Hier kommt Alex\, Alles aus Liebe\, die Liste ikonischer Punk-Hymnen der
  Toten Hosen ist beinahe endlos. Nach über vier Jahrzehnten auf den Bühnen 
 dieser Welt beweist die Band um Campino eindrucksvoll\, dass Punkrock keine
  Altersfrage ist. 2026 beginnt für die Band ein neues Kapitel\, welches nun
  bis in den Sommer 2027 weitergeht und das mit einer grossen Tour ausgiebig
  gefeiert wird!</p><p>«Im fünften Jahrzehnt nach unserer Gründung verspüren
  wir eine Lust und einen Hunger auf Konzerte wie selten zuvor. Vielleicht l
 iegt das auch an unserer Lebenssituation: Wir wissen\, dass wir mit unserer
  Karriere auf der Zielgeraden sind und solche Reisen irgendwann auch ein En
 de haben. Deshalb wollen wir noch einmal mit alten und neuen Liedern loszie
 hen und jeden Abend so spielen\, als wäre es unser letzter!»</p><p>Bern dar
 f sich auf ein Open-Air der Extraklasse freuen – mit Pyro\, Power und purer
  Gänsehaut!</p><p>Tickets sind via Ticketcorner.ch oder dth.de erhältlich.<
 /p>
CATEGORIES:Punk,Rock
LOCATION:Stadion Wankdorf
GEO:46.962130;7.464974
ORGANIZER;CN="JHG Shark":MAILTO:webmaster@jhgshark.ch
URL;VALUE=URI:https://artnoir.ch/events/event/die-toten-hosen-2027-06-19/
ATTACH;FMTTYPE=image/jpeg:https://artnoir.ch/wp-content/uploads/2025/11/die-toten-hosen-2027-06-19.jpg
END:VEVENT
BEGIN:VTIMEZONE
TZID:Europe/Zurich
BEGIN:DAYLIGHT
TZOFFSETFROM:+0100
TZOFFSETTO:+0200
DTSTART:20270328T010000
TZNAME:CEST
END:DAYLIGHT
END:VTIMEZONE
END:VCALENDAR
