BEGIN:VCALENDAR
VERSION:2.0
PRODID:-//ARTNOIR//NONSGML Events//EN
CALSCALE:GREGORIAN
X-ORIGINAL-URL:https://artnoir.ch/events/event/
X-WR-CALDESC:ARTNOIR - Events
BEGIN:VEVENT
UID:20250521T0430Z-1747801823.234-EO-246331-1@10.0.9.22
STATUS:CONFIRMED
DTSTAMP:20260423T234637Z
CREATED:20250515T055031Z
LAST-MODIFIED:20260306T133835Z
DTSTART;TZID=Europe/Zurich:20260620T153000
DTEND;TZID=Europe/Zurich:20260620T223000
SUMMARY: Die Toten Hosen
DESCRIPTION: Die Toten Hosen\n+ Beatsteaks\n+ Grade 2\nTrink Aus! Wir müsse
 n Gehen\nNach drei Jahren Stille braut sich ein Sturm zusammen – Die Toten 
 Hosen sind zurück! Am Samstag\, 20. Juni 2026 spielt die Kult-Band eine exk
 lusive Show im Stadion Letzigrund Zürich im Rahmen ihrer Trink aus! Wir müs
 sen gehen-Tour.\nAn Tagen wie diese\, Wannsee\, Hier kommt Alex\, ... [Read
  more...]
X-ALT-DESC;FMTTYPE=text/html: <p><a href="https://www.dth.de/" rel="noopene
 r" target="_blank">Die Toten Hosen</a><br />+ <a href="https://beatsteaks.c
 om/" rel="noopener" target="_blank">Beatsteaks</a><br />+ <a href="https://
 grade2official.co.uk/" rel="noopener" target="_blank">Grade 2</a></p><p><st
 rong>Trink Aus! Wir müssen Gehen</strong></p><p>Nach drei Jahren Stille bra
 ut sich ein Sturm zusammen – Die Toten Hosen sind zurück! Am Samstag\, 20. 
 Juni 2026 spielt die Kult-Band eine exklusive Show im Stadion Letzigrund Zü
 rich im Rahmen ihrer Trink aus! Wir müssen gehen-Tour.</p><p>An Tagen wie d
 iese\, Wannsee\, Hier kommt Alex\, Alles aus Liebe\, die Liste ikonischer P
 unk-Hymnen der Toten Hosen ist beinahe endlos. Nach über vier Jahrzehnten a
 uf den Bühnen dieser Welt beweist die Band um Campino eindrucksvoll\, dass 
 Punkrock keine Altersfrage ist. 2026 beginnt für die Band ein neues Kapitel
  und das muss mit einer grossen Sommer-Tour ausgiebig gefeiert werden!</p><
 p>«Im fünften Jahrzehnt nach unserer Gründung verspüren wir eine Lust und e
 inen Hunger auf Konzerte wie selten zuvor. Vielleicht liegt das auch an uns
 erer Lebenssituation: Wir wissen\, dass wir mit unserer Karriere auf der Zi
 elgeraden sind und solche Reisen irgendwann auch ein Ende haben. Deshalb wo
 llen wir noch einmal mit alten und neuen Liedern losziehen und jeden Abend 
 so spielen\, als wäre es unser letzter!»</p><p>Zürich darf sich auf ein Ope
 n Air der Extraklasse freuen – mit Pyro\, Power und purer Gänsehaut!</p>
CATEGORIES:Punk
LOCATION:Stadion Letzigrund
GEO:47.382960;8.502802
ORGANIZER;CN="Nicole Wild":MAILTO:nic.wild@yahoo.com
URL;VALUE=URI:https://artnoir.ch/events/event/die-toten-hosen-2026-06-20/
ATTACH;FMTTYPE=image/jpeg:https://artnoir.ch/wp-content/uploads/2025/05/die-toten-hosen-2026-06-20.jpg
END:VEVENT
BEGIN:VTIMEZONE
TZID:Europe/Zurich
BEGIN:DAYLIGHT
TZOFFSETFROM:+0100
TZOFFSETTO:+0200
DTSTART:20260329T010000
TZNAME:CEST
END:DAYLIGHT
END:VTIMEZONE
END:VCALENDAR
