BEGIN:VCALENDAR
VERSION:2.0
PRODID:-//ARTNOIR//NONSGML Events//EN
CALSCALE:GREGORIAN
X-ORIGINAL-URL:https://artnoir.ch/events/event/
X-WR-CALDESC:ARTNOIR - Events
BEGIN:VEVENT
UID:20260415T1941Z-1776282093.6929-EO-263136-1@10.0.9.48
STATUS:CONFIRMED
DTSTAMP:20260423T231837Z
CREATED:20260414T175531Z
LAST-MODIFIED:20260414T175729Z
DTSTART;TZID=Europe/Zurich:20270519T173000
DTEND;TZID=Europe/Zurich:20270519T223000
SUMMARY: Die Ärzte
DESCRIPTION: Die Ärzte\nEine Gänsehaut nach dem Anderen!\nManchmal kommen s
 ie wieder. Drei die ärzte mit dem Kontrabass stehen auf der Bühne und erzäh
 len sich was. Mit Tschingderassabum und Täterätä. Mit Nachhaltigkeitskonzep
 t und Sozialticket. Mit La-Olas und Handylichtkerzenmeer. Mit Wall Of Death
  und Distinktionsgewinn. Mit Gänsehaut und Freudentränen. Am Ende sind alle
  glücklich. Mit gutem Gewissen. Versprochen.\nDer Vorverkauf für „die ärzte
 : Eine Gänsehaut nach dem andern! ... [Read more...]
X-ALT-DESC;FMTTYPE=text/html: <p><a href="https://www.bademeister.com/" rel
 ="noopener" target="_blank">Die Ärzte</a></p><p><strong>Eine Gänsehaut nach
  dem Anderen!</strong></p><p>Manchmal kommen sie wieder. Drei die ärzte mit
  dem Kontrabass stehen auf der Bühne und erzählen sich was. Mit Tschingdera
 ssabum und Täterätä. Mit Nachhaltigkeitskonzept und Sozialticket. Mit La-Ol
 as und Handylichtkerzenmeer. Mit Wall Of Death und Distinktionsgewinn. Mit 
 Gänsehaut und Freudentränen. Am Ende sind alle glücklich. Mit gutem Gewisse
 n. Versprochen.</p><p>Der Vorverkauf für „die ärzte: Eine Gänsehaut nach de
 m andern! – Tour 2027“ startet am 15. April 2026 um 10 Uhr.</p><p>Da die Ba
 nd möglichst allen Fans den Besuch ihrer Konzerte ermöglichen will\, gibt e
 s in Zusammenarbeit mit KulturLegi Stehplatz Tickets zum Preis von CHF 25.-
 . Wer Anspruch auf ein solches Ticket hat\, erfährt man hier <a href="https
 ://www.kulturlegi.ch/gesamte-schweiz/kule-beantragen/was-ist-die-kulturlegi
 " rel="noopener" target="_blank">https://www.kulturlegi.ch/gesamte-schweiz/
 kule-beantragen/was-ist-die-kulturlegi</a>.</p>
CATEGORIES:Punk
LOCATION:Hallenstadion
GEO:47.411425;8.551685
ORGANIZER;CN="JHG Shark":MAILTO:webmaster@jhgshark.ch
URL;VALUE=URI:https://artnoir.ch/events/event/die-aerzte-2027-05-19/
ATTACH;FMTTYPE=image/jpeg:https://artnoir.ch/wp-content/uploads/2026/04/die-aerzte-2027-05-19.jpg
END:VEVENT
BEGIN:VTIMEZONE
TZID:Europe/Zurich
BEGIN:DAYLIGHT
TZOFFSETFROM:+0100
TZOFFSETTO:+0200
DTSTART:20270328T010000
TZNAME:CEST
END:DAYLIGHT
END:VTIMEZONE
END:VCALENDAR
