BEGIN:VCALENDAR
VERSION:2.0
PRODID:-//ARTNOIR//NONSGML Events//EN
CALSCALE:GREGORIAN
X-ORIGINAL-URL:https://artnoir.ch/events/event/
X-WR-CALDESC:ARTNOIR - Events
BEGIN:VEVENT
UID:20260406T2017Z-1775506636.3625-EO-262637-1@10.0.9.48
STATUS:CONFIRMED
DTSTAMP:20260423T195258Z
CREATED:20260403T190014Z
LAST-MODIFIED:20260406T112840Z
DTSTART;TZID=Europe/Zurich:20261107T180000
DTEND;TZID=Europe/Zurich:20261108T050000
SUMMARY: Der Schwarze Ball
DESCRIPTION: Suicide Commando (BE)\n+ Calva Y Nada (DE)\n+ Klangstabil (DE)
 \n+ Yakima Jera (DE)\n+ 3 Dance Floors 12 DJs\nBereits bestätigt sind Suici
 de Commando (BE)\, seit Jahrzehnten eine treibende Kraft im Electro-Industr
 ial\, sowie mit Calva Y Nada (DE) und Klangstabil (DE) zwei prägende Acts d
 er 90er – Calva Y Nada mit markant düsterem Electro-Sound\, ... [Read more.
 ..]
X-ALT-DESC;FMTTYPE=text/html: <p><a href="http://www.suicidecommando.be/" r
 el="noopener" target="_blank">Suicide Commando</a> (BE)<br />+ <a href="htt
 ps://www.facebook.com/calvaynadaofficial" rel="noopener" target="_blank">Ca
 lva Y Nada</a> (DE)<br />+ <a href="https://www.klangstabil.com/" rel="noop
 ener" target="_blank">Klangstabil</a> (DE)<br />+ <a href="https://www.inst
 agram.com/yakimajera/" rel="noopener" target="_blank">Yakima Jera</a> (DE)<
 br />+ 3 Dance Floors 12 DJs</p><p>Bereits bestätigt sind <strong>Suicide C
 ommando </strong>(BE)\, seit Jahrzehnten eine treibende Kraft im Electro-In
 dustrial\, sowie mit <strong>Calva Y Nada</strong> (DE) und <strong>Klangst
 abil</strong> (DE) zwei prägende Acts der 90er – Calva Y Nada mit markant d
 üsterem Electro-Sound\, Klangstabil mit reduziertem Industrial und konzepti
 oneller Tiefe. Ergänzt wird das Line-up durch <strong>Yakima Jera</strong> 
 (DE)\, die minimalistischen Darkwave mit elektronischen Flächen\, Wave-Gita
 rren und markantem Gesang zu dichten\, melancholischen Klangwelten verweben
 .</p><p>Zu den bereits bestätigten Bands werden sich in den nächsten Monate
 n drei weitere Acts langsam aus dem Schatten lösen und dem offiziellen Prog
 ramm hinzugefügt. Die schwarz beseelte Menukarte im nächsten November garan
 tiert ein Schauspiel aus musikalischer Völlerei und schwarzen Beats.</p><p>
 <span style="color: #c86079\;">Ein <strong>ARTNOIR</strong> Partner-Event</
 span></p>
CATEGORIES:Electro,Partner-Event,Wave
LOCATION:X-TRA
GEO:47.384261;8.532491
ORGANIZER;CN="JHG Shark":MAILTO:webmaster@jhgshark.ch
URL;VALUE=URI:https://artnoir.ch/events/event/der-schwarze-ball-2026-11-07/
ATTACH;FMTTYPE=image/jpeg:https://artnoir.ch/wp-content/uploads/2026/04/der-schwarze-ball-2026-11-07.jpg
END:VEVENT
BEGIN:VTIMEZONE
TZID:Europe/Zurich
BEGIN:STANDARD
TZOFFSETFROM:+0200
TZOFFSETTO:+0100
DTSTART:20261025T010000
TZNAME:CET
END:STANDARD
END:VTIMEZONE
END:VCALENDAR
