BEGIN:VCALENDAR
VERSION:2.0
PRODID:-//ARTNOIR//NONSGML Events//EN
CALSCALE:GREGORIAN
X-ORIGINAL-URL:https://artnoir.ch/events/event/
X-WR-CALDESC:ARTNOIR - Events
BEGIN:VEVENT
UID:20251104T2038Z-1762288708.6137-EO-255403-1@10.0.9.48
STATUS:CONFIRMED
DTSTAMP:20260423T201836Z
CREATED:20251027T114339Z
LAST-MODIFIED:20260403T092714Z
DTSTART;TZID=Europe/Zurich:20260403T180000
DTEND;TZID=Europe/Zurich:20260404T040000
SUMMARY: Der Schwarze Ball
DESCRIPTION: IAMX (GB)\n+ Forced To Mode (DE)\n+ She Past Away (TR)\n+ Trai
 trs (CA)\n+ Emmon (SE)\n+ aux animaux (SE)\n+ Lone Assembly (CH)\n+ Party a
 uf 3 Floors mit 12 DJS\nAm 3. April 2026 findet im X-TRA Zürich der nächste
  Schwarze Ball statt. 7 Bands\, 2 Stages\, 12 DJs und 3 Dance Floors machen
  die Nacht zum Fixpunkt der dunklen Szene. ... [Read more...]
X-ALT-DESC;FMTTYPE=text/html: <p><a href="https://iamxmusic.com/" target="_
 blank" rel="noopener">IAMX</a> (GB)<br />+ <a href="https://forcedtomode.de
 /" target="_blank" rel="noopener">Forced To Mode</a> (DE)<br />+ <a href="h
 ttps://shepastaway.org/" target="_blank" rel="noopener">She Past Away</a> (
 TR)<br />+ <a href="https://www.facebook.com/traitrs/" target="_blank" rel=
 "noopener">Traitrs</a> (CA)<br />+ <a href="https://www.facebook.com/emmons
 weden/" target="_blank" rel="noopener">Emmon</a> (SE)<br />+ <a href="https
 ://www.facebook.com/auxanimaux/" target="_blank" rel="noopener">aux animaux
 </a> (SE)<br />+ <a href="https://www.instagram.com/loneassembly/" target="
 _blank" rel="noopener">Lone Assembly</a> (CH)<br />+ Party auf 3 Floors mit
  12 DJS</p><p>Am 3. April 2026 findet im X-TRA Zürich der nächste Schwarze 
 Ball statt. 7 Bands\, 2 Stages\, 12 DJs und 3 Dance Floors machen die Nacht
  zum Fixpunkt der dunklen Szene.</p><p>Chris Corner’s Weg zu <strong>IAMX</
 strong> war theatralisch\, transformativ und zutiefst persönlich. Vom Durch
 bruch mit Sneaker Pimps bis zur Gründung von IAMX sprengt er seit über zwan
 zig Jahren Genregrenzen und hinterfragt Identität mit elektronischer Experi
 mentierfreude\, Punk-Energie und intimer Lyrik. Elf Studioalben später krei
 st sein Werk um Themen wie Identität\, Sexualität\, mentale Gesundheit und 
 existenzielle Sehnsucht.</p><p>Das aktuelle Album “Fault Lines²” (August 20
 24) erreichte Platz 1 der Deutschen Alternative Charts und hielt sich dort 
 sechs Wochen. Offen spricht Corner über Depression\, Schlaflosigkeit und Au
 tismus und engagiert sich gegen die Stigmatisierung psychischer Erkrankunge
 n.</p><p><strong>Forced To Mode</strong> gelten als die „weltbeste Depeche-
 Mode-Coverband“ (u. a. Sonic Seducer) und begeistern seit Jahren in 18 Länd
 ern Europas. Presse und Publikum sprechen von Tribute-Shows einer eigenen L
 iga – über 4 Millionen YouTube-Views und eine aussergewöhnlich starke Fanba
 se unterstreichen das. Ihre energiegeladene Live-Performance\, die verblüff
 end originalnahen Stimmen und die kompromisslose Liebe zum Sound-Detail mac
 hen jedes Konzert intensiv und authentisch.</p><p>Mit wechselnden Setlists\
 , selten gespielten Songs sowie besonderen Motto- und Akustikshows lassen d
 ie drei Berliner seit 2011 bei über 500 Konzerten den Spirit der ikonischen
  Depeche-Mode-Ära eindrucksvoll aufleben.</p><p><strong>She Past Away</stro
 ng> ist ein Dark-Wave-/Post-Punk-Duo aus der Türkei\, bestehend aus Volkan 
 Caner (Gesang\, Gitarre\, Songwriting) und Doruk Öztürkcan (Drums\, Synths\
 , Produktion). Mit der Verbindung von old-school Synth-Ästhetik und reduzie
 rtem Gitarrensound formten sie einen eigenen Stil – getragen von minimalist
 ischer\, türkisch gesungener Poesie\, die Publikum und Dancefloor in einen 
 dichten\, epischen Sog zieht.</p><p>She Past Away ist ein hypnotischer Ausb
 ruch sentimentaler Anspannung – persönlich und zugleich universell\, zwisch
 en Nihilismus\, Existenzfragen und nächtlicher Katharsis.</p><p><strong>TRA
 ITRS</strong> zählen zu den prägendsten Duos der modernen Goth-Szene. 2024 
 standen sie mit internationalen Tourneen\, Millionen Streams und dem Featur
 e ihres Songs „Thin Flesh“ im Remake von The Crow im Fokus.</p><p>Ihr Sound
  aus eisigen Gitarren\, melancholischen Synths und treibenden Drum-Machines
  verbindet den Geist klassischer Post-Punk-Bands mit klarer Gegenwart. Gegr
 ündet 2015 in Toronto\, sorgten sie mit Butcher’s Coin (2018) für ihren Dur
 chbruch\; Horses in the Abattoir (2021) führte u. a. die DAC-Charts an. Ihr
  neues Album erscheint am 13. März 2026.</p><p>Emma Nylén setzte sich mit i
 hrem 2001 gegründeten Projekt <strong>Emmon</strong> rasch an die Spitze de
 s schwedischen Electroclash. Mit explosiver One-Woman-Show\, mitreissenden 
 DJ-Gigs und Remixen bekannter Acts wurde sie zur schwedischen Electro-Queen
 \, veröffentlichte mehrere Alben und spielte zahlreiche Tourneen sowie Club
 - und Festivalshows.</p><p>Während der Pandemie kehrte sie kreativ zu ihren
  Wurzeln zurück – zum Electroclash-Sound der 00er\, kombiniert mit progress
 iven Old-School-Synths und postmoderner Produktion. 2023 wurde Emmon als be
 ster Synth/Electro-Act mit dem schwedischen Alternative Music Award ausgeze
 ichnet.</p><p><strong>aux animaux</strong> ist eine in Stockholm lebende Da
 rkwave-Künstlerin mit Wurzeln in Istanbul. Inspiriert von 80s-Dark-Wave\, G
 oth-Bands\, Okkultismus und Horrorfilmen erschafft sie einen düsteren\, eig
 enständigen Sound. Live singt sie und wechselt zwischen Bass und Theremin –
  jenem berührungslos gespielten Instrument\, das sie als ihre persönliche Q
 uelle der Magie versteht.</p><p><strong>Lone Assembly</strong> ist ein Schw
 eizer Quartett zwischen New Wave\, romantischem Synthpop und düster-melanch
 olischem Post-Punk. Mit der Debüt-EP “That Never Happened” (2024) verbinden
  sie die unheimliche Anziehungskraft der 80er mit präzise ausgearbeiteter\,
  moderner Produktion. Themen wie unverarbeitete Trauer\, Zurückweisung und 
 innere Unsicherheit verdichten sie zu kraftvollen Songs\, geprägt von Cold-
 Wave-Einflüssen und zeitgenössischer Schärfe.</p><p>Timetable:</p><p><stron
 g>Main Stage</strong>:<br />19:00 – 20:00 TRAITRS<br />20:15 – 21:15 She Pa
 st Away<br />21:45 – 23:00 Forced To Mode<br />23:45 – 01:15 IAMX</p><p><st
 rong>Luna Stage</strong>:<br />21:15 – 22:15 aux animaux<br />23:15 – 00:15
  Emmon<br />01:00 – 02:00 Lone Assembly</p><p><strong>MTM Floor</strong>:<b
 r />01:15 – 02:15 M<br />02:15 – 03:45 Irrlicht & Simone<br />03:45 – 05:00
  Jena & Soro</p><p><strong>Post-Punk Division</strong> (Forum):<br />21:00 
 – 03:00 Grau & Majka\, Subton\, Dyvox</p><p><strong>Electro Floor </strong>
 (Podium):<br />22:00 – 23:30 V404<br />23:30 – 01:00 Silent Batbeat & Anubi
 s<br />01:00 – 02:00 Medea & Grim de Mortem<br />02:00 – 03:00 Eisenberg<br
  />03:00 – 04:00 Medea & Grim de Mortem</p><p><span style="color: #c86079\;
 ">Ein <strong>ARTNOIR</strong> Partner-Event</span></p>
CATEGORIES:Electro,Partner-Event,Wave
LOCATION:X-TRA
GEO:47.384261;8.532491
ORGANIZER;CN="JHG Shark":MAILTO:webmaster@jhgshark.ch
URL;VALUE=URI:https://artnoir.ch/events/event/der-schwarze-ball-2026-04-03/
ATTACH;FMTTYPE=image/jpeg:https://artnoir.ch/wp-content/uploads/2025/10/der-schwarze-ball-2026-04-03-e1770975380642.jpg
END:VEVENT
BEGIN:VTIMEZONE
TZID:Europe/Zurich
BEGIN:DAYLIGHT
TZOFFSETFROM:+0100
TZOFFSETTO:+0200
DTSTART:20260329T010000
TZNAME:CEST
END:DAYLIGHT
END:VTIMEZONE
END:VCALENDAR
