BEGIN:VCALENDAR
VERSION:2.0
PRODID:-//ARTNOIR//NONSGML Events//EN
CALSCALE:GREGORIAN
X-ORIGINAL-URL:https://artnoir.ch/events/event/
X-WR-CALDESC:ARTNOIR - Events
BEGIN:VEVENT
UID:20250920T1801Z-1758391310.4133-EO-252446-1@10.0.9.22
STATUS:CONFIRMED
DTSTAMP:20260423T234226Z
CREATED:20250901T174739Z
LAST-MODIFIED:20250901T174835Z
DTSTART;TZID=Europe/Zurich:20260619T180000
DTEND;TZID=Europe/Zurich:20260619T223000
SUMMARY: Def Leppard
DESCRIPTION: Def Leppard\n+ Extreme\nLegendäre Rock-Hymnen live\nEs wird la
 ut\, es wird gross und es wird legendär – Def Leppard\, eine der grössten R
 ockbands aller Zeiten\, kommen am Freitag\, 19. Juni 2026 ins Hallenstadion
  Zürich. Gemeinsam mit Special Guest Extreme erwartet die Fans ein unverges
 slicher Abend voller Rock-Hymnen und energiegeladener Live-Momente.\nSeit ü
 ber vier Jahrzehnten zählen Def Leppard zu den prägendsten Acts der Rockwel
 t. ... [Read more...]
X-ALT-DESC;FMTTYPE=text/html: <p><a href="https://defleppard.com" rel="noop
 ener" target="_blank">Def Leppard</a><br />+ <a href="https://extreme-band.
 com" rel="noopener" target="_blank">Extreme</a></p><p><strong>Legendäre Roc
 k-Hymnen live</strong></p><p>Es wird laut\, es wird gross und es wird legen
 där – Def Leppard\, eine der grössten Rockbands aller Zeiten\, kommen am Fr
 eitag\, 19. Juni 2026 ins Hallenstadion Zürich. Gemeinsam mit Special Guest
  Extreme erwartet die Fans ein unvergesslicher Abend voller Rock-Hymnen und
  energiegeladener Live-Momente.</p><p>Seit über vier Jahrzehnten zählen <st
 rong>Def Leppard</strong> zu den prägendsten Acts der Rockwelt. Die Band um
  Sänger Joe Elliott hat weltweit mehr als 110 Millionen Platten verkauft un
 d unzählige Hits geschrieben. Mit Alben wie Pyromania und Hysteria und Klas
 sikern wie Pour Some Sugar on Me\, Love Bites\, Rock of Ages und Animal hab
 en sie Generationen von Musikliebhaber:innen begeistert. Def Leppard wurden
  für ihre Erfolge mehrfach ausgezeichnet und 2019 in die Rock & Roll Hall o
 f Fame aufgenommen. Ihre Konzerte sind ein musikalisches Highlight: voller 
 Energie\, Spielfreude und der perfekten Mischung aus Klassikern und neuen Ü
 berraschungen.</p><p>Auch Special Guest <strong>Extreme</strong> haben das 
 Genre ordentlich beeinflusst. Mit ihrem eingängigen Sound\, der harte Riffs
  mit Funk-Grooves und gefühlvolle Balladen verbindet\, begeistern sie seit 
 Jahrzehnten. Ihr Hit More Than Words zählt zu den bekanntesten Rockballaden
  überhaupt – live jedoch zeigen Extreme vor allem ihre enorme Power und Dyn
 amik.</p><p>Rock in Reinform: Leidenschaft\, Energie und Songs für die Ewig
 keit. Am 19. Juni 2026 im Hallenstadion Zürich schreiben Def Leppard und Ex
 treme ein neues Kapitel Rockgeschichte – live und unvergesslich.</p><p><spa
 n style="color: #c86079\;">Ein <strong>ARTNOIR</strong> Partner-Event</span
 ></p>
CATEGORIES:Partner-Event,Rock
LOCATION:Hallenstadion
GEO:47.411425;8.551685
ORGANIZER;CN="Nicole Wild":MAILTO:nic.wild@yahoo.com
URL;VALUE=URI:https://artnoir.ch/events/event/def-leppard-2026-06-19/
ATTACH;FMTTYPE=image/jpeg:https://artnoir.ch/wp-content/uploads/2025/09/def-leppard-2026-06-19.jpg
END:VEVENT
BEGIN:VTIMEZONE
TZID:Europe/Zurich
BEGIN:DAYLIGHT
TZOFFSETFROM:+0100
TZOFFSETTO:+0200
DTSTART:20260329T010000
TZNAME:CEST
END:DAYLIGHT
END:VTIMEZONE
END:VCALENDAR
