BEGIN:VCALENDAR
VERSION:2.0
PRODID:-//ARTNOIR//NONSGML Events//EN
CALSCALE:GREGORIAN
X-ORIGINAL-URL:https://artnoir.ch/events/event/
X-WR-CALDESC:ARTNOIR - Events
BEGIN:VEVENT
UID:20260415T2044Z-1776285853.8481-EO-263058-1@10.0.9.48
STATUS:CONFIRMED
DTSTAMP:20260423T231746Z
CREATED:20260413T190952Z
LAST-MODIFIED:20260413T190952Z
DTSTART;TZID=Europe/Zurich:20260614T163000
DTEND;TZID=Europe/Zurich:20260614T220000
SUMMARY: DEAFDEAFDEAF
DESCRIPTION: DEAFDEAFDEAF\nManchester\, c’est le sacro-saint berceau de Joy
  Division / New Order et Oasis – et aussi depuis peu de DEAFDEAFDEAF\, qui 
 rend grâce à cette illustre lignée en piochant de bon aloi dans la substanc
 e post-punk toute comme dans le terreau britpop. Le Château Montagny sera l
 a première incursion en Suisse pour le quintette mancunien\, déjà vanté out
 re-Manche pour leur sincère intensité scénique – à mettre en bonne partie s
 ur le compte de la voix de Nathan Hill\, ... [Read more...]
X-ALT-DESC;FMTTYPE=text/html: <p><a href="https://www.instagram.com/deafdea
 fdeaff/" rel="noopener" target="_blank">DEAFDEAFDEAF</a></p><p>Manchester\,
  c’est le sacro-saint berceau de Joy Division / New Order et Oasis – et aus
 si depuis peu de <strong>DEAFDEAFDEAF</strong>\, qui rend grâce à cette ill
 ustre lignée en piochant de bon aloi dans la substance post-punk toute comm
 e dans le terreau britpop. Le Château Montagny sera la première incursion e
 n Suisse pour le quintette mancunien\, déjà vanté outre-Manche pour leur si
 ncère intensité scénique – à mettre en bonne partie sur le compte de la voi
 x de Nathan Hill\, dont les intonations réjouiront également les fans des S
 miths!</p><p><strong>La Cave l’Abbatiale</strong><br />Le Château Montagny\
 , qui surplombe la corniche en dessus de Lutry\, est un des fleurons de la 
 Cave L’Abbatiale (sous ce nom se cache discrètement la ville de Payerne\, p
 ropriétaire des murs et des vignes depuis le XVIe). Le domaine\, qui a pris
  un grand coup de jeune en 2019 avec l’arrivée d’Arthur Pidoux (à la vigne)
  et de Gilles Musy (à la cave)\, collectionne les médailles ès chasselas \;
  mais c’est aussi pour la terrasse -spectaculaire- qu’on fera le déplacemen
 t.</p><p><strong>Château Montagny\, Aran</strong><br />Le Château Montagny\
 , qui surplombe la corniche en dessus de Lutry\, est un des fleurons de la 
 Cave L’Abbatiale (sous ce nom se cache discrètement la ville de Payerne\, p
 ropriétaire des murs et des vignes depuis le XVIe). Le domaine\, qui a pris
  un grand coup de jeune en 2019 avec l’arrivée d’Arthur Pidoux (à la vigne)
  et de Gilles Musy (à la cave)\, collectionne les médailles ès chasselas \;
  mais c’est aussi pour la terrasse -spectaculaire- qu’on fera le déplacemen
 t\, Wolfer et nous !</p><p>Concert au Château Montagny\, Villette (jardin o
 u caveau selon la météo) / « Portes » 16h30 / Dégustation (billets « Dégust
 ' ») de 16h à 17h / Bar à vin et planchettes / Concert 18h / Gare CFF de Vi
 lette à 10-15 minutes.</p>
CATEGORIES:Pop,Punk,Rock
LOCATION:Château Montagny
GEO:46.498873;6.706202
ORGANIZER;CN="JHG Shark":MAILTO:webmaster@jhgshark.ch
URL;VALUE=URI:https://artnoir.ch/events/event/deafdeafdeaf-2026-06-14/
ATTACH;FMTTYPE=image/jpeg:https://artnoir.ch/wp-content/uploads/2026/04/deafdeafdeaf-2026-06-14.jpg
END:VEVENT
BEGIN:VTIMEZONE
TZID:Europe/Zurich
BEGIN:DAYLIGHT
TZOFFSETFROM:+0100
TZOFFSETTO:+0200
DTSTART:20260329T010000
TZNAME:CEST
END:DAYLIGHT
END:VTIMEZONE
END:VCALENDAR
