BEGIN:VCALENDAR
VERSION:2.0
PRODID:-//ARTNOIR//NONSGML Events//EN
CALSCALE:GREGORIAN
X-ORIGINAL-URL:https://artnoir.ch/events/event/
X-WR-CALDESC:ARTNOIR - Events
BEGIN:VEVENT
UID:20251031T0226Z-1761877585.1529-EO-255433-1@10.0.9.48
STATUS:CONFIRMED
DTSTAMP:20260423T215418Z
CREATED:20251029T183229Z
LAST-MODIFIED:20260409T055906Z
DTSTART;TZID=Europe/Zurich:20260411T203000
DTEND;TZID=Europe/Zurich:20260411T235900
SUMMARY: Date At Midnight
DESCRIPTION: Date At Midnight\n+ NICO AMARA\n+ Wave-Dark 80s Party mit Spel
 lbound DJs\nDate At Midnight formed in Rome in 2007\, featuring a dark and 
 impacting goth/postpunk sound\, widely appraised during the band’s live app
 earances made all across Europe\, mixed with some additional wave melanchol
 ia. After a first self-titled EP they released the acclaimed albums „No Lov
 e“ (2011) and “Songs to fall and Forget” (2016)\, ... [Read more...]
X-ALT-DESC;FMTTYPE=text/html: <p><a href="https://www.facebook.com/dateatmi
 dnightband/" target="_blank" rel="noopener">Date At Midnight</a><br />+ <a 
 href="https://www.facebook.com/nicoamara.music" target="_blank" rel="noopen
 er">NICO AMARA</a><br />+ Wave-Dark 80s Party mit Spellbound DJs</p><p><str
 ong>Date At Midnight</strong> formed in Rome in 2007\, featuring a dark and
  impacting goth/postpunk sound\, widely appraised during the band’s live ap
 pearances made all across Europe\, mixed with some additional wave melancho
 lia. After a first self-titled EP they released the acclaimed albums "No Lo
 ve" (2011) and “Songs to fall and Forget” (2016)\, and the EP "Reverse Resi
 lience" (2018).</p><p><strong>NICO AMARA</strong> ist ein Darkwave- / Post-
 Industrial-Soloprojekt\, das minimale elektronische Strukturen\, kontrollie
 rte Noise-Elemente und fragmentierte\, geflüsterte mehrsprachige Vocals ver
 bindet.</p><p>Bewusst distanziert und kompromisslos entsteht eine karge\, s
 pannungsgeladene Klangarchitektur\, die existenzielle und ökologische Frage
 stellungen in einem von Abwesenheit und Spannung geprägten Raum reflektiert
 .</p><p>2025 erschien ihr Debütalbum CONSTRAINTS\, gefolgt im selben Jahr v
 on der EP CONSTRUCTIONS</p><p>20:00 Uhr Türöffnung<br />21:15 Uhr Nico Amar
 a<br />22:15 Uhr Date At Midnight </p>
CATEGORIES:Wave
LOCATION:Musigburg
GEO:47.320494;7.906709
ORGANIZER;CN="JHG Shark":MAILTO:webmaster@jhgshark.ch
URL;VALUE=URI:https://artnoir.ch/events/event/date-at-midnight-2026-04-11/
ATTACH;FMTTYPE=image/jpeg:https://artnoir.ch/wp-content/uploads/2025/10/date-at-midnight-2026-04-11.jpg
END:VEVENT
BEGIN:VTIMEZONE
TZID:Europe/Zurich
BEGIN:DAYLIGHT
TZOFFSETFROM:+0100
TZOFFSETTO:+0200
DTSTART:20260329T010000
TZNAME:CEST
END:DAYLIGHT
END:VTIMEZONE
END:VCALENDAR
