BEGIN:VCALENDAR
VERSION:2.0
PRODID:-//ARTNOIR//NONSGML Events//EN
CALSCALE:GREGORIAN
X-ORIGINAL-URL:https://artnoir.ch/events/event/
X-WR-CALDESC:ARTNOIR - Events
BEGIN:VEVENT
UID:20250920T2254Z-1758408883.796-EO-252805-1@10.0.9.22
STATUS:CONFIRMED
DTSTAMP:20260423T201659Z
CREATED:20250919T170037Z
LAST-MODIFIED:20250919T171639Z
DTSTART;TZID=Europe/Zurich:20270226T190000
DTEND;TZID=Europe/Zurich:20270226T230000
SUMMARY: Das Lumpenpack
DESCRIPTION: Das Lumpenpack\nDie energiegeladenste\, schlagfertigste und ko
 mpromissloseste deutsche Punkrockband ist zweifellos Das Lumpenpack. Mit ei
 nem Sound\, der intelligenten Witz mit einem messerscharfen Blick auf gesel
 lschaftliche Schieflagen\, persönliche Krisen und all das Dazwischen verbin
 det\, schaffen sie Songs\, die ehrlich\, laut und voll Tiefgang sind. Am Fr
 eitag\, 26. Februar 2027\, kommt Das Lumpenpack mit ihrer energiegeladenen 
 Show live ins X-TRA Zürich. \nMit über 730‘000 monatlichen Hörerinnen und H
 örern auf Spotify\, mehr als 400 Millionen Streams und rund 485‘000 Followe
 rn auf den sozialen Medien ist Das Lumpenpack längst kein Geheimtipp mehr. 
 ... [Read more...]
X-ALT-DESC;FMTTYPE=text/html: <p><a href="https://daslumpenpack.de/" rel="n
 oopener" target="_blank">Das Lumpenpack</a></p><p>Die energiegeladenste\, s
 chlagfertigste und kompromissloseste deutsche Punkrockband ist zweifellos D
 as Lumpenpack. Mit einem Sound\, der intelligenten Witz mit einem messersch
 arfen Blick auf gesellschaftliche Schieflagen\, persönliche Krisen und all 
 das Dazwischen verbindet\, schaffen sie Songs\, die ehrlich\, laut und voll
  Tiefgang sind. Am Freitag\, 26. Februar 2027\, kommt Das Lumpenpack mit ih
 rer energiegeladenen Show live ins X-TRA Zürich. </p><p>Mit über 730‘000 mo
 natlichen Hörerinnen und Hörern auf Spotify\, mehr als 400 Millionen Stream
 s und rund 485‘000 Followern auf den sozialen Medien ist Das Lumpenpack län
 gst kein Geheimtipp mehr. Features mit Alligatoah\, Sebastian Madsen oder A
 dam Angst\, regelmässige Top-10-Platzierungen in den Charts\, ausverkaufte 
 Touren und legendäre Live-Shows sprechen eine klare Sprache: Das Lumpenpack
  hat sich fest in der deutschsprachigen Musikszene etabliert. Angeführt von
  Jonas Frömming und Max Kennel liefert die Band ein Spektakel aus musikalis
 cher Präzision\, bissigem Humor und purer Leidenschaft – laut\, klug\, poli
 tisch und herrlich absurd. Ob auf grossen Festivalbühnen\, in ausverkauften
  Hallen oder in ihrer stets weiterwachsenden Community: Das Lumpenpack ist 
 längst mehr als eine Band – es ist eine Haltung. Eine Einladung zum Nachden
 ken\, Mitsingen\, Durchdrehen. Eine Band\, die in jeder Faser spüren lässt\
 , wie sehr sie diesen Wahnsinn liebt. Ein Wahnsinn\, der sich nicht nur for
 tsetzt\, sondern steigert.</p><p><span style="color: #c86079\;">Ein <strong
 >ARTNOIR</strong> Partner-Event</span></p>
CATEGORIES:Partner-Event,Punk,Rock
LOCATION:X-TRA
GEO:47.384261;8.532491
ORGANIZER;CN="JHG Shark":MAILTO:webmaster@jhgshark.ch
URL;VALUE=URI:https://artnoir.ch/events/event/das-lumpenpack-2027-02-26/
ATTACH;FMTTYPE=image/jpeg:https://artnoir.ch/wp-content/uploads/2025/09/das-lumpenpack-2027-02-26-e1758138055857.jpg
END:VEVENT
BEGIN:VTIMEZONE
TZID:Europe/Zurich
BEGIN:STANDARD
TZOFFSETFROM:+0200
TZOFFSETTO:+0100
DTSTART:20261025T010000
TZNAME:CET
END:STANDARD
END:VTIMEZONE
END:VCALENDAR
