BEGIN:VCALENDAR
VERSION:2.0
PRODID:-//ARTNOIR//NONSGML Events//EN
CALSCALE:GREGORIAN
X-ORIGINAL-URL:https://artnoir.ch/events/event/
X-WR-CALDESC:ARTNOIR - Events
BEGIN:VEVENT
UID:20251106T2050Z-1762462222.0703-EO-255921-1@10.0.9.48
STATUS:CONFIRMED
DTSTAMP:20260423T232226Z
CREATED:20251106T124913Z
LAST-MODIFIED:20260130T123559Z
DTSTART;TZID=Europe/Zurich:20260416T191500
DTEND;TZID=Europe/Zurich:20260416T235500
SUMMARY: Chalk
DESCRIPTION: Chalk\n+ Makeshift Art Bar\nWie aufregend es klingt\, wenn sic
 h der Rockclub in einen Dancefloor verwandelt\, demonstriert das nordirisch
 e Trio CHALK. Die Band vereint die gleissenden Gitarren-Riffs des Post- und
  Industrial-Rock und die stroboskopartigen Dance Beats der Neunziger-Clubmu
 sik. Chalk bedeutet bekanntlich Kreide\, und so trocken\, hart und kühl kli
 ngen ihre Songs. Dennoch entwickelt die Band einen Sog\, der an eine upgeda
 tete Variante von Nine Inch Nails oder Ministry gemahnt. ... [Read more...]
X-ALT-DESC;FMTTYPE=text/html: <p><a href="https://www.instagram.com/chalkba
 nd/" target="_blank" rel="noopener">Chalk</a><br />+ <a href="https://www.i
 nstagram.com/makeshift.art.bar/" rel="noopener" target="_blank">Makeshift A
 rt Bar</a></p><p>Wie aufregend es klingt\, wenn sich der Rockclub in einen 
 Dancefloor verwandelt\, demonstriert das nordirische Trio CHALK. Die Band v
 ereint die gleissenden Gitarren-Riffs des Post- und Industrial-Rock und die
  stroboskopartigen Dance Beats der Neunziger-Clubmusik. Chalk bedeutet beka
 nntlich Kreide\, und so trocken\, hart und kühl klingen ihre Songs. Dennoch
  entwickelt die Band einen Sog\, der an eine upgedatete Variante von Nine I
 nch Nails oder Ministry gemahnt. Hinzu kommt eine cineastische Komponente\,
  die kaum verblüfft\, liest man doch\, dass sich Ross\, Benedict und Luke a
 n der Filmschule in Belfast kennengelernt hatten. Dort verbrachten sie nich
 t nur viel Zeit in den Techno Clubs der Stadt\, sie verehrten auch Gitarren
 bands wie Joy Division\, IDLES\, Death Grips oder The Fall. Wer die Gelegen
 heit verpasste\, Chalk vergangenen Sommer an den Musikfestwochen Winterthur
  oder gar am Glastonbury Festival vor 200 000 Menschen zu sehen\, wird hier
  die vielleicht letzte Chance bekommen\, dieses furiose Trio in einem klein
 en Club wie dem unseren zu erleben.</p>
CATEGORIES:Rock
LOCATION:Bogen F
GEO:47.384775;8.520808
ORGANIZER;CN="Christian Wölbitsch":MAILTO:info@cd-photography.net
URL;VALUE=URI:https://artnoir.ch/events/event/chalk-2026-04-16/
ATTACH;FMTTYPE=image/jpeg:https://artnoir.ch/wp-content/uploads/2025/11/Chalk-2026-04-16.jpg
END:VEVENT
BEGIN:VTIMEZONE
TZID:Europe/Zurich
BEGIN:DAYLIGHT
TZOFFSETFROM:+0100
TZOFFSETTO:+0200
DTSTART:20260329T010000
TZNAME:CEST
END:DAYLIGHT
END:VTIMEZONE
END:VCALENDAR
