BEGIN:VCALENDAR
VERSION:2.0
PRODID:-//ARTNOIR//NONSGML Events//EN
CALSCALE:GREGORIAN
X-ORIGINAL-URL:https://artnoir.ch/events/event/
X-WR-CALDESC:ARTNOIR - Events
BEGIN:VEVENT
UID:20260415T1858Z-1776279513.7049-EO-262878-1@10.0.9.48
STATUS:CONFIRMED
DTSTAMP:20260423T214810Z
CREATED:20260409T183601Z
LAST-MODIFIED:20260409T183802Z
DTSTART;TZID=Europe/Zurich:20260508T190000
DTEND;TZID=Europe/Zurich:20260508T230000
SUMMARY: CF98
DESCRIPTION: CF98\n+ Desert Lily\n+ Malewicz\nStupid Punk Tour 2026\nDu ste
 hst auf eingängige Refrains? Schnelle Drums? Texte\, die Mir geht’s gut sch
 reien\, während es einem offensichtlich nicht gut geht?\nCF98 ist genau die
  Melodic-Pop-Punk-Band\, die sich dein Emo-Ich von 2005 auf den Arm tätowie
 rt hätte – und zu der dein 2025er-Ich immer noch moshen kann\, ohne sich di
 rekt die Hüfte zu brechen. ... [Read more...]
X-ALT-DESC;FMTTYPE=text/html: <p><a href="https://www.instagram.com/cf98ban
 d/" rel="noopener" target="_blank">CF98</a><br />+ <a href="https://desertl
 ily-band.com/" rel="noopener" target="_blank">Desert Lily</a><br />+ <a hre
 f="https://www.instagram.com/malewicz.punk/" rel="noopener" target="_blank"
 >Malewicz</a></p><p><strong>Stupid Punk Tour 2026</strong></p><p>Du stehst 
 auf eingängige Refrains? Schnelle Drums? Texte\, die Mir geht’s gut schreie
 n\, während es einem offensichtlich nicht gut geht?</p><p>CF98 ist genau di
 e Melodic-Pop-Punk-Band\, die sich dein Emo-Ich von 2005 auf den Arm tätowi
 ert hätte – und zu der dein 2025er-Ich immer noch moshen kann\, ohne sich d
 irekt die Hüfte zu brechen.</p><p>Schnelle Riffs\, heftige Hooks und furcht
 lose Emotionen.</p><p>Mit female-fronted Vocals\, die sich durch High-Octan
 e-Gitarren schneiden\, bringen CF98 rohe Energie und kompromissloses Herzbl
 ut in jeden Track. Stell dir vor\, NOFX trifft auf Paramore – mit einem eur
 opäischen Twist und unbestreitbarer Bühnenpräsenz.<br />Nebenwirkungen beim
  Hören können sein:</p><ul><li>Der plötzliche Drang\, Skateboard zu fahren<
 /li><li>Aufmunterndes Chaos</li><li>Rebellisches Tanzen in der Küche</li><l
 i>Den Ex anrufen (tu es nicht!)</li><li>Unironisch zu sagen: „Ich vermisse 
 die Warped Tour“</li></ul><p>Für Fans von: NOFX\, The Bombpops\, Paramore u
 nd Leute\, die vielleicht immer noch MP3-Player nutzen.</p><p>CF98 ist die 
 Band\, von der du noch nicht wusstest\, dass du sie brauchst.</p><p>Türöffn
 ung: 19:00 // Show: 20:00 // Ende: 23:00</p>
CATEGORIES:Punk
LOCATION:Werk 21
GEO:47.383312;8.539341
ORGANIZER;CN="JHG Shark":MAILTO:webmaster@jhgshark.ch
URL;VALUE=URI:https://artnoir.ch/events/event/cf98-2026-05-08/
ATTACH;FMTTYPE=image/jpeg:https://artnoir.ch/wp-content/uploads/2026/04/cf98-2026-05-08.jpg
END:VEVENT
BEGIN:VTIMEZONE
TZID:Europe/Zurich
BEGIN:DAYLIGHT
TZOFFSETFROM:+0100
TZOFFSETTO:+0200
DTSTART:20260329T010000
TZNAME:CEST
END:DAYLIGHT
END:VTIMEZONE
END:VCALENDAR
