BEGIN:VCALENDAR
VERSION:2.0
PRODID:-//ARTNOIR//NONSGML Events//EN
CALSCALE:GREGORIAN
X-ORIGINAL-URL:https://artnoir.ch/events/event/
X-WR-CALDESC:ARTNOIR - Events
BEGIN:VEVENT
UID:20251120T0527Z-1763616443.6003-EO-256338-1@10.0.9.48
STATUS:CONFIRMED
DTSTAMP:20260423T215605Z
CREATED:20251114T181707Z
LAST-MODIFIED:20260414T094004Z
DTSTART;TZID=Europe/Zurich:20260619T193000
DTEND;TZID=Europe/Zurich:20260619T230000
SUMMARY: Cabaret Voltaire
DESCRIPTION: Cabaret Voltaire\n+ Pest Modern\nCabaret Voltaire\, the legend
 ary industrial music group that combines the spirit of Dada with punk madne
 ss\, is honouring us by adding Docks as the only Swiss date on its latest E
 uropean tour\, which marks the 50th anniversary of its debut. Chris Watson 
 and Stephen Mallinder from the original line-up will be there. The sounds w
 ill take us back to an era of experimentation that flirted with a myriad of
  styles: an unpredictable\, ... [Read more...]
X-ALT-DESC;FMTTYPE=text/html: <p><a href="https://www.facebook.com/CabaretV
 oltaireOfficial/" rel="noopener" target="_blank">Cabaret Voltaire</a><br />
 + <a href="https://www.facebook.com/pestmodern/" rel="noopener" target="_bl
 ank">Pest Modern</a></p><p><strong>Cabaret Voltaire</strong>\, the legendar
 y industrial music group that combines the spirit of Dada with punk madness
 \, is honouring us by adding Docks as the only Swiss date on its latest Eur
 opean tour\, which marks the 50th anniversary of its debut. Chris Watson an
 d Stephen Mallinder from the original line-up will be there. The sounds wil
 l take us back to an era of experimentation that flirted with a myriad of s
 tyles: an unpredictable\, brutal and intelligent combo.</p><p><strong>Pest 
 Modern</strong> est le projet d’Emmanuel Hubaut (Les Tétines Noires\, LTNO\
 , The Dead Sexy) et de son père\, l’artiste et performer Joel Hubaut. Ce de
 rnier est aussi connu en tant que poète sonore et musicien depuis les année
 s 80. Avec eux\, chaque live est une expérience différente. Tout peut bouge
 r\, s’improviser\, se retourner complètement. Accompagnés de Nicolas Germai
 n\, père et fils nous emmèneront dans un univers surréaliste entre performa
 nce et concert.</p>
CATEGORIES:Electro,Wave
LOCATION:Docks
GEO:46.522375;6.619252
ORGANIZER;CN="JHG Shark":MAILTO:webmaster@jhgshark.ch
URL;VALUE=URI:https://artnoir.ch/events/event/cabaret-voltaire-2026-06-19/
ATTACH;FMTTYPE=image/jpeg:https://artnoir.ch/wp-content/uploads/2025/11/cabaret-voltaire-2026-06-19.jpg
END:VEVENT
BEGIN:VTIMEZONE
TZID:Europe/Zurich
BEGIN:DAYLIGHT
TZOFFSETFROM:+0100
TZOFFSETTO:+0200
DTSTART:20260329T010000
TZNAME:CEST
END:DAYLIGHT
END:VTIMEZONE
END:VCALENDAR
