BEGIN:VCALENDAR
VERSION:2.0
PRODID:-//ARTNOIR//NONSGML Events//EN
CALSCALE:GREGORIAN
X-ORIGINAL-URL:https://artnoir.ch/events/event/
X-WR-CALDESC:ARTNOIR - Events
BEGIN:VEVENT
UID:20260205T1241Z-1770295292.999-EO-258908-1@10.0.9.48
STATUS:CONFIRMED
DTSTAMP:20260424T000541Z
CREATED:20260120T190710Z
LAST-MODIFIED:20260120T190908Z
DTSTART;TZID=Europe/Zurich:20260608T180000
DTEND;TZID=Europe/Zurich:20260608T230000
SUMMARY: Bury Tomorrow
DESCRIPTION: Bury Tomorrow\n+ We Came As Romans\n+ Boundaries\n+ Ankor\nNac
 h ihrem Support bei der „Tanzneid World Tour 2025“ von Electric Callboy kün
 digen Bury Tomorrow nun ihre eigene Headline-Show am 8. Juni 2026 im Kofmeh
 l Solothurn an. Mit dabei auf der Bühne: We Came As Romans\, Boundaries und
  Ankor.\nBury Tomorrows Album „Black Flame“ aus dem Jahr 2018 katapultierte
  sie in die obersten Ränge des Metal. ... [Read more...]
X-ALT-DESC;FMTTYPE=text/html: <p><a href="https://www.bury-tomorrow.com/" r
 el="noopener" target="_blank">Bury Tomorrow</a><br />+ <a href="https://wca
 rband.com/" rel="noopener" target="_blank">We Came As Romans</a><br />+ <a 
 href="https://boundariesct.com/" rel="noopener" target="_blank">Boundaries<
 /a><br />+ <a href="https://ankormusic.com/" rel="noopener" target="_blank"
 >Ankor</a></p><p>Nach ihrem Support bei der „Tanzneid World Tour 2025“ von 
 Electric Callboy kündigen <strong>Bury Tomorrow</strong> nun ihre eigene He
 adline-Show am 8. Juni 2026 im Kofmehl Solothurn an. Mit dabei auf der Bühn
 e: <strong>We Came As Romans</strong>\, <strong>Boundaries</strong> und <st
 rong>Ankor</strong>.</p><p>Bury Tomorrows Album „Black Flame“ aus dem Jahr 
 2018 katapultierte sie in die obersten Ränge des Metal. Es war das dritte U
 K-Top-40-Album in Folge der Band und führte zu einer imposanten Tour\, die 
 in einer riesigen Show im legendären Roundhouse in London gipfelte. Doch mi
 t dem Nachfolger „Cannibal“ machte die Band einen weiteren gewaltigen Schri
 tt nach vorn. Danach stand die Band nach einer Phase äusserer und innerer K
 onflikte vor der sehr realen Möglichkeit\, ihre Erfolge einzupacken und das
  Buch über eine 15-jährige Karriere zu schliessen. Mit dem Rücken zur Wand\
 , scheinbar ohne Optionen\, nahm Bury Tomorrow stattdessen das Schicksal se
 lbst in die Hand und begann\, das Kapitel zu schreiben\, das sie sich immer
  vorgestellt hatten.</p><p>Ihr siebtes Studioalbum „The Seventh Sun“ steht 
 als Zeugnis für die Bindungen und den Glauben\, die nötig waren\, um sich e
 ine neue Realität\, einen neuen Sound und eine neue Zukunft zu formen. Im M
 ai 2025 wurde ihr achtes Studioalbum „Will You Haunt Me\, With That Same Pa
 tience“ veröffentlicht. Inhaltlich und atmosphärisch reflektiert das neue P
 rojekt eine neue Phase der Band. Laut Aussage der Band dreht sich das Album
  „um Spaltung ebenso wie um Zusammenhalt“ — um persönliche Katastrophen\, a
 ber auch um Hoffnung und Gemeinschaft in einer Welt voller Ablenkung und Dr
 uck. Musikalisch präsentiert sich die Platte wie ein bewusster Neubeginn: E
 motionaler\, vielleicht introspektiver und mit einer sehr dichten\, intensi
 ven Stimmung — ein Statement nach Jahren der Unsicherheit\, Besetzungswechs
 el und Herausforderungen.</p>
CATEGORIES:Metal
LOCATION:Kofmehl
GEO:47.200649;7.528200
ORGANIZER;CN="JHG Shark":MAILTO:webmaster@jhgshark.ch
URL;VALUE=URI:https://artnoir.ch/events/event/bury-tomorrow-2026-06-08/
ATTACH;FMTTYPE=image/jpeg:https://artnoir.ch/wp-content/uploads/2026/01/bury-tomorrow-2026-06-08.jpg
END:VEVENT
BEGIN:VTIMEZONE
TZID:Europe/Zurich
BEGIN:DAYLIGHT
TZOFFSETFROM:+0100
TZOFFSETTO:+0200
DTSTART:20260329T010000
TZNAME:CEST
END:DAYLIGHT
END:VTIMEZONE
END:VCALENDAR
