BEGIN:VCALENDAR
VERSION:2.0
PRODID:-//ARTNOIR//NONSGML Events//EN
CALSCALE:GREGORIAN
X-ORIGINAL-URL:https://artnoir.ch/events/event/
X-WR-CALDESC:ARTNOIR - Events
BEGIN:VEVENT
UID:20260215T0348Z-1771127339.7568-EO-260262-1@10.0.9.48
STATUS:CONFIRMED
DTSTAMP:20260424T015002Z
CREATED:20260213T100738Z
LAST-MODIFIED:20260213T101105Z
DTSTART;VALUE=DATE:20260805
DTEND;VALUE=DATE:20260809
SUMMARY: Brutal Assault
DESCRIPTION: Line-up\nBehemoth / Cradle Of Filth / Carpenter Brut / Perturb
 ator / Wardruna / Body Count / Alcest / Amenra / Amorphis / Witch Club Sata
 n / Deafheaven / Sólstafir / Paleface Swiss and many more… \nAnother Fix Up
 date\nMore bands for Brutal Assault 2026 have just landed on the roster! ..
 . [Read more...]
X-ALT-DESC;FMTTYPE=text/html: <p><a href="https://brutalassault.cz/en/line-
 up" rel="noopener" target="_blank">Line-up</a><br /><a href="https://www.be
 hemoth.pl/" rel="noopener" target="_blank">Behemoth</a> / <a href="https://
 www.cradleoffilth.com/" rel="noopener" target="_blank">Cradle Of Filth</a> 
 / <a href="https://carpenterbrut.com/" rel="noopener" target="_blank">Carpe
 nter Brut</a> / <a href="https://perturbator.com/" rel="noopener" target="_
 blank">Perturbator</a> / <a href="https://www.wardruna.com/" rel="noopener"
  target="_blank">Wardruna</a> / <a href="https://bodycountband.com/" rel="n
 oopener" target="_blank">Body Count</a> / <a href="https://alcestmusic.com/
 " rel="noopener" target="_blank">Alcest</a> / <a href="https://ritualofra.c
 om/" rel="noopener" target="_blank">Amenra</a> / <a href="https://amorphis.
 net/" rel="noopener" target="_blank">Amorphis</a> / <a href="https://www.wi
 tchclubsatan.com/" rel="noopener" target="_blank">Witch Club Satan</a> / <a
  href="https://www.deafheavenuk.com/" rel="noopener" target="_blank">Deafhe
 aven</a> / <a href="https://solstafir.is/" rel="noopener" target="_blank">S
 ólstafir</a> / <a href="https://palefaceswiss.com/" rel="noopener" target="
 _blank">Paleface Swiss</a> and many more... </p><p><strong>Another Fix Upda
 te</strong></p><p>More bands for Brutal Assault 2026 have just landed on th
 e roster! The fortress will echo with the sounds of American death/doom leg
 ends Dusk\, metalcore veterans Unearth\, and Norwegian provocateurs Carpath
 ian Forest.</p><p>Health will demonstrate that a heavy sound can be conjure
 d even without distorted guitars and blast-beats\, while Antimatter will pr
 esent their dark songwriting\, and Coven will bring the roots of occult roc
 k. Rounding out the update are the Czech purveyors of putrid death metal\, 
 Mordloch.</p><p>The countdown to our meeting in the fortress is on!</p>
CATEGORIES:Metal
LOCATION:Fortress Josefov
GEO:50.338538;15.924665
ORGANIZER;CN="JHG Shark":MAILTO:webmaster@jhgshark.ch
URL;VALUE=URI:https://artnoir.ch/events/event/brutal-assault-2026/
ATTACH;FMTTYPE=image/jpeg:https://artnoir.ch/wp-content/uploads/2026/02/brutal-assault-2026.jpg
END:VEVENT
BEGIN:VTIMEZONE
TZID:Europe/Zurich
BEGIN:DAYLIGHT
TZOFFSETFROM:+0100
TZOFFSETTO:+0200
DTSTART:20260329T010000
TZNAME:CEST
END:DAYLIGHT
END:VTIMEZONE
END:VCALENDAR
