BEGIN:VCALENDAR
VERSION:2.0
PRODID:-//ARTNOIR//NONSGML Events//EN
CALSCALE:GREGORIAN
X-ORIGINAL-URL:https://artnoir.ch/events/event/
X-WR-CALDESC:ARTNOIR - Events
BEGIN:VEVENT
UID:20260402T1346Z-1775137602.6889-EO-262330-1@10.0.9.48
STATUS:CONFIRMED
DTSTAMP:20260423T233034Z
CREATED:20260327T205740Z
LAST-MODIFIED:20260410T104354Z
DTSTART;TZID=Europe/Zurich:20260514T193000
DTEND;TZID=Europe/Zurich:20260514T235900
SUMMARY: BRUIT ≤
DESCRIPTION: BRUIT ≤\n+ Endless Dive\nPost-Rock Chaos\nBRUIT ≤ ist Klangwet
 ter\, ist Sturm\, ist Wolkenbruch\, ist gleissende Überstrahlung. Das Quart
 ett aus Toulouse lässt Streicher\, Gitarren\, Elektronik und Drums wie Druc
 kfronten aufeinandertreffen. Aus flirrenden Schichten wachsen Zellen aus Fe
 edback und Rhythmus\, die sich zur überwältigenden Einheit zusammenschieben
 \, in der alle Aggregatszustände zu herrschen scheinen: wo Leere war\, ist 
 jetzt Raum\, wo alles fest war\, ist jetzt alles flüchtig. ... [Read more..
 .]
X-ALT-DESC;FMTTYPE=text/html: <p><a href="https://www.instagram.com/bruit_o
 fficial/" target="_blank" rel="noopener">BRUIT ≤</a><br />+ <a href="https:
 //www.instagram.com/endless_dive/" rel="noopener" target="_blank">Endless D
 ive</a></p><p><strong>Post-Rock Chaos</strong></p><p>BRUIT ≤ ist Klangwette
 r\, ist Sturm\, ist Wolkenbruch\, ist gleissende Überstrahlung. Das Quartet
 t aus Toulouse lässt Streicher\, Gitarren\, Elektronik und Drums wie Druckf
 ronten aufeinandertreffen. Aus flirrenden Schichten wachsen Zellen aus Feed
 back und Rhythmus\, die sich zur überwältigenden Einheit zusammenschieben\,
  in der alle Aggregatszustände zu herrschen scheinen: wo Leere war\, ist je
 tzt Raum\, wo alles fest war\, ist jetzt alles flüchtig. Davor Endless Dive
  aus Belgien\, die mit treibenden Instrumentals zwischen Melancholie und Au
 fbruch zu bewetternde Felder aufspannen.<br />[Text: Valentin Brügger]</p>
CATEGORIES:Rock
LOCATION:Bad Bonn
GEO:46.861580;7.180125
ORGANIZER;CN="Nicole Wild":MAILTO:nic.wild@yahoo.com
URL;VALUE=URI:https://artnoir.ch/events/event/bruit-%e2%89%a4-2026-05-14/
ATTACH;FMTTYPE=image/jpeg:https://artnoir.ch/wp-content/uploads/2026/03/bruit-≤-2026-05-14.jpeg
END:VEVENT
BEGIN:VTIMEZONE
TZID:Europe/Zurich
BEGIN:DAYLIGHT
TZOFFSETFROM:+0100
TZOFFSETTO:+0200
DTSTART:20260329T010000
TZNAME:CEST
END:DAYLIGHT
END:VTIMEZONE
END:VCALENDAR
