BEGIN:VCALENDAR
VERSION:2.0
PRODID:-//ARTNOIR//NONSGML Events//EN
CALSCALE:GREGORIAN
X-ORIGINAL-URL:https://artnoir.ch/events/event/
X-WR-CALDESC:ARTNOIR - Events
BEGIN:VEVENT
UID:20251002T0310Z-1759374631.4878-EO-252799-1@10.0.9.22
STATUS:CONFIRMED
DTSTAMP:20260423T233954Z
CREATED:20250911T060133Z
LAST-MODIFIED:20250911T060304Z
DTSTART;TZID=Europe/Zurich:20260912T190000
DTEND;TZID=Europe/Zurich:20260912T230000
SUMMARY: Broilers
DESCRIPTION: Broilers\nDie BROILERS kommen zurück!\nVier Nummer-1-Alben\, d
 azu gigantische Tourneen mit Hunderttausenden Fans – und dann zwei Jahre Fu
 nkstille. Jetzt ist es endlich wieder soweit! Die BROILERS kehren 2026 auf 
 die Bühnen zurück und am Samstag\, 12. September bringen sie das Volkshaus 
 Zürich zum Beben.\nEin BROILERS-Konzert ist wie ein Kinofilm\, den man unbe
 dingt sehen will und der dann tagelang in Erinnerung bleibt – über zwei Stu
 nden voller Energie\, ... [Read more...]
X-ALT-DESC;FMTTYPE=text/html: <p><a href="https://www.broilers.de/" rel="no
 opener" target="_blank">Broilers</a></p><p><strong>Die BROILERS kommen zurü
 ck!</strong></p><p>Vier Nummer-1-Alben\, dazu gigantische Tourneen mit Hund
 erttausenden Fans – und dann zwei Jahre Funkstille. Jetzt ist es endlich wi
 eder soweit! Die BROILERS kehren 2026 auf die Bühnen zurück und am Samstag\
 , 12. September bringen sie das Volkshaus Zürich zum Beben.</p><p>Ein BROIL
 ERS-Konzert ist wie ein Kinofilm\, den man unbedingt sehen will und der dan
 n tagelang in Erinnerung bleibt – über zwei Stunden voller Energie\, mitrei
 ssende Refrains\, echte Haltung und unbändige Spielfreude\, die jede Halle 
 zum Brodeln bringt. Mit Songs wie Tanzt du noch einmal mit mir?\, Ist da je
 mand? und Meine Sache entfalten sie ihre ganze Kraft auf der Bühne.</p><p>N
 achdem das Heimspiel im Düsseldorfer Stadion – das Mega-Konzert Ultrabowl –
  ein Jahr im Voraus ausverkauft meldet\, ist spätestens klar: Die BROILERS 
 müssen wieder raus. Raus auf die grossen Bühnen\, in die Stadien und auf di
 e Plätze. Dorthin\, wo sie hingehören. Dorthin\, wo ihre Songs und ihre Ene
 rgie am stärksten wirken – mitten rein ins Herz ihrer eingeschworenen Fange
 meinde.</p><p>Es ist kein Wunder\, dass die BROILERS längst zu den grössten
  Live-Acts im deutschsprachigen Raum zählen. Trotz aller Erfolge sind sie s
 ich jedoch treu geblieben. Mit ihren Wurzeln tief verankert in der Punkbewe
 gung\, mit klarer Kante und einer Authentizität\, die man in der heutigen M
 usiklandschaft selten findet. Genau das macht jedes Konzert zu etwas ganz B
 esonderem. BROILERS geht nur zusammen!</p>
CATEGORIES:Punk
LOCATION:Volkshaus
GEO:47.375465;8.527275
ORGANIZER;CN="JHG Shark":MAILTO:webmaster@jhgshark.ch
URL;VALUE=URI:https://artnoir.ch/events/event/broilers-2026-09-12/
ATTACH;FMTTYPE=image/jpeg:https://artnoir.ch/wp-content/uploads/2025/09/broilers-2026-09-12.jpg
END:VEVENT
BEGIN:VTIMEZONE
TZID:Europe/Zurich
BEGIN:DAYLIGHT
TZOFFSETFROM:+0100
TZOFFSETTO:+0200
DTSTART:20260329T010000
TZNAME:CEST
END:DAYLIGHT
END:VTIMEZONE
END:VCALENDAR
