BEGIN:VCALENDAR
VERSION:2.0
PRODID:-//ARTNOIR//NONSGML Events//EN
CALSCALE:GREGORIAN
X-ORIGINAL-URL:https://artnoir.ch/events/event/
X-WR-CALDESC:ARTNOIR - Events
BEGIN:VEVENT
UID:20260322T0453Z-1774155208.6454-EO-262041-1@10.0.9.48
STATUS:CONFIRMED
DTSTAMP:20260424T010947Z
CREATED:20260319T140803Z
LAST-MODIFIED:20260319T140826Z
DTSTART;TZID=Europe/Zurich:20261024T183000
DTEND;TZID=Europe/Zurich:20261024T230000
SUMMARY: Brandi Carlile
DESCRIPTION: Brandi Carlile\n+ KT Tunstall\nDie 11-fache Grammy-Gewinnerin 
 Brandi Carlile wird nächstes Jahr mit ihrer «The Human Tour» wieder auf Tou
 rnee gehen\, die Arena-Konzerte in Nordamerika und Europa umfasst. Zu den n
 eu bestätigten Stationen gehören unter anderem der Madison Square Garden in
  New York\, das Kia Forum in Inglewood\, der TD Garden in Boston\, das Targ
 et Center in Minneapolis\, das Chase Center in San Francisco\, die Scotiaba
 nk Arena in Toronto\, ... [Read more...]
X-ALT-DESC;FMTTYPE=text/html: <p><a href="https://www.brandicarlile.com/" r
 el="noopener" target="_blank">Brandi Carlile</a><br />+ <a href="https://ww
 w.kttunstall.com/" rel="noopener" target="_blank">KT Tunstall</a></p><p>Die
  11-fache Grammy-Gewinnerin Brandi Carlile wird nächstes Jahr mit ihrer «Th
 e Human Tour» wieder auf Tournee gehen\, die Arena-Konzerte in Nordamerika 
 und Europa umfasst. Zu den neu bestätigten Stationen gehören unter anderem 
 der Madison Square Garden in New York\, das Kia Forum in Inglewood\, der TD
  Garden in Boston\, das Target Center in Minneapolis\, das Chase Center in 
 San Francisco\, die Scotiabank Arena in Toronto\, The O2 in London\, die 3A
 rena in Dublin\, La Seine Musicale in Paris\, The Hall in Zürich und AFAS L
 ive in Amsterdam.</p>
CATEGORIES:Pop,Rock
LOCATION:The Hall
GEO:47.396025;8.597894
ORGANIZER;CN="JHG Shark":MAILTO:webmaster@jhgshark.ch
URL;VALUE=URI:https://artnoir.ch/events/event/brandi-carlile-2026-10-24/
ATTACH;FMTTYPE=image/jpeg:https://artnoir.ch/wp-content/uploads/2026/03/brandi-carlile-2026-10-24.jpg
END:VEVENT
BEGIN:VTIMEZONE
TZID:Europe/Zurich
BEGIN:DAYLIGHT
TZOFFSETFROM:+0100
TZOFFSETTO:+0200
DTSTART:20260329T010000
TZNAME:CEST
END:DAYLIGHT
END:VTIMEZONE
END:VCALENDAR
