BEGIN:VCALENDAR
VERSION:2.0
PRODID:-//ARTNOIR//NONSGML Events//EN
CALSCALE:GREGORIAN
X-ORIGINAL-URL:https://artnoir.ch/events/event/
X-WR-CALDESC:ARTNOIR - Events
BEGIN:VEVENT
UID:20260403T1005Z-1775210723.6302-EO-262208-1@10.0.9.48
STATUS:CONFIRMED
DTSTAMP:20260424T011033Z
CREATED:20260326T174535Z
LAST-MODIFIED:20260326T174535Z
DTSTART;TZID=Europe/Zurich:20261008T190000
DTEND;TZID=Europe/Zurich:20261008T223000
SUMMARY: Blood Red Shoes
DESCRIPTION: Blood Red Shoes ... [Read more...]
X-ALT-DESC;FMTTYPE=text/html: <p><a href="https://merch.bloodredshoes.co.uk
 /" rel="noopener" target="_blank">Blood Red Shoes</a></p>
CATEGORIES:Rock
LOCATION:Plaza
GEO:47.374167;8.524726
ORGANIZER;CN="JHG Shark":MAILTO:webmaster@jhgshark.ch
URL;VALUE=URI:https://artnoir.ch/events/event/blood-red-shoes-2026-10-08/
ATTACH;FMTTYPE=image/jpeg:https://artnoir.ch/wp-content/uploads/2026/03/blood-red-shoes-2026-10-08.jpg
END:VEVENT
BEGIN:VTIMEZONE
TZID:Europe/Zurich
BEGIN:DAYLIGHT
TZOFFSETFROM:+0100
TZOFFSETTO:+0200
DTSTART:20260329T010000
TZNAME:CEST
END:DAYLIGHT
END:VTIMEZONE
END:VCALENDAR
