BEGIN:VCALENDAR
VERSION:2.0
PRODID:-//ARTNOIR//NONSGML Events//EN
CALSCALE:GREGORIAN
X-ORIGINAL-URL:https://artnoir.ch/events/event/
X-WR-CALDESC:ARTNOIR - Events
BEGIN:VEVENT
UID:20260312T1516Z-1773328583.0036-EO-256331-1@10.0.9.48
STATUS:CONFIRMED
DTSTAMP:20260423T215307Z
CREATED:20251113T184319Z
LAST-MODIFIED:20260213T163701Z
DTSTART;TZID=Europe/Zurich:20260508T200000
DTEND;TZID=Europe/Zurich:20260508T230000
SUMMARY: Blond
DESCRIPTION: Blond\n+ sarah4k\nWer noch nie auf einem Blond-Konzert war\, h
 at nie gelebt. Irgendwann ist noch jede*r in einen Club oder auf ein Festiv
 al gestolpert und reingezogen worden in den unglaublichen Sog der Welt von 
 Lotta\, Johann und Nina – um beim nächsten Mal schon loud und proud im Glit
 zeroutfit reinzustolzieren.\nDenn bereits nach wenigen Minuten stellt man f
 est: Ein Konzert von Blond ist eine gottverdammte Messe. ... [Read more...]
X-ALT-DESC;FMTTYPE=text/html: <p><a href="https://blond-band.de/" rel="noop
 ener" target="_blank">Blond</a><br />+ <a href="https://www.instagram.com/s
 arah4k.wav/" rel="noopener" target="_blank">sarah4k</a></p><p>Wer noch nie 
 auf einem <strong>Blond</strong>-Konzert war\, hat nie gelebt. Irgendwann i
 st noch jede*r in einen Club oder auf ein Festival gestolpert und reingezog
 en worden in den unglaublichen Sog der Welt von Lotta\, Johann und Nina – u
 m beim nächsten Mal schon loud und proud im Glitzeroutfit reinzustolzieren.
 </p><p>Denn bereits nach wenigen Minuten stellt man fest: Ein Konzert von B
 lond ist eine gottverdammte Messe. Die dazu gehörenden Fangesänge hat man n
 ach anderthalb Runden drauf – und hört auch dann nicht auf\, sie anzustimme
 n\, wenn man längst von der Security rausgekehrt wird. Man seufzt süße Pops
 chnulzen mit\, während man in ferne Sphären abhebt\, man stampft mit dem Fu
 ß zu kämpferischen Hymnen und lässt sich erden. Blond-Songs sind mit angeme
 ssener Bitterkeit versehen\, haben aber auch immer umarmende Ironie für ein
 en parat\, die einen frohen Mutes und siegessicher aus der Messe entlässt.<
 /p><p><strong>sarah4k</strong> verbindet ihre Stimme mit Techno\, Ghetto-Te
 ch und Rap zu explosivem Clubsound und hat sich als eine der spannendsten S
 timmen der Szene etabliert. Mit ihren Clubhymnen vom Wavybaby Mixtape und e
 nergiegeladenen Live-Shows zwischen Austeilen\, Ausrasten und sich selbst s
 püren zieht sie Publikum auf jeder Bühne in ihren Bann.</p>
CATEGORIES:Electro,Pop
LOCATION:Dachstock
GEO:46.953177;7.440255
ORGANIZER;CN="JHG Shark":MAILTO:webmaster@jhgshark.ch
URL;VALUE=URI:https://artnoir.ch/events/event/blond-2026-05-08/
ATTACH;FMTTYPE=image/jpeg:https://artnoir.ch/wp-content/uploads/2025/11/blond-2026-05-08.jpg
END:VEVENT
BEGIN:VTIMEZONE
TZID:Europe/Zurich
BEGIN:DAYLIGHT
TZOFFSETFROM:+0100
TZOFFSETTO:+0200
DTSTART:20260329T010000
TZNAME:CEST
END:DAYLIGHT
END:VTIMEZONE
END:VCALENDAR
