BEGIN:VCALENDAR
VERSION:2.0
PRODID:-//ARTNOIR//NONSGML Events//EN
CALSCALE:GREGORIAN
X-ORIGINAL-URL:https://artnoir.ch/events/event/
X-WR-CALDESC:ARTNOIR - Events
BEGIN:VEVENT
UID:20260301T1902Z-1772391743.4115-EO-260921-1@10.0.9.48
STATUS:CONFIRMED
DTSTAMP:20260423T234337Z
CREATED:20260227T123834Z
LAST-MODIFIED:20260306T132926Z
DTSTART;TZID=Europe/Zurich:20260604T190000
DTEND;TZID=Europe/Zurich:20260604T235900
SUMMARY: Blind Delon
DESCRIPTION: Blind Delon\n+ Blanche Biau\n+ DJ Bananafishbones\nDer explosi
 ve Sound vom Blind Delon bringt New Wave mit Post-Rock zusammen und klingt 
 dabei ein wenig wie der Soundtrack zu einer Raumschiff-Mission in einer wei
 t entfernten Galaxis. Jetzt bringt die Band aus Toulouse das aktuelle Album
  «BLAST» nach Zürich und taucht das EXIL in ein Meer aus dunklen Gitarren. 
 Präsentiert wird der Abend von Dark Disco\, inklusive schummrigem Set von D
 J Bananafishbones. ... [Read more...]
X-ALT-DESC;FMTTYPE=text/html: <p><a href="https://www.instagram.com/blindel
 on/" rel="noopener" target="_blank">Blind Delon</a><br />+ <a href="https:/
 /www.instagram.com/blanchebiau/" rel="noopener" target="_blank">Blanche Bia
 u</a><br />+ DJ Bananafishbones</p><p>Der explosive Sound vom Blind Delon b
 ringt New Wave mit Post-Rock zusammen und klingt dabei ein wenig wie der So
 undtrack zu einer Raumschiff-Mission in einer weit entfernten Galaxis. Jetz
 t bringt die Band aus Toulouse das aktuelle Album «BLAST» nach Zürich und t
 aucht das EXIL in ein Meer aus dunklen Gitarren. Präsentiert wird der Abend
  von Dark Disco\, inklusive schummrigem Set von DJ Bananafishbones.</p>
CATEGORIES:Wave
LOCATION:Exil
GEO:47.388231;8.519562
ORGANIZER;CN="Nicole Wild":MAILTO:nic.wild@yahoo.com
URL;VALUE=URI:https://artnoir.ch/events/event/blind-delon-2026-06-04/
ATTACH;FMTTYPE=image/jpeg:https://artnoir.ch/wp-content/uploads/2026/02/blind-delon-2026-06-04.jpg
END:VEVENT
BEGIN:VTIMEZONE
TZID:Europe/Zurich
BEGIN:DAYLIGHT
TZOFFSETFROM:+0100
TZOFFSETTO:+0200
DTSTART:20260329T010000
TZNAME:CEST
END:DAYLIGHT
END:VTIMEZONE
END:VCALENDAR
