BEGIN:VCALENDAR
VERSION:2.0
PRODID:-//ARTNOIR//NONSGML Events//EN
CALSCALE:GREGORIAN
X-ORIGINAL-URL:https://artnoir.ch/events/event/
X-WR-CALDESC:ARTNOIR - Events
BEGIN:VEVENT
UID:20260415T2044Z-1776285863.9108-EO-263149-1@10.0.9.48
STATUS:CONFIRMED
DTSTAMP:20260423T231848Z
CREATED:20260415T170150Z
LAST-MODIFIED:20260415T170437Z
DTSTART;TZID=Europe/Zurich:20260607T163000
DTEND;TZID=Europe/Zurich:20260607T200000
SUMMARY: Blanche Biau
DESCRIPTION: Blanche Biau\nBLANCHE BIAU\nLa dreampop délicate de BLANCHE BI
 AU est passée en un clin d’œil (ou presque) de « bedroom project » de sa ch
 ambre zurichoise à une aura enviable en dehors des frontières suisses\, ave
 c un album sur le label Young & Cold (Sixth June\, Rue Oberkampf…). La faut
 e à une voix envoûtante -qui chante en trois langues-\, perchée sur une pop
  mélancolique truffée de réminiscences cold wave 80s et de shoegaze 90s \; 
 ... [Read more...]
X-ALT-DESC;FMTTYPE=text/html: <p><a href="https://www.instagram.com/blanche
 biau/" rel="noopener" target="_blank">Blanche Biau</a></p><p><strong>BLANCH
 E BIAU</strong><br />La dreampop délicate de BLANCHE BIAU est passée en un 
 clin d’œil (ou presque) de « bedroom project » de sa chambre zurichoise à u
 ne aura enviable en dehors des frontières suisses\, avec un album sur le la
 bel Young & Cold (Sixth June\, Rue Oberkampf…). La faute à une voix envoûta
 nte -qui chante en trois langues-\, perchée sur une pop mélancolique truffé
 e de réminiscences cold wave 80s et de shoegaze 90s \; l’héritage des Cocte
 au Twins point ici et là\, les adeptes de Chelsea Wolfe comme de Beach Hous
 e seront comblé.e.s.</p><p><strong>La Cave communale de La Tour-de-Peilz</s
 trong><br />Cachés à l’est de Lavaux\, les vignobles de la Tour-de-Peilz ne
  sont pas en reste : 30’000 m2 enracinés dans la marne rouge des hauteurs d
 u village\, qui produisent les traditionnels Gamay\, Pinot Noir et Chassela
 s (primé au mondial 2024)\, ainsi que Sauvignon Blanc et Divico\, entre aut
 res. Tous ces jolis crus sont chaperonnés par la Cave Montreux Riviera\, qu
 i enverra son/sa meilleur œnologue pour la dégustation !</p><p><strong>Doma
 ine de la Doges</strong><br />La Doges (avec un S\, si\, si) est une somptu
 euse maison de maître du XVIIe perchée au sommet de la Tour-de-Peilz\, avec
  un jardin monumental et une vue qui a peu à envier au Lavaux. Transformée 
 au début du siècle\, elle héberge depuis la section vaudoise de Patrimoine 
 Suisse\, et la cave officielle de la Tour-de-Peilz – sans parler de la magn
 ifique grange\, qui hébergera le concert en cas de météo hostile.</p><p>Con
 cert dans le jardin ou la grange selon la météo / « Portes » 16h30 / Dégust
 ation (pour les billets spéciaux « Dégust' ») de 16h à 17h / Bar à vins et 
 planchettes / Concert 18h\, fin vers 20h.</p>
CATEGORIES:Pop,Rock,Wave
LOCATION:Domaines de la Doges
GEO:46.456399;6.874388
ORGANIZER;CN="JHG Shark":MAILTO:webmaster@jhgshark.ch
URL;VALUE=URI:https://artnoir.ch/events/event/blanche-biau-2026-06-07/
ATTACH;FMTTYPE=image/jpeg:https://artnoir.ch/wp-content/uploads/2026/04/blanche-biau-2026-06-07.jpg
END:VEVENT
BEGIN:VTIMEZONE
TZID:Europe/Zurich
BEGIN:DAYLIGHT
TZOFFSETFROM:+0100
TZOFFSETTO:+0200
DTSTART:20260329T010000
TZNAME:CEST
END:DAYLIGHT
END:VTIMEZONE
END:VCALENDAR
