BEGIN:VCALENDAR
VERSION:2.0
PRODID:-//ARTNOIR//NONSGML Events//EN
CALSCALE:GREGORIAN
X-ORIGINAL-URL:https://artnoir.ch/events/event/
X-WR-CALDESC:ARTNOIR - Events
BEGIN:VEVENT
UID:20260403T0929Z-1775208575.8034-EO-262213-1@10.0.9.48
STATUS:CONFIRMED
DTSTAMP:20260424T030015Z
CREATED:20260324T194055Z
LAST-MODIFIED:20260324T194438Z
DTSTART;TZID=Europe/Zurich:20260920T183000
DTEND;TZID=Europe/Zurich:20260920T230000
SUMMARY: Black Stone Cherry
DESCRIPTION: Black Stone Cherry\n+ 10 Years\nZum allerersten Mal erzittert 
 die Mühlebühne 2026 unter dem unverkennbaren Sound der US-Rocker Black Ston
 e Cherry. Und eines ist sicher\, das wird eine einmalige Mühle-Premiere\, d
 ie man erleben muss!\nSeit ihrer Gründung 2001 in Edmonton\, Kentucky\, hab
 en sich die vier Musiker mit ihrer explosiven Mischung aus Southern Rock\, 
 Hard Rock und Blues weltweit einen Platz in der Rock-Oberliga erspielt. Die
  packende Energie und die unverkennbare musikalische Handschrift haben Blac
 k Stone Cherry zu einer der beständigsten und spannendsten Modern-Rock-Band
 s unserer Zeit gemacht. ... [Read more...]
X-ALT-DESC;FMTTYPE=text/html: <p><a href="https://www.blackstonecherry.com/
 " rel="noopener" target="_blank">Black Stone Cherry</a><br />+ <a href="htt
 ps://www.10yearsmusic.com/" rel="noopener" target="_blank">10 Years</a></p>
 <p>Zum allerersten Mal erzittert die Mühlebühne 2026 unter dem unverkennbar
 en Sound der US-Rocker Black Stone Cherry. Und eines ist sicher\, das wird 
 eine einmalige Mühle-Premiere\, die man erleben muss!</p><p>Seit ihrer Grün
 dung 2001 in Edmonton\, Kentucky\, haben sich die vier Musiker mit ihrer ex
 plosiven Mischung aus Southern Rock\, Hard Rock und Blues weltweit einen Pl
 atz in der Rock-Oberliga erspielt. Die packende Energie und die unverkennba
 re musikalische Handschrift haben Black Stone Cherry zu einer der beständig
 sten und spannendsten Modern-Rock-Bands unserer Zeit gemacht.</p><p>Vom sel
 bstbetitelten Debütalbum über Folklore and Superstition\, das sie an die Sp
 itze der UK-Rockcharts katapultierte\, bis hin zu ihren gefeierten Erfolgsa
 lben Between the Devil & the Deep Blue Sea und Magic Mountain: Black Stone 
 Cherry haben sich kontinuierlich weiterentwickelt und sind gleichzeitig ihr
 e Southern-Wurzeln immer treugeblieben.</p><p>Die Truppe verspricht bei der
  exklusiven Schweizer Show in der Mühle einen Abend der Extraklasse\, irgen
 dwo zwischen drückender Wucht und purer Live-Ekstase\, olé!</p>
CATEGORIES:Rock
LOCATION:Mühle Hunziken
GEO:46.891205;7.541725
ORGANIZER;CN="JHG Shark":MAILTO:webmaster@jhgshark.ch
URL;VALUE=URI:https://artnoir.ch/events/event/black-stone-cherry-2026-09-20
 /
ATTACH;FMTTYPE=image/jpeg:https://artnoir.ch/wp-content/uploads/2026/03/black-stone-cherry-2026-09-20.jpg
END:VEVENT
BEGIN:VTIMEZONE
TZID:Europe/Zurich
BEGIN:DAYLIGHT
TZOFFSETFROM:+0100
TZOFFSETTO:+0200
DTSTART:20260329T010000
TZNAME:CEST
END:DAYLIGHT
END:VTIMEZONE
END:VCALENDAR
