BEGIN:VCALENDAR
VERSION:2.0
PRODID:-//ARTNOIR//NONSGML Events//EN
CALSCALE:GREGORIAN
X-ORIGINAL-URL:https://artnoir.ch/events/event/
X-WR-CALDESC:ARTNOIR - Events
BEGIN:VEVENT
UID:20260410T1946Z-1775850383.7023-EO-262869-1@10.0.9.48
STATUS:CONFIRMED
DTSTAMP:20260423T231848Z
CREATED:20260408T171802Z
LAST-MODIFIED:20260408T172300Z
DTSTART;TZID=Europe/Zurich:20270313T193000
DTEND;TZID=Europe/Zurich:20270313T230000
SUMMARY: Black Sea Dahu
DESCRIPTION: Black Sea Dahu\nEverything Tour\nBlack Sea Dahu zu hören ist w
 ie barfuss in einem Gewitter zu stehen – völlig ungeschützt\, aber zutiefst
  lebendig. Die Band um die Schweizer Sängerin und Songwriterin Janine Cathr
 ein hat sich eine eigene Welt erschaffen: ein Kollektiv\, eine Familie\, ei
 n Raum für radikale emotionale Ehrlichkeit. Mit ihrem aktuellen Album Every
 thing geht Black Sea Dahu tiefer als je zuvor – nicht indem sie sich neu er
 finden\, ... [Read more...]
X-ALT-DESC;FMTTYPE=text/html: <p><a href="https://blackseadahu.com/" rel="n
 oopener" target="_blank">Black Sea Dahu</a></p><p><strong>Everything Tour</
 strong></p><p>Black Sea Dahu zu hören ist wie barfuss in einem Gewitter zu 
 stehen – völlig ungeschützt\, aber zutiefst lebendig. Die Band um die Schwe
 izer Sängerin und Songwriterin Janine Cathrein hat sich eine eigene Welt er
 schaffen: ein Kollektiv\, eine Familie\, ein Raum für radikale emotionale E
 hrlichkeit. Mit ihrem aktuellen Album Everything geht Black Sea Dahu tiefer
  als je zuvor – nicht indem sie sich neu erfinden\, sondern indem sie noch 
 mehr von dem zeigen\, was immer schon da war: die Bereitschaft\, sich verwu
 ndbar zu machen\, Hoffnung\, Selbstreflexion\, Trauer und die starke Schönh
 eit\, all das gleichzeitig zu tragen.</p><p>Die neuen Songs entstanden aus 
 einer Welle der Trauer: dem Verlust von Janines Vater und dem Schwindel\, i
 n einer Welt zu leben\, die mit sich selbst ringt. Live entfaltet die Band 
 eine besondere Anziehung – ihre Konzerte\, europaweit ausverkauft\, werden 
 zu intensiven Momenten kollektiven Fühlens. 2026 kehren Black Sea Dahu mit 
 Everything auf Tour zurück – intensiv\, ehrlich und tief berührend.</p><p>Z
 wischen Indie-Folk\, Chamber Pop und Art Rock entzieht sich ihre Musik jede
 r Schublade. Sie will nicht beeindrucken – sie will verbinden\, tragen\, üb
 erleben. In einer dröhnenden Welt schenkt Black Sea Dahu etwas Seltenes: st
 ille Wahrhaftigkeit. [text: zvg]</p>
CATEGORIES:Pop
LOCATION:Kammgarn
GEO:47.694492;8.636424
ORGANIZER;CN="JHG Shark":MAILTO:webmaster@jhgshark.ch
URL;VALUE=URI:https://artnoir.ch/events/event/black-sea-dahu-2027-03-13/
ATTACH;FMTTYPE=image/jpeg:https://artnoir.ch/wp-content/uploads/2026/04/black-sea-dahu-2027-03-13.jpg
END:VEVENT
BEGIN:VTIMEZONE
TZID:Europe/Zurich
BEGIN:STANDARD
TZOFFSETFROM:+0200
TZOFFSETTO:+0100
DTSTART:20261025T010000
TZNAME:CET
END:STANDARD
END:VTIMEZONE
END:VCALENDAR
